BEGIN:VCALENDAR
VERSION:2.0
PRODID:-//HCCA - ECPv6.15.17.1//NONSGML v1.0//EN
CALSCALE:GREGORIAN
METHOD:PUBLISH
X-WR-CALNAME:HCCA
X-ORIGINAL-URL:https://hcca.net
X-WR-CALDESC:Events for HCCA
REFRESH-INTERVAL;VALUE=DURATION:PT1H
X-Robots-Tag:noindex
X-PUBLISHED-TTL:PT1H
BEGIN:VTIMEZONE
TZID:UTC
BEGIN:STANDARD
TZOFFSETFROM:+0000
TZOFFSETTO:+0000
TZNAME:UTC
DTSTART:20220101T000000
END:STANDARD
END:VTIMEZONE
BEGIN:VEVENT
DTSTART;TZID=UTC:20260310T080000
DTEND;TZID=UTC:20260310T170000
DTSTAMP:20260420T043741
CREATED:20251105T224948Z
LAST-MODIFIED:20251105T224948Z
UID:10000618-1773129600-1773162000@hcca.net
SUMMARY:New Member Breakfast
DESCRIPTION:
URL:https://hcca.net/event/new-member-breakfast-4/
LOCATION:Superior Paving
CATEGORIES:VA Construction Events Calendar
ORGANIZER;CN="Ashley Hutson":MAILTO:ashley@hcca.net
END:VEVENT
BEGIN:VEVENT
DTSTART;TZID=UTC:20250311T080000
DTEND;TZID=UTC:20250311T100000
DTSTAMP:20260420T043741
CREATED:20250207T171339Z
LAST-MODIFIED:20250207T171339Z
UID:10000404-1741680000-1741687200@hcca.net
SUMMARY:New Member Breakfast
DESCRIPTION:
URL:https://hcca.net/event/new-member-breakfast-3/
LOCATION:Superior Paving
CATEGORIES:VA Construction Events Calendar
END:VEVENT
BEGIN:VEVENT
DTSTART;TZID=UTC:20240326T080000
DTEND;TZID=UTC:20240326T100000
DTSTAMP:20260420T043741
CREATED:20231201T000144Z
LAST-MODIFIED:20240318T173650Z
UID:10000390-1711440000-1711447200@hcca.net
SUMMARY:New Member Breakfast
DESCRIPTION:All Companies who joined HCCA in the past 8 months will be invited to participate in the New Member Breakfast. Attendees will meet the HCCA Board of Directors and Committee Chairs while learning about the programs HCCA offers. \nPLEASE EMAIL RSVP TO DEBORA HARVEY – DHARVEY@HCCA.NET
URL:https://hcca.net/event/new-member-breakfast-2/
LOCATION:Superior Paving
CATEGORIES:VA Construction Events Calendar
ORGANIZER;CN="Ashley Hutson":MAILTO:ashley@hcca.net
END:VEVENT
BEGIN:VEVENT
DTSTART;TZID=UTC:20230203T080000
DTEND;TZID=UTC:20230203T163000
DTSTAMP:20260420T043741
CREATED:20221207T212947Z
LAST-MODIFIED:20221207T213209Z
UID:10000203-1675411200-1675441800@hcca.net
SUMMARY:FORKLIFT - THIS CLASS IS FULL
DESCRIPTION:
URL:https://hcca.net/event/forklift-this-class-is-full-2/
LOCATION:Superior Paving
CATEGORIES:VA Construction Safety Training Calendar
END:VEVENT
END:VCALENDAR