BEGIN:VCALENDAR
VERSION:2.0
PRODID:-//HCCA - ECPv6.15.17.1//NONSGML v1.0//EN
CALSCALE:GREGORIAN
METHOD:PUBLISH
X-WR-CALNAME:HCCA
X-ORIGINAL-URL:https://hcca.net
X-WR-CALDESC:Events for HCCA
REFRESH-INTERVAL;VALUE=DURATION:PT1H
X-Robots-Tag:noindex
X-PUBLISHED-TTL:PT1H
BEGIN:VTIMEZONE
TZID:UTC
BEGIN:STANDARD
TZOFFSETFROM:+0000
TZOFFSETTO:+0000
TZNAME:UTC
DTSTART:20220101T000000
END:STANDARD
END:VTIMEZONE
BEGIN:VEVENT
DTSTART;TZID=UTC:20230327T080000
DTEND;TZID=UTC:20230327T120000
DTSTAMP:20260421T145001
CREATED:20230120T231839Z
LAST-MODIFIED:20230120T231839Z
UID:10000269-1679904000-1679918400@hcca.net
SUMMARY:Excavation & Trench Safety SPANISH
DESCRIPTION:Register
URL:https://hcca.net/event/excavation-trench-safety-spanish/
LOCATION:HCCA\, 9251 Industrial Ct\, Suite 201\, Manassas\, VA\, 20109\, United States
CATEGORIES:VA Construction Safety Training Calendar
END:VEVENT
BEGIN:VEVENT
DTSTART;TZID=UTC:20230323T080000
DTEND;TZID=UTC:20230324T163000
DTSTAMP:20260421T145001
CREATED:20221207T203624Z
LAST-MODIFIED:20230322T230119Z
UID:10000082-1679558400-1679675400@hcca.net
SUMMARY:VDOT INTERMEDIATE WORK ZONE - IN PERSON - registration closed (call to register)
DESCRIPTION:
URL:https://hcca.net/event/vdot-intermediate-work-zone-in-person-4/
LOCATION:HCCA\, 9251 Industrial Ct\, Suite 201\, Manassas\, VA\, 20109\, United States
CATEGORIES:VA Construction Safety Training Calendar
END:VEVENT
BEGIN:VEVENT
DTSTART;TZID=UTC:20230321T080000
DTEND;TZID=UTC:20230322T120000
DTSTAMP:20260421T145001
CREATED:20230120T231332Z
LAST-MODIFIED:20230120T231332Z
UID:10000267-1679385600-1679486400@hcca.net
SUMMARY:OSHA 10
DESCRIPTION:FULL
URL:https://hcca.net/event/osha-10-5/
LOCATION:HCCA\, 9251 Industrial Ct\, Suite 201\, Manassas\, VA\, 20109\, United States
CATEGORIES:VA Construction Safety Training Calendar
END:VEVENT
BEGIN:VEVENT
DTSTART;TZID=UTC:20230321T080000
DTEND;TZID=UTC:20230321T120000
DTSTAMP:20260421T145001
CREATED:20221217T011932Z
LAST-MODIFIED:20230110T190317Z
UID:10000265-1679385600-1679400000@hcca.net
SUMMARY:Construction Leadership 5 - Budget
DESCRIPTION:Instructor: TBA \nOverview: \n\nScope Cost: Labor\, Equipment\, Materials\nProduction VS. Time Constraint\nTimesheets\nIdentifying Hazardous Conditions\n\nRegister\nClick for PDF
URL:https://hcca.net/event/construction-leadership-5-budget/
LOCATION:HCCA\, 9251 Industrial Ct\, Suite 201\, Manassas\, VA\, 20109\, United States
CATEGORIES:VA Construction Events Calendar,VA Construction Safety Training Calendar
END:VEVENT
BEGIN:VEVENT
DTSTART;TZID=UTC:20230320T080000
DTEND;TZID=UTC:20230320T150000
DTSTAMP:20260421T145001
CREATED:20221207T203436Z
LAST-MODIFIED:20230217T013705Z
UID:10000080-1679299200-1679324400@hcca.net
SUMMARY:VDOT ESCCC - IN PERSON
DESCRIPTION:Register \n 
URL:https://hcca.net/event/vdot-esccc-in-person-2/
LOCATION:HCCA\, 9251 Industrial Ct\, Suite 201\, Manassas\, VA\, 20109\, United States
CATEGORIES:VA Construction Safety Training Calendar
END:VEVENT
BEGIN:VEVENT
DTSTART;TZID=UTC:20230317T120000
DTEND;TZID=UTC:20230317T160000
DTSTAMP:20260421T145001
CREATED:20230120T232912Z
LAST-MODIFIED:20230120T232912Z
UID:10000275-1679054400-1679068800@hcca.net
SUMMARY:Excavation Safety
DESCRIPTION:Call for Pricing & Registration
URL:https://hcca.net/event/excavation-safety/
LOCATION:HCCA\, 9251 Industrial Ct\, Suite 201\, Manassas\, VA\, 20109\, United States
CATEGORIES:VA Construction Safety Training Calendar
END:VEVENT
BEGIN:VEVENT
DTSTART;TZID=UTC:20230316T080000
DTEND;TZID=UTC:20230316T170000
DTSTAMP:20260421T145001
CREATED:20230120T232333Z
LAST-MODIFIED:20230120T232333Z
UID:10000271-1678953600-1678986000@hcca.net
SUMMARY:Custom Training
DESCRIPTION:FULL
URL:https://hcca.net/event/custom-training/
LOCATION:HCCA\, 9251 Industrial Ct\, Suite 201\, Manassas\, VA\, 20109\, United States
CATEGORIES:VA Construction Safety Training Calendar
END:VEVENT
BEGIN:VEVENT
DTSTART;TZID=UTC:20230314T080000
DTEND;TZID=UTC:20230315T120000
DTSTAMP:20260421T145001
CREATED:20221207T202901Z
LAST-MODIFIED:20230120T224625Z
UID:10000078-1678780800-1678881600@hcca.net
SUMMARY:OSHA 10 - IN PERSON
DESCRIPTION:FULL
URL:https://hcca.net/event/osha-10-in-person/
LOCATION:HCCA\, 9251 Industrial Ct\, Suite 201\, Manassas\, VA\, 20109\, United States
CATEGORIES:VA Construction Safety Training Calendar
END:VEVENT
BEGIN:VEVENT
DTSTART;TZID=UTC:20230313T120000
DTEND;TZID=UTC:20230313T160000
DTSTAMP:20260421T145001
CREATED:20230120T225611Z
LAST-MODIFIED:20230120T225611Z
UID:10000146-1678708800-1678723200@hcca.net
SUMMARY:Basic Rigger - English
DESCRIPTION:Register
URL:https://hcca.net/event/basic-rigger-english/
LOCATION:HCCA\, 9251 Industrial Ct\, Suite 201\, Manassas\, VA\, 20109\, United States
CATEGORIES:VA Construction Safety Training Calendar
END:VEVENT
BEGIN:VEVENT
DTSTART;TZID=UTC:20230313T080000
DTEND;TZID=UTC:20230313T120000
DTSTAMP:20260421T145001
CREATED:20230120T225511Z
LAST-MODIFIED:20230120T225511Z
UID:10000144-1678694400-1678708800@hcca.net
SUMMARY:Basic Rigger - Spanish
DESCRIPTION:Register
URL:https://hcca.net/event/basic-rigger-spanish/
LOCATION:HCCA\, 9251 Industrial Ct\, Suite 201\, Manassas\, VA\, 20109\, United States
CATEGORIES:VA Construction Safety Training Calendar
END:VEVENT
BEGIN:VEVENT
DTSTART;TZID=UTC:20230309T080000
DTEND;TZID=UTC:20230309T120000
DTSTAMP:20260421T145001
CREATED:20221217T011828Z
LAST-MODIFIED:20230110T185816Z
UID:10000264-1678348800-1678363200@hcca.net
SUMMARY:Construction Leadership 4 - Building the Crew & Teamwork
DESCRIPTION:Instructor: Jose Bravo \nOverview: \n\nCrew Logic\nLeading a Team\nDealing with Conflict\nBuddy to Boss\n\nRegister\nClick for PDF
URL:https://hcca.net/event/construction-leadership-4-building-the-crew-teamwork/
LOCATION:HCCA\, 9251 Industrial Ct\, Suite 201\, Manassas\, VA\, 20109\, United States
CATEGORIES:VA Construction Events Calendar,VA Construction Safety Training Calendar
END:VEVENT
BEGIN:VEVENT
DTSTART;TZID=UTC:20230307T080000
DTEND;TZID=UTC:20230308T170000
DTSTAMP:20260421T145001
CREATED:20230120T224753Z
LAST-MODIFIED:20230120T224753Z
UID:10000142-1678176000-1678294800@hcca.net
SUMMARY:OSHA 10
DESCRIPTION:FULL
URL:https://hcca.net/event/osha-10-4/
LOCATION:HCCA\, 9251 Industrial Ct\, Suite 201\, Manassas\, VA\, 20109\, United States
CATEGORIES:VA Construction Safety Training Calendar
END:VEVENT
BEGIN:VEVENT
DTSTART;TZID=UTC:20230307T080000
DTEND;TZID=UTC:20230307T120000
DTSTAMP:20260421T145001
CREATED:20221217T011714Z
LAST-MODIFIED:20230110T185647Z
UID:10000263-1678176000-1678190400@hcca.net
SUMMARY:Construction Leadership 3 - Planning
DESCRIPTION:Instructor: Bill Potempa\, Terra Site Constructors \nOverview: \n\nWhy is planning important?\nOrganizational Awareness\nTimeline/Deliverables\nOrdering\n\nRegister\nClick for PDF
URL:https://hcca.net/event/construction-leadership-3-planning/
LOCATION:HCCA\, 9251 Industrial Ct\, Suite 201\, Manassas\, VA\, 20109\, United States
CATEGORIES:VA Construction Events Calendar,VA Construction Safety Training Calendar
END:VEVENT
BEGIN:VEVENT
DTSTART;TZID=UTC:20230302T080000
DTEND;TZID=UTC:20230302T120000
DTSTAMP:20260421T145001
CREATED:20221207T195353Z
LAST-MODIFIED:20230224T221833Z
UID:10000194-1677744000-1677758400@hcca.net
SUMMARY:FIRST AID/CPR/AED
DESCRIPTION:Register
URL:https://hcca.net/event/osha-10-spanish-in-person/
LOCATION:HCCA\, 9251 Industrial Ct\, Suite 201\, Manassas\, VA\, 20109\, United States
CATEGORIES:VA Construction Safety Training Calendar
END:VEVENT
BEGIN:VEVENT
DTSTART;TZID=UTC:20230301T080000
DTEND;TZID=UTC:20230301T120000
DTSTAMP:20260421T145001
CREATED:20221207T195655Z
LAST-MODIFIED:20230120T224440Z
UID:10000195-1677657600-1677672000@hcca.net
SUMMARY:FIRST AID/CPR/AED - IN PERSON
DESCRIPTION:FULL
URL:https://hcca.net/event/first-aid-cpr-aed-in-person-2/
LOCATION:HCCA\, 9251 Industrial Ct\, Suite 201\, Manassas\, VA\, 20109\, United States
CATEGORIES:VA Construction Safety Training Calendar
END:VEVENT
BEGIN:VEVENT
DTSTART;TZID=UTC:20230227T080000
DTEND;TZID=UTC:20230227T163000
DTSTAMP:20260421T145001
CREATED:20221207T194607Z
LAST-MODIFIED:20230217T004226Z
UID:10000193-1677484800-1677515400@hcca.net
SUMMARY:Private Training
DESCRIPTION:
URL:https://hcca.net/event/vdot-basic-work-zone-in-person/
LOCATION:HCCA\, 9251 Industrial Ct\, Suite 201\, Manassas\, VA\, 20109\, United States
CATEGORIES:VA Construction Safety Training Calendar
END:VEVENT
BEGIN:VEVENT
DTSTART;TZID=UTC:20230223T080000
DTEND;TZID=UTC:20230223T120000
DTSTAMP:20260421T145001
CREATED:20221217T011612Z
LAST-MODIFIED:20230110T185617Z
UID:10000262-1677139200-1677153600@hcca.net
SUMMARY:Construction Leadership 2 - Safety & Risk Mitigation + JHA
DESCRIPTION:Instructors: Garrett Greene\, Lane Construction & Robert Zarn\, Kelvic Construction \nOverview: \n\nOSHA/EPA Compliance\nJHA Planning\nJHA Delivery\nExceeding OSHA Minimums to ensure safety\n\nRegister\nClick for PDF
URL:https://hcca.net/event/construction-leadership-2-safety-risk-mitigation-jha/
LOCATION:HCCA\, 9251 Industrial Ct\, Suite 201\, Manassas\, VA\, 20109\, United States
CATEGORIES:VA Construction Events Calendar,VA Construction Safety Training Calendar
END:VEVENT
BEGIN:VEVENT
DTSTART;TZID=UTC:20230217T100000
DTEND;TZID=UTC:20230217T120000
DTSTAMP:20260421T145001
CREATED:20230120T232758Z
LAST-MODIFIED:20230120T232758Z
UID:10000273-1676628000-1676635200@hcca.net
SUMMARY:Hazard Communication
DESCRIPTION:Call for Pricing and Registration
URL:https://hcca.net/event/hazard-communication/
LOCATION:HCCA\, 9251 Industrial Ct\, Suite 201\, Manassas\, VA\, 20109\, United States
CATEGORIES:VA Construction Safety Training Calendar
END:VEVENT
BEGIN:VEVENT
DTSTART;TZID=UTC:20230216T080000
DTEND;TZID=UTC:20230217T163000
DTSTAMP:20260421T145001
CREATED:20221207T185220Z
LAST-MODIFIED:20230125T005645Z
UID:10000189-1676534400-1676651400@hcca.net
SUMMARY:VDOT INTERMEDIATE WORK ZONE - IN PERSON - CLASS FULL
DESCRIPTION:This class is full!
URL:https://hcca.net/event/vdot-intermediate-work-zone-in-person-2/
LOCATION:HCCA\, 9251 Industrial Ct\, Suite 201\, Manassas\, VA\, 20109\, United States
CATEGORIES:VA Construction Safety Training Calendar
END:VEVENT
BEGIN:VEVENT
DTSTART;TZID=UTC:20230215T080000
DTEND;TZID=UTC:20230215T150000
DTSTAMP:20260421T145001
CREATED:20221207T185647Z
LAST-MODIFIED:20230110T003132Z
UID:10000190-1676448000-1676473200@hcca.net
SUMMARY:VDOT ESCCC - IN PERSON
DESCRIPTION:Register
URL:https://hcca.net/event/vdot-esccc-in-person/
LOCATION:HCCA\, 9251 Industrial Ct\, Suite 201\, Manassas\, VA\, 20109\, United States
CATEGORIES:VA Construction Safety Training Calendar
END:VEVENT
BEGIN:VEVENT
DTSTART;TZID=UTC:20230214T080000
DTEND;TZID=UTC:20230214T120000
DTSTAMP:20260421T145001
CREATED:20221217T011457Z
LAST-MODIFIED:20230124T025317Z
UID:10000261-1676361600-1676376000@hcca.net
SUMMARY:Construction Leadership 1 - Communication
DESCRIPTION:Instructor: Derek McFarland\, Kelvic Construction \nOverview: \n\nTypes of Communication\nWho we communicate with?\nLanguage Variety / Barrier\nActive Listening\nEstablishing Expectations\n\nRegister\nClick for PDF
URL:https://hcca.net/event/construction-leadership-1-communication/
LOCATION:HCCA\, 9251 Industrial Ct\, Suite 201\, Manassas\, VA\, 20109\, United States
CATEGORIES:VA Construction Events Calendar,VA Construction Safety Training Calendar
END:VEVENT
BEGIN:VEVENT
DTSTART;TZID=UTC:20230213T080000
DTEND;TZID=UTC:20230213T170000
DTSTAMP:20260421T145001
CREATED:20220401T152735Z
LAST-MODIFIED:20221207T190021Z
UID:10000139-1676275200-1676307600@hcca.net
SUMMARY:VDOT WORK ZONE BASIC - IN PERSON
DESCRIPTION:Register
URL:https://hcca.net/event/vdot-work-zone-basic-virtual-online-class-8/
LOCATION:HCCA\, 9251 Industrial Ct\, Suite 201\, Manassas\, VA\, 20109\, United States
CATEGORIES:VA Construction Safety Training Calendar
END:VEVENT
BEGIN:VEVENT
DTSTART;TZID=UTC:20230209T080000
DTEND;TZID=UTC:20230210T163000
DTSTAMP:20260421T145001
CREATED:20221207T000910Z
LAST-MODIFIED:20230208T221627Z
UID:10000175-1675929600-1676046600@hcca.net
SUMMARY:VDOT INTERMEDIATE WORK ZONE - ONLINE
DESCRIPTION:This class requires you to pick up the materials at our office.
URL:https://hcca.net/event/vdot-intermediate-work-zone/
LOCATION:HCCA\, 9251 Industrial Ct\, Suite 201\, Manassas\, VA\, 20109\, United States
CATEGORIES:VA Construction Safety Training Calendar
END:VEVENT
BEGIN:VEVENT
DTSTART;TZID=UTC:20230208T080000
DTEND;TZID=UTC:20230208T150000
DTSTAMP:20260421T145001
CREATED:20221207T184932Z
LAST-MODIFIED:20221207T184932Z
UID:10000188-1675843200-1675868400@hcca.net
SUMMARY:VDOT ESCCC - ONLINE
DESCRIPTION:Register
URL:https://hcca.net/event/vdot-esccc-online/
LOCATION:HCCA\, 9251 Industrial Ct\, Suite 201\, Manassas\, VA\, 20109\, United States
CATEGORIES:VA Construction Safety Training Calendar
END:VEVENT
BEGIN:VEVENT
DTSTART;TZID=UTC:20230207T080000
DTEND;TZID=UTC:20230207T163000
DTSTAMP:20260421T145001
CREATED:20221207T183735Z
LAST-MODIFIED:20221207T183811Z
UID:10000187-1675756800-1675787400@hcca.net
SUMMARY:OSHA 30 - DAY 4
DESCRIPTION:
URL:https://hcca.net/event/osha-30-day-4/
LOCATION:HCCA\, 9251 Industrial Ct\, Suite 201\, Manassas\, VA\, 20109\, United States
CATEGORIES:VA Construction Safety Training Calendar
END:VEVENT
BEGIN:VEVENT
DTSTART;TZID=UTC:20230206T080000
DTEND;TZID=UTC:20230206T120000
DTSTAMP:20260421T145001
CREATED:20221207T183609Z
LAST-MODIFIED:20230105T005202Z
UID:10000186-1675670400-1675684800@hcca.net
SUMMARY:Custom Training for ACM
DESCRIPTION:
URL:https://hcca.net/event/first-aid-cpr-aed-9/
LOCATION:HCCA\, 9251 Industrial Ct\, Suite 201\, Manassas\, VA\, 20109\, United States
CATEGORIES:VA Construction Safety Training Calendar
END:VEVENT
BEGIN:VEVENT
DTSTART;TZID=UTC:20230131T080000
DTEND;TZID=UTC:20230131T163000
DTSTAMP:20260421T145001
CREATED:20221207T182003Z
LAST-MODIFIED:20221207T182003Z
UID:10000185-1675152000-1675182600@hcca.net
SUMMARY:OSHA 30 - DAY 3
DESCRIPTION:
URL:https://hcca.net/event/osha-30-day-3/
LOCATION:HCCA\, 9251 Industrial Ct\, Suite 201\, Manassas\, VA\, 20109\, United States
CATEGORIES:VA Construction Safety Training Calendar
END:VEVENT
BEGIN:VEVENT
DTSTART;TZID=UTC:20230130T130000
DTEND;TZID=UTC:20230130T153000
DTSTAMP:20260421T145001
CREATED:20221205T211430Z
LAST-MODIFIED:20221207T190140Z
UID:10000171-1675083600-1675092600@hcca.net
SUMMARY:LOCK OUT / TAG OUT - IN PERSON
DESCRIPTION:REGISTER
URL:https://hcca.net/event/lock-out-tag-out-2/
LOCATION:HCCA\, 9251 Industrial Ct\, Suite 201\, Manassas\, VA\, 20109\, United States
CATEGORIES:VA Construction Safety Training Calendar
END:VEVENT
BEGIN:VEVENT
DTSTART;TZID=UTC:20230130T110000
DTEND;TZID=UTC:20230130T130000
DTSTAMP:20260421T145001
CREATED:20221205T211354Z
LAST-MODIFIED:20221207T190157Z
UID:10000169-1675076400-1675083600@hcca.net
SUMMARY:FALL PROTECTION - IN PERSON
DESCRIPTION:REGISTER
URL:https://hcca.net/event/fall-protection-4/
LOCATION:HCCA\, 9251 Industrial Ct\, Suite 201\, Manassas\, VA\, 20109\, United States
CATEGORIES:VA Construction Safety Training Calendar
END:VEVENT
BEGIN:VEVENT
DTSTART;TZID=UTC:20230130T080000
DTEND;TZID=UTC:20230130T110000
DTSTAMP:20260421T145001
CREATED:20221205T211221Z
LAST-MODIFIED:20221207T190207Z
UID:10000165-1675065600-1675076400@hcca.net
SUMMARY:CONFINED SPACE - IN PERSON
DESCRIPTION:REGISTER
URL:https://hcca.net/event/confined-space-6/
LOCATION:HCCA\, 9251 Industrial Ct\, Suite 201\, Manassas\, VA\, 20109\, United States
CATEGORIES:VA Construction Safety Training Calendar
END:VEVENT
END:VCALENDAR