BEGIN:VCALENDAR
VERSION:2.0
PRODID:-//HCCA - ECPv6.15.17.1//NONSGML v1.0//EN
CALSCALE:GREGORIAN
METHOD:PUBLISH
X-ORIGINAL-URL:https://hcca.net
X-WR-CALDESC:Events for HCCA
REFRESH-INTERVAL;VALUE=DURATION:PT1H
X-Robots-Tag:noindex
X-PUBLISHED-TTL:PT1H
BEGIN:VTIMEZONE
TZID:UTC
BEGIN:STANDARD
TZOFFSETFROM:+0000
TZOFFSETTO:+0000
TZNAME:UTC
DTSTART:20220101T000000
END:STANDARD
END:VTIMEZONE
BEGIN:VEVENT
DTSTART;TZID=UTC:20230710T080000
DTEND;TZID=UTC:20230710T163000
DTSTAMP:20260421T123728
CREATED:20221208T001801Z
LAST-MODIFIED:20221208T001801Z
UID:10000228-1688976000-1689006600@hcca.net
SUMMARY:VDOT BASIC WORK ZONE - IN PERSON
DESCRIPTION:Register
URL:https://hcca.net/event/vdot-basic-work-zone-in-person-4/
LOCATION:HCCA\, 9251 Industrial Ct\, Suite 201\, Manassas\, VA\, 20109\, United States
CATEGORIES:VA Construction Safety Training Calendar
END:VEVENT
BEGIN:VEVENT
DTSTART;TZID=UTC:20230706T080000
DTEND;TZID=UTC:20230707T163000
DTSTAMP:20260421T123728
CREATED:20221208T002119Z
LAST-MODIFIED:20230607T214039Z
UID:10000229-1688630400-1688747400@hcca.net
SUMMARY:VDOT INTERMEDIATE WORK ZONE - IN PERSON
DESCRIPTION:Register
URL:https://hcca.net/event/vdot-intermediate-work-zone-in-person-12/
LOCATION:HCCA\, 9251 Industrial Ct\, Suite 201\, Manassas\, VA\, 20109\, United States
CATEGORIES:VA Construction Safety Training Calendar
END:VEVENT
BEGIN:VEVENT
DTSTART;TZID=UTC:20230622T080000
DTEND;TZID=UTC:20230623T163000
DTSTAMP:20260421T123728
CREATED:20221207T234251Z
LAST-MODIFIED:20221207T234251Z
UID:10000224-1687420800-1687537800@hcca.net
SUMMARY:VDOT INTERMEDIATE WORK ZONE - IN PERSON
DESCRIPTION:Register
URL:https://hcca.net/event/vdot-intermediate-work-zone-in-person-11/
LOCATION:HCCA\, 9251 Industrial Ct\, Suite 201\, Manassas\, VA\, 20109\, United States
CATEGORIES:VA Construction Safety Training Calendar
END:VEVENT
BEGIN:VEVENT
DTSTART;TZID=UTC:20230619T080000
DTEND;TZID=UTC:20230619T163000
DTSTAMP:20260421T123728
CREATED:20221207T233101Z
LAST-MODIFIED:20221207T233144Z
UID:10000223-1687161600-1687192200@hcca.net
SUMMARY:VDOT BASIC WORK ZONE SPANISH "NO FLAGGER CERTIFICATION - IN PERSON
DESCRIPTION:Register
URL:https://hcca.net/event/vdot-basic-work-zone-spanish-no-flagger-certification-in-person-2/
LOCATION:HCCA\, 9251 Industrial Ct\, Suite 201\, Manassas\, VA\, 20109\, United States
CATEGORIES:VA Construction Safety Training Calendar
END:VEVENT
BEGIN:VEVENT
DTSTART;TZID=UTC:20230612T080000
DTEND;TZID=UTC:20230612T163000
DTSTAMP:20260421T123728
CREATED:20221207T231102Z
LAST-MODIFIED:20221207T231203Z
UID:10000221-1686556800-1686587400@hcca.net
SUMMARY:VDOT BASIC WORK ZONE - IN PRSON
DESCRIPTION:Register
URL:https://hcca.net/event/vdot-basic-work-zone-in-prson/
LOCATION:HCCA\, 9251 Industrial Ct\, Suite 201\, Manassas\, VA\, 20109\, United States
CATEGORIES:VA Construction Safety Training Calendar
END:VEVENT
BEGIN:VEVENT
DTSTART;TZID=UTC:20230608T080000
DTEND;TZID=UTC:20230609T163000
DTSTAMP:20260421T123728
CREATED:20221207T230907Z
LAST-MODIFIED:20221207T230907Z
UID:10000220-1686211200-1686328200@hcca.net
SUMMARY:VDOT INTERMEDIATE WORK ZONE - IN PERSON
DESCRIPTION:Register
URL:https://hcca.net/event/vdot-intermediate-work-zone-in-person-10/
LOCATION:HCCA\, 9251 Industrial Ct\, Suite 201\, Manassas\, VA\, 20109\, United States
CATEGORIES:VA Construction Safety Training Calendar
END:VEVENT
BEGIN:VEVENT
DTSTART;TZID=UTC:20230607T080000
DTEND;TZID=UTC:20230607T150000
DTSTAMP:20260421T123728
CREATED:20221207T230711Z
LAST-MODIFIED:20221207T230711Z
UID:10000219-1686124800-1686150000@hcca.net
SUMMARY:VDOT ESCCC - IN PERSON
DESCRIPTION:Register
URL:https://hcca.net/event/vdot-esccc-in-person-5/
LOCATION:HCCA\, 9251 Industrial Ct\, Suite 201\, Manassas\, VA\, 20109\, United States
CATEGORIES:VA Construction Safety Training Calendar
END:VEVENT
BEGIN:VEVENT
DTSTART;TZID=UTC:20230605T080000
DTEND;TZID=UTC:20230605T120000
DTSTAMP:20260421T123728
CREATED:20221207T230510Z
LAST-MODIFIED:20221207T230510Z
UID:10000218-1685952000-1685966400@hcca.net
SUMMARY:FIRST AID/CPR/AED - IN PERSON
DESCRIPTION:Register
URL:https://hcca.net/event/first-aid-cpr-aed-in-person-6/
LOCATION:HCCA\, 9251 Industrial Ct\, Suite 201\, Manassas\, VA\, 20109\, United States
CATEGORIES:VA Construction Safety Training Calendar
END:VEVENT
BEGIN:VEVENT
DTSTART;TZID=UTC:20230525T080000
DTEND;TZID=UTC:20230526T163000
DTSTAMP:20260421T123728
CREATED:20221207T214308Z
LAST-MODIFIED:20221207T214308Z
UID:10000209-1685001600-1685118600@hcca.net
SUMMARY:VDOT INTERMEDIATE WORK ZONE - IN PERSON
DESCRIPTION:Register
URL:https://hcca.net/event/vdot-intermediate-work-zone-in-person-9/
LOCATION:HCCA\, 9251 Industrial Ct\, Suite 201\, Manassas\, VA\, 20109\, United States
CATEGORIES:VA Construction Safety Training Calendar
END:VEVENT
BEGIN:VEVENT
DTSTART;TZID=UTC:20230524T080000
DTEND;TZID=UTC:20230524T150000
DTSTAMP:20260421T123728
CREATED:20221207T214115Z
LAST-MODIFIED:20221207T214115Z
UID:10000207-1684915200-1684940400@hcca.net
SUMMARY:VDOT ESCCC - IN PERSON
DESCRIPTION:Register
URL:https://hcca.net/event/vdot-esccc-in-person-4/
LOCATION:HCCA\, 9251 Industrial Ct\, Suite 201\, Manassas\, VA\, 20109\, United States
CATEGORIES:VA Construction Safety Training Calendar
END:VEVENT
BEGIN:VEVENT
DTSTART;TZID=UTC:20230522T080000
DTEND;TZID=UTC:20230522T163000
DTSTAMP:20260421T123728
CREATED:20221207T213907Z
LAST-MODIFIED:20221207T213907Z
UID:10000205-1684742400-1684773000@hcca.net
SUMMARY:VDOT BASIC WORK ZONE - IN PERSON
DESCRIPTION:Register
URL:https://hcca.net/event/vdot-basic-work-zone-in-person-3/
LOCATION:HCCA\, 9251 Industrial Ct\, Suite 201\, Manassas\, VA\, 20109\, United States
CATEGORIES:VA Construction Safety Training Calendar
END:VEVENT
BEGIN:VEVENT
DTSTART;TZID=UTC:20230518T080000
DTEND;TZID=UTC:20230519T163000
DTSTAMP:20260421T123728
CREATED:20221207T213444Z
LAST-MODIFIED:20221207T213444Z
UID:10000204-1684396800-1684513800@hcca.net
SUMMARY:VDOT INTERMEDIATE WORK ZONE - IN PERSON
DESCRIPTION:Register
URL:https://hcca.net/event/vdot-intermediate-work-zone-in-person-8/
LOCATION:HCCA\, 9251 Industrial Ct\, Suite 201\, Manassas\, VA\, 20109\, United States
CATEGORIES:VA Construction Safety Training Calendar
END:VEVENT
BEGIN:VEVENT
DTSTART;TZID=UTC:20230515T080000
DTEND;TZID=UTC:20230515T120000
DTSTAMP:20260421T123728
CREATED:20221207T212600Z
LAST-MODIFIED:20221207T212600Z
UID:10000201-1684137600-1684152000@hcca.net
SUMMARY:FIRST AID/CPR/AED - IN PERSON
DESCRIPTION:Register
URL:https://hcca.net/event/first-aid-cpr-aed-in-person-5/
LOCATION:HCCA\, 9251 Industrial Ct\, Suite 201\, Manassas\, VA\, 20109\, United States
CATEGORIES:VA Construction Safety Training Calendar
END:VEVENT
BEGIN:VEVENT
DTSTART;TZID=UTC:20230426T080000
DTEND;TZID=UTC:20230427T170000
DTSTAMP:20260421T123728
CREATED:20221207T211621Z
LAST-MODIFIED:20221207T211621Z
UID:10000200-1682496000-1682614800@hcca.net
SUMMARY:OSHA 10 SPANISH - IN PERSON
DESCRIPTION:Register
URL:https://hcca.net/event/osha-10-spanish-in-person-2/
LOCATION:HCCA\, 9251 Industrial Ct\, Suite 201\, Manassas\, VA\, 20109\, United States
CATEGORIES:VA Construction Safety Training Calendar
END:VEVENT
BEGIN:VEVENT
DTSTART;TZID=UTC:20230424T080000
DTEND;TZID=UTC:20230424T120000
DTSTAMP:20260421T123728
CREATED:20221207T210341Z
LAST-MODIFIED:20221207T210341Z
UID:10000199-1682323200-1682337600@hcca.net
SUMMARY:FIRST AID/CPR/AED - IN PERSON
DESCRIPTION:Register
URL:https://hcca.net/event/first-aid-cpr-aed-in-person-4/
LOCATION:HCCA\, 9251 Industrial Ct\, Suite 201\, Manassas\, VA\, 20109\, United States
CATEGORIES:VA Construction Safety Training Calendar
END:VEVENT
BEGIN:VEVENT
DTSTART;TZID=UTC:20230420T080000
DTEND;TZID=UTC:20230421T163000
DTSTAMP:20260421T123728
CREATED:20221207T210055Z
LAST-MODIFIED:20221207T210055Z
UID:10000198-1681977600-1682094600@hcca.net
SUMMARY:VDOT INTERMEDIATE WORK ZONE - IN PERSON
DESCRIPTION:Register
URL:https://hcca.net/event/vdot-intermediate-work-zone-in-person-7/
LOCATION:HCCA\, 9251 Industrial Ct\, Suite 201\, Manassas\, VA\, 20109\, United States
CATEGORIES:VA Construction Safety Training Calendar
END:VEVENT
BEGIN:VEVENT
DTSTART;TZID=UTC:20230419T080000
DTEND;TZID=UTC:20230419T150000
DTSTAMP:20260421T123728
CREATED:20221207T205902Z
LAST-MODIFIED:20221207T205902Z
UID:10000197-1681891200-1681916400@hcca.net
SUMMARY:VDOT ESCCC - IN PERSON
DESCRIPTION:Register
URL:https://hcca.net/event/vdot-esccc-in-person-3/
LOCATION:HCCA\, 9251 Industrial Ct\, Suite 201\, Manassas\, VA\, 20109\, United States
CATEGORIES:VA Construction Safety Training Calendar
END:VEVENT
BEGIN:VEVENT
DTSTART;TZID=UTC:20230417T080000
DTEND;TZID=UTC:20230417T163000
DTSTAMP:20260421T123728
CREATED:20221207T205702Z
LAST-MODIFIED:20221207T205702Z
UID:10000096-1681718400-1681749000@hcca.net
SUMMARY:VDOT BASIC WORK ZONE - SPANISH "NO FLAGGER CERTIFICATION" - IN PERSON
DESCRIPTION:Register
URL:https://hcca.net/event/vdot-basic-work-zone-spanish-no-flagger-certification-in-person/
LOCATION:HCCA\, 9251 Industrial Ct\, Suite 201\, Manassas\, VA\, 20109\, United States
CATEGORIES:VA Construction Safety Training Calendar
END:VEVENT
BEGIN:VEVENT
DTSTART;TZID=UTC:20230413T080000
DTEND;TZID=UTC:20230414T163000
DTSTAMP:20260421T123728
CREATED:20221207T205252Z
LAST-MODIFIED:20221207T205252Z
UID:10000094-1681372800-1681489800@hcca.net
SUMMARY:VDOT INTERMEDIATE WORK ZONE - IN PERSON
DESCRIPTION:Register
URL:https://hcca.net/event/vdot-intermediate-work-zone-in-person-6/
LOCATION:HCCA\, 9251 Industrial Ct\, Suite 201\, Manassas\, VA\, 20109\, United States
CATEGORIES:VA Construction Safety Training Calendar
END:VEVENT
BEGIN:VEVENT
DTSTART;TZID=UTC:20230410T080000
DTEND;TZID=UTC:20230410T163000
DTSTAMP:20260421T123728
CREATED:20221207T204915Z
LAST-MODIFIED:20230509T181657Z
UID:10000092-1681113600-1681144200@hcca.net
SUMMARY:VDOT BASIC WORK ZONE - IN PERSON - CLASS CLOSED
DESCRIPTION:
URL:https://hcca.net/event/vdot-basic-work-zone-in-person-2/
LOCATION:HCCA\, 9251 Industrial Ct\, Suite 201\, Manassas\, VA\, 20109\, United States
CATEGORIES:VA Construction Safety Training Calendar
END:VEVENT
BEGIN:VEVENT
DTSTART;TZID=UTC:20230403T080000
DTEND;TZID=UTC:20230403T120000
DTSTAMP:20260421T123728
CREATED:20221207T204254Z
LAST-MODIFIED:20230222T223514Z
UID:10000086-1680508800-1680523200@hcca.net
SUMMARY:Basic Rigger English
DESCRIPTION:Register
URL:https://hcca.net/event/first-aid-cpr-aed-in-person-3/
LOCATION:HCCA\, 9251 Industrial Ct\, Suite 201\, Manassas\, VA\, 20109\, United States
CATEGORIES:VA Construction Safety Training Calendar
END:VEVENT
BEGIN:VEVENT
DTSTART;TZID=UTC:20230330T080000
DTEND;TZID=UTC:20230331T163000
DTSTAMP:20260421T123728
CREATED:20221207T204044Z
LAST-MODIFIED:20221207T204044Z
UID:10000084-1680163200-1680280200@hcca.net
SUMMARY:VDOT INTERMEDIATE WORK ZONE - IN PERSON
DESCRIPTION:Register
URL:https://hcca.net/event/vdot-intermediate-work-zone-in-person-5/
LOCATION:HCCA\, 9251 Industrial Ct\, Suite 201\, Manassas\, VA\, 20109\, United States
CATEGORIES:VA Construction Safety Training Calendar
END:VEVENT
BEGIN:VEVENT
DTSTART;TZID=UTC:20230328T080000
DTEND;TZID=UTC:20230329T120000
DTSTAMP:20260421T123728
CREATED:20230120T231736Z
LAST-MODIFIED:20230120T231736Z
UID:10000268-1679990400-1680091200@hcca.net
SUMMARY:OSHA 10
DESCRIPTION:FULL
URL:https://hcca.net/event/osha-10-6/
LOCATION:HCCA\, 9251 Industrial Ct\, Suite 201\, Manassas\, VA\, 20109\, United States
CATEGORIES:VA Construction Safety Training Calendar
END:VEVENT
BEGIN:VEVENT
DTSTART;TZID=UTC:20230327T120000
DTEND;TZID=UTC:20230327T160000
DTSTAMP:20260421T123728
CREATED:20230120T231929Z
LAST-MODIFIED:20230120T231944Z
UID:10000270-1679918400-1679932800@hcca.net
SUMMARY:Excavation & Trench Safety - SPANISH
DESCRIPTION:Register
URL:https://hcca.net/event/excavation-trench-safety-spanish-2/
LOCATION:HCCA\, 9251 Industrial Ct\, Suite 201\, Manassas\, VA\, 20109\, United States
CATEGORIES:VA Construction Safety Training Calendar
END:VEVENT
BEGIN:VEVENT
DTSTART;TZID=UTC:20230327T080000
DTEND;TZID=UTC:20230327T120000
DTSTAMP:20260421T123728
CREATED:20230120T231839Z
LAST-MODIFIED:20230120T231839Z
UID:10000269-1679904000-1679918400@hcca.net
SUMMARY:Excavation & Trench Safety SPANISH
DESCRIPTION:Register
URL:https://hcca.net/event/excavation-trench-safety-spanish/
LOCATION:HCCA\, 9251 Industrial Ct\, Suite 201\, Manassas\, VA\, 20109\, United States
CATEGORIES:VA Construction Safety Training Calendar
END:VEVENT
BEGIN:VEVENT
DTSTART;TZID=UTC:20230323T080000
DTEND;TZID=UTC:20230324T163000
DTSTAMP:20260421T123728
CREATED:20221207T203624Z
LAST-MODIFIED:20230322T230119Z
UID:10000082-1679558400-1679675400@hcca.net
SUMMARY:VDOT INTERMEDIATE WORK ZONE - IN PERSON - registration closed (call to register)
DESCRIPTION:
URL:https://hcca.net/event/vdot-intermediate-work-zone-in-person-4/
LOCATION:HCCA\, 9251 Industrial Ct\, Suite 201\, Manassas\, VA\, 20109\, United States
CATEGORIES:VA Construction Safety Training Calendar
END:VEVENT
BEGIN:VEVENT
DTSTART;TZID=UTC:20230321T080000
DTEND;TZID=UTC:20230322T120000
DTSTAMP:20260421T123728
CREATED:20230120T231332Z
LAST-MODIFIED:20230120T231332Z
UID:10000267-1679385600-1679486400@hcca.net
SUMMARY:OSHA 10
DESCRIPTION:FULL
URL:https://hcca.net/event/osha-10-5/
LOCATION:HCCA\, 9251 Industrial Ct\, Suite 201\, Manassas\, VA\, 20109\, United States
CATEGORIES:VA Construction Safety Training Calendar
END:VEVENT
BEGIN:VEVENT
DTSTART;TZID=UTC:20230321T080000
DTEND;TZID=UTC:20230321T120000
DTSTAMP:20260421T123728
CREATED:20221217T011932Z
LAST-MODIFIED:20230110T190317Z
UID:10000265-1679385600-1679400000@hcca.net
SUMMARY:Construction Leadership 5 - Budget
DESCRIPTION:Instructor: TBA \nOverview: \n\nScope Cost: Labor\, Equipment\, Materials\nProduction VS. Time Constraint\nTimesheets\nIdentifying Hazardous Conditions\n\nRegister\nClick for PDF
URL:https://hcca.net/event/construction-leadership-5-budget/
LOCATION:HCCA\, 9251 Industrial Ct\, Suite 201\, Manassas\, VA\, 20109\, United States
CATEGORIES:VA Construction Events Calendar,VA Construction Safety Training Calendar
END:VEVENT
BEGIN:VEVENT
DTSTART;TZID=UTC:20230320T080000
DTEND;TZID=UTC:20230320T150000
DTSTAMP:20260421T123728
CREATED:20221207T203436Z
LAST-MODIFIED:20230217T013705Z
UID:10000080-1679299200-1679324400@hcca.net
SUMMARY:VDOT ESCCC - IN PERSON
DESCRIPTION:Register \n 
URL:https://hcca.net/event/vdot-esccc-in-person-2/
LOCATION:HCCA\, 9251 Industrial Ct\, Suite 201\, Manassas\, VA\, 20109\, United States
CATEGORIES:VA Construction Safety Training Calendar
END:VEVENT
BEGIN:VEVENT
DTSTART;TZID=UTC:20230317T120000
DTEND;TZID=UTC:20230317T160000
DTSTAMP:20260421T123728
CREATED:20230120T232912Z
LAST-MODIFIED:20230120T232912Z
UID:10000275-1679054400-1679068800@hcca.net
SUMMARY:Excavation Safety
DESCRIPTION:Call for Pricing & Registration
URL:https://hcca.net/event/excavation-safety/
LOCATION:HCCA\, 9251 Industrial Ct\, Suite 201\, Manassas\, VA\, 20109\, United States
CATEGORIES:VA Construction Safety Training Calendar
END:VEVENT
END:VCALENDAR