BEGIN:VCALENDAR
VERSION:2.0
PRODID:-//HCCA - ECPv6.15.17.1//NONSGML v1.0//EN
CALSCALE:GREGORIAN
METHOD:PUBLISH
X-WR-CALNAME:HCCA
X-ORIGINAL-URL:https://hcca.net
X-WR-CALDESC:Events for HCCA
REFRESH-INTERVAL;VALUE=DURATION:PT1H
X-Robots-Tag:noindex
X-PUBLISHED-TTL:PT1H
BEGIN:VTIMEZONE
TZID:America/New_York
BEGIN:DAYLIGHT
TZOFFSETFROM:-0500
TZOFFSETTO:-0400
TZNAME:EDT
DTSTART:20250309T070000
END:DAYLIGHT
BEGIN:STANDARD
TZOFFSETFROM:-0400
TZOFFSETTO:-0500
TZNAME:EST
DTSTART:20251102T060000
END:STANDARD
BEGIN:DAYLIGHT
TZOFFSETFROM:-0500
TZOFFSETTO:-0400
TZNAME:EDT
DTSTART:20260308T070000
END:DAYLIGHT
BEGIN:STANDARD
TZOFFSETFROM:-0400
TZOFFSETTO:-0500
TZNAME:EST
DTSTART:20261101T060000
END:STANDARD
BEGIN:DAYLIGHT
TZOFFSETFROM:-0500
TZOFFSETTO:-0400
TZNAME:EDT
DTSTART:20270314T070000
END:DAYLIGHT
BEGIN:STANDARD
TZOFFSETFROM:-0400
TZOFFSETTO:-0500
TZNAME:EST
DTSTART:20271107T060000
END:STANDARD
END:VTIMEZONE
BEGIN:VTIMEZONE
TZID:UTC
BEGIN:STANDARD
TZOFFSETFROM:+0000
TZOFFSETTO:+0000
TZNAME:UTC
DTSTART:20250101T000000
END:STANDARD
END:VTIMEZONE
BEGIN:VEVENT
DTSTART;TZID=America/New_York:20260721T080000
DTEND;TZID=America/New_York:20260721T170000
DTSTAMP:20260424T114344
CREATED:20251230T201204Z
LAST-MODIFIED:20260218T185727Z
UID:10000681-1784620800-1784653200@hcca.net
SUMMARY:VDOT Work Zone Basic in Spanish (In Person)
DESCRIPTION:Register
URL:https://hcca.net/event/vdot-work-zone-basic-in-spanish-in-person-5/
LOCATION:HCCA\, 9251 Industrial Ct\, Suite 201\, Manassas\, VA\, 20109\, United States
CATEGORIES:VA Construction Safety Training Calendar
END:VEVENT
BEGIN:VEVENT
DTSTART;TZID=UTC:20260722T080000
DTEND;TZID=UTC:20260722T170000
DTSTAMP:20260424T114344
CREATED:20260218T185949Z
LAST-MODIFIED:20260218T185949Z
UID:10000712-1784707200-1784739600@hcca.net
SUMMARY:VDOT Erosion & Sediment Control Contractors Certification Course for Qualified Personnel (In Person)
DESCRIPTION:Register
URL:https://hcca.net/event/vdot-erosion-sediment-control-contractors-certification-course-for-qualified-personnel-in-person-12/
LOCATION:ONLINE
CATEGORIES:VA Construction Safety Training Calendar
END:VEVENT
BEGIN:VEVENT
DTSTART;TZID=UTC:20260723T080000
DTEND;TZID=UTC:20260724T170000
DTSTAMP:20260424T114344
CREATED:20260218T190035Z
LAST-MODIFIED:20260218T190035Z
UID:10000713-1784793600-1784912400@hcca.net
SUMMARY:VDOT Work Zone Intermediate Traffic Control Training (In Person)
DESCRIPTION:Register
URL:https://hcca.net/event/vdot-work-zone-intermediate-traffic-control-training-in-person-30/
LOCATION:HCCA\, 9251 Industrial Ct\, Suite 201\, Manassas\, VA\, 20109\, United States
CATEGORIES:VA Construction Safety Training Calendar
END:VEVENT
BEGIN:VEVENT
DTSTART;TZID=UTC:20260727T080000
DTEND;TZID=UTC:20260727T170000
DTSTAMP:20260424T114344
CREATED:20251230T200355Z
LAST-MODIFIED:20260218T185650Z
UID:10000676-1785139200-1785171600@hcca.net
SUMMARY:VDOT Work Zone Basic (In Person)
DESCRIPTION:Register
URL:https://hcca.net/event/vdot-work-zone-basic-in-person-9/
LOCATION:HCCA\, 9251 Industrial Ct\, Suite 201\, Manassas\, VA\, 20109\, United States
CATEGORIES:VA Construction Safety Training Calendar
END:VEVENT
BEGIN:VEVENT
DTSTART;TZID=UTC:20260730T080000
DTEND;TZID=UTC:20260731T170000
DTSTAMP:20260424T114344
CREATED:20260218T185842Z
LAST-MODIFIED:20260218T185842Z
UID:10000711-1785398400-1785517200@hcca.net
SUMMARY:VDOT Work Zone Intermediate Traffic Control Training (Online)
DESCRIPTION:Register
URL:https://hcca.net/event/vdot-work-zone-intermediate-traffic-control-training-online-24/
LOCATION:ONLINE
CATEGORIES:VA Construction Safety Training Calendar
END:VEVENT
BEGIN:VEVENT
DTSTART;TZID=America/New_York:20260803T080000
DTEND;TZID=America/New_York:20260803T170000
DTSTAMP:20260424T114344
CREATED:20260218T190133Z
LAST-MODIFIED:20260218T190133Z
UID:10000714-1785744000-1785776400@hcca.net
SUMMARY:First Aid/CPR/AED (In Person)
DESCRIPTION:Register
URL:https://hcca.net/event/first-aid-cpr-aed-in-person-26/
LOCATION:HCCA\, 9251 Industrial Ct\, Suite 201\, Manassas\, VA\, 20109\, United States
CATEGORIES:VA Construction Safety Training Calendar
END:VEVENT
BEGIN:VEVENT
DTSTART;TZID=America/New_York:20260806T160000
DTEND;TZID=America/New_York:20260806T180000
DTSTAMP:20260424T114344
CREATED:20260226T161614Z
LAST-MODIFIED:20260226T161614Z
UID:10000748-1786032000-1786039200@hcca.net
SUMMARY:Heavy Equipment Operator Interviews
DESCRIPTION:FAUQUIER CAMPUS \nUp to 12 students will be completing the Heavy Equipment Operator Course at Laurel Ridge Community College. Be the first to interview and hire on their last day of class. \nInterviews will be held in 9 minute rotations so each company can meet each student. Maximum 8 companies. \nEMAIL EVENTS@HCCA.NET TO PARTICIPATE \nLearn more about the program here: https://laurelridgeworkforce.com/heavy-equipment-operator-fast-track-career-training-program/
URL:https://hcca.net/event/heavy-equipment-operator-interviews-12/
LOCATION:Laurel Ridge Community College – Fauquier\, 6480 College St\, Warrenton\, VA\, 20187\, United States
CATEGORIES:VA Construction Events Calendar
END:VEVENT
BEGIN:VEVENT
DTSTART;TZID=UTC:20260810T080000
DTEND;TZID=UTC:20260810T170000
DTSTAMP:20260424T114344
CREATED:20260218T190354Z
LAST-MODIFIED:20260218T190354Z
UID:10000717-1786348800-1786381200@hcca.net
SUMMARY:VDOT Work Zone Basic (In Person)
DESCRIPTION:Register
URL:https://hcca.net/event/vdot-work-zone-basic-in-person-10/
LOCATION:HCCA\, 9251 Industrial Ct\, Suite 201\, Manassas\, VA\, 20109\, United States
CATEGORIES:VA Construction Safety Training Calendar
END:VEVENT
BEGIN:VEVENT
DTSTART;TZID=UTC:20260812T080000
DTEND;TZID=UTC:20260812T170000
DTSTAMP:20260424T114344
CREATED:20260218T190510Z
LAST-MODIFIED:20260218T190510Z
UID:10000719-1786521600-1786554000@hcca.net
SUMMARY:VDOT Erosion & Sediment Control Contractors Certification Course for Qualified Personnel (Online)
DESCRIPTION:Register
URL:https://hcca.net/event/vdot-erosion-sediment-control-contractors-certification-course-for-qualified-personnel-online-14/
LOCATION:ONLINE
CATEGORIES:VA Construction Safety Training Calendar
END:VEVENT
BEGIN:VEVENT
DTSTART;TZID=UTC:20260813T080000
DTEND;TZID=UTC:20260814T170000
DTSTAMP:20260424T114344
CREATED:20260218T190321Z
LAST-MODIFIED:20260218T190321Z
UID:10000716-1786608000-1786726800@hcca.net
SUMMARY:VDOT Work Zone Intermediate Traffic Control Training (In Person)
DESCRIPTION:Register
URL:https://hcca.net/event/vdot-work-zone-intermediate-traffic-control-training-in-person-31/
LOCATION:HCCA\, 9251 Industrial Ct\, Suite 201\, Manassas\, VA\, 20109\, United States
CATEGORIES:VA Construction Safety Training Calendar
END:VEVENT
BEGIN:VEVENT
DTSTART;TZID=America/New_York:20260817T080000
DTEND;TZID=America/New_York:20260817T170000
DTSTAMP:20260424T114344
CREATED:20260218T190425Z
LAST-MODIFIED:20260218T190425Z
UID:10000718-1786953600-1786986000@hcca.net
SUMMARY:VDOT Work Zone Basic in Spanish (In Person)
DESCRIPTION:Register
URL:https://hcca.net/event/vdot-work-zone-basic-in-spanish-in-person-6/
LOCATION:HCCA\, 9251 Industrial Ct\, Suite 201\, Manassas\, VA\, 20109\, United States
CATEGORIES:VA Construction Safety Training Calendar
END:VEVENT
BEGIN:VEVENT
DTSTART;TZID=UTC:20260827T080000
DTEND;TZID=UTC:20260828T170000
DTSTAMP:20260424T114344
CREATED:20260218T190224Z
LAST-MODIFIED:20260218T190224Z
UID:10000715-1787817600-1787936400@hcca.net
SUMMARY:VDOT Work Zone Intermediate Traffic Control Training (Online)
DESCRIPTION:Register
URL:https://hcca.net/event/vdot-work-zone-intermediate-traffic-control-training-online-25/
LOCATION:ONLINE
CATEGORIES:VA Construction Safety Training Calendar
END:VEVENT
BEGIN:VEVENT
DTSTART;TZID=UTC:20260910T080000
DTEND;TZID=UTC:20260911T170000
DTSTAMP:20260424T114344
CREATED:20260218T191313Z
LAST-MODIFIED:20260218T191313Z
UID:10000726-1789027200-1789146000@hcca.net
SUMMARY:VDOT Work Zone Intermediate Traffic Control Training (In Person)
DESCRIPTION:Register
URL:https://hcca.net/event/vdot-work-zone-intermediate-traffic-control-training-in-person-32/
LOCATION:HCCA\, 9251 Industrial Ct\, Suite 201\, Manassas\, VA\, 20109\, United States
CATEGORIES:VA Construction Safety Training Calendar
END:VEVENT
BEGIN:VEVENT
DTSTART;TZID=UTC:20260911T080000
DTEND;TZID=UTC:20260911T153000
DTSTAMP:20260424T114344
CREATED:20251105T230847Z
LAST-MODIFIED:20251105T230847Z
UID:10000628-1789113600-1789140600@hcca.net
SUMMARY:Presidents Cup Golf Tournament
DESCRIPTION:
URL:https://hcca.net/event/presidents-cup-golf-tournament-5/
LOCATION:Twin Lakes Golf Course\, 6201 Union Mill Road Clifton\, VA\, VA\, United States
CATEGORIES:VA Construction Events Calendar
ORGANIZER;CN="Ashley Hutson":MAILTO:ashley@hcca.net
END:VEVENT
BEGIN:VEVENT
DTSTART;TZID=America/New_York:20260914T080000
DTEND;TZID=America/New_York:20260914T170000
DTSTAMP:20260424T114344
CREATED:20260218T190903Z
LAST-MODIFIED:20260218T190903Z
UID:10000720-1789372800-1789405200@hcca.net
SUMMARY:First Aid/CPR/AED (In Person)
DESCRIPTION:Register
URL:https://hcca.net/event/first-aid-cpr-aed-in-person-27/
LOCATION:HCCA\, 9251 Industrial Ct\, Suite 201\, Manassas\, VA\, 20109\, United States
CATEGORIES:VA Construction Safety Training Calendar
END:VEVENT
BEGIN:VEVENT
DTSTART;TZID=UTC:20260916T080000
DTEND;TZID=UTC:20260916T170000
DTSTAMP:20260424T114344
CREATED:20260218T191255Z
LAST-MODIFIED:20260218T191255Z
UID:10000722-1789545600-1789578000@hcca.net
SUMMARY:VDOT Erosion & Sediment Control Contractors Certification Course for Qualified Personnel (In Person)
DESCRIPTION:Register
URL:https://hcca.net/event/vdot-erosion-sediment-control-contractors-certification-course-for-qualified-personnel-in-person-13/
LOCATION:ONLINE
CATEGORIES:VA Construction Safety Training Calendar
END:VEVENT
BEGIN:VEVENT
DTSTART;TZID=UTC:20260921T080000
DTEND;TZID=UTC:20260921T170000
DTSTAMP:20260424T114344
CREATED:20260218T191133Z
LAST-MODIFIED:20260218T191133Z
UID:10000723-1789977600-1790010000@hcca.net
SUMMARY:VDOT Work Zone Basic (In Person)
DESCRIPTION:Register
URL:https://hcca.net/event/vdot-work-zone-basic-in-person-11/
LOCATION:HCCA\, 9251 Industrial Ct\, Suite 201\, Manassas\, VA\, 20109\, United States
CATEGORIES:VA Construction Safety Training Calendar
END:VEVENT
BEGIN:VEVENT
DTSTART;TZID=UTC:20260924T080000
DTEND;TZID=UTC:20260925T170000
DTSTAMP:20260424T114344
CREATED:20260218T191111Z
LAST-MODIFIED:20260218T191111Z
UID:10000724-1790236800-1790355600@hcca.net
SUMMARY:VDOT Work Zone Intermediate Traffic Control Training (Online)
DESCRIPTION:Register
URL:https://hcca.net/event/vdot-work-zone-intermediate-traffic-control-training-online-26/
LOCATION:ONLINE
CATEGORIES:VA Construction Safety Training Calendar
END:VEVENT
BEGIN:VEVENT
DTSTART;TZID=America/New_York:20260928T080000
DTEND;TZID=America/New_York:20260928T170000
DTSTAMP:20260424T114344
CREATED:20260218T191158Z
LAST-MODIFIED:20260218T191158Z
UID:10000721-1790582400-1790614800@hcca.net
SUMMARY:VDOT Work Zone Basic in Spanish (In Person)
DESCRIPTION:Register
URL:https://hcca.net/event/vdot-work-zone-basic-in-spanish-in-person-7/
LOCATION:HCCA\, 9251 Industrial Ct\, Suite 201\, Manassas\, VA\, 20109\, United States
CATEGORIES:VA Construction Safety Training Calendar
END:VEVENT
BEGIN:VEVENT
DTSTART;TZID=America/New_York:20261005T080000
DTEND;TZID=America/New_York:20261005T170000
DTSTAMP:20260424T114344
CREATED:20260218T191512Z
LAST-MODIFIED:20260218T191512Z
UID:10000728-1791187200-1791219600@hcca.net
SUMMARY:First Aid/CPR/AED (In Person)
DESCRIPTION:Register
URL:https://hcca.net/event/first-aid-cpr-aed-in-person-28/
LOCATION:HCCA\, 9251 Industrial Ct\, Suite 201\, Manassas\, VA\, 20109\, United States
CATEGORIES:VA Construction Safety Training Calendar
END:VEVENT
BEGIN:VEVENT
DTSTART;TZID=UTC:20261008T080000
DTEND;TZID=UTC:20261009T170000
DTSTAMP:20260424T114344
CREATED:20260218T191456Z
LAST-MODIFIED:20260218T191456Z
UID:10000727-1791446400-1791565200@hcca.net
SUMMARY:VDOT Work Zone Intermediate Traffic Control Training (In Person)
DESCRIPTION:Register
URL:https://hcca.net/event/vdot-work-zone-intermediate-traffic-control-training-in-person-33/
LOCATION:HCCA\, 9251 Industrial Ct\, Suite 201\, Manassas\, VA\, 20109\, United States
CATEGORIES:VA Construction Safety Training Calendar
END:VEVENT
BEGIN:VEVENT
DTSTART;TZID=UTC:20261012T080000
DTEND;TZID=UTC:20261012T170000
DTSTAMP:20260424T114344
CREATED:20260218T191532Z
LAST-MODIFIED:20260218T191532Z
UID:10000729-1791792000-1791824400@hcca.net
SUMMARY:VDOT Work Zone Basic (In Person)
DESCRIPTION:Register
URL:https://hcca.net/event/vdot-work-zone-basic-in-person-12/
LOCATION:HCCA\, 9251 Industrial Ct\, Suite 201\, Manassas\, VA\, 20109\, United States
CATEGORIES:VA Construction Safety Training Calendar
END:VEVENT
BEGIN:VEVENT
DTSTART;TZID=UTC:20261014T080000
DTEND;TZID=UTC:20261014T170000
DTSTAMP:20260424T114344
CREATED:20260218T191432Z
LAST-MODIFIED:20260218T191432Z
UID:10000732-1791964800-1791997200@hcca.net
SUMMARY:VDOT Erosion & Sediment Control Contractors Certification Course for Qualified Personnel (Online)
DESCRIPTION:Register
URL:https://hcca.net/event/vdot-erosion-sediment-control-contractors-certification-course-for-qualified-personnel-online-15/
LOCATION:ONLINE
CATEGORIES:VA Construction Safety Training Calendar
END:VEVENT
BEGIN:VEVENT
DTSTART;TZID=America/New_York:20261019T080000
DTEND;TZID=America/New_York:20261019T170000
DTSTAMP:20260424T114344
CREATED:20260218T191608Z
LAST-MODIFIED:20260218T191608Z
UID:10000731-1792396800-1792429200@hcca.net
SUMMARY:VDOT Work Zone Basic in Spanish (In Person)
DESCRIPTION:Register
URL:https://hcca.net/event/vdot-work-zone-basic-in-spanish-in-person-8/
LOCATION:HCCA\, 9251 Industrial Ct\, Suite 201\, Manassas\, VA\, 20109\, United States
CATEGORIES:VA Construction Safety Training Calendar
END:VEVENT
BEGIN:VEVENT
DTSTART;TZID=UTC:20261021T160000
DTEND;TZID=UTC:20261021T190000
DTSTAMP:20260424T114344
CREATED:20251105T230937Z
LAST-MODIFIED:20251105T230937Z
UID:10000629-1792598400-1792609200@hcca.net
SUMMARY:Networking Event
DESCRIPTION:More Details to come!
URL:https://hcca.net/event/networking-event-3/
CATEGORIES:VA Construction Events Calendar
END:VEVENT
BEGIN:VEVENT
DTSTART;TZID=UTC:20261022T080000
DTEND;TZID=UTC:20261023T170000
DTSTAMP:20260424T114344
CREATED:20260218T191547Z
LAST-MODIFIED:20260218T191547Z
UID:10000730-1792656000-1792774800@hcca.net
SUMMARY:VDOT Work Zone Intermediate Traffic Control Training (Online)
DESCRIPTION:Register
URL:https://hcca.net/event/vdot-work-zone-intermediate-traffic-control-training-online-27/
LOCATION:ONLINE
CATEGORIES:VA Construction Safety Training Calendar
END:VEVENT
BEGIN:VEVENT
DTSTART;TZID=UTC:20261027T080000
DTEND;TZID=UTC:20261027T130000
DTSTAMP:20260424T114344
CREATED:20251105T231016Z
LAST-MODIFIED:20251105T231016Z
UID:10000630-1793088000-1793106000@hcca.net
SUMMARY:Clay Shoot Tournament
DESCRIPTION:
URL:https://hcca.net/event/clay-shoot-tournament-3/
LOCATION:Bull Run Shooting Center\, 7700 Bull Run Dr\, Centreville\, VA\, 20121\, United States
CATEGORIES:VA Construction Events Calendar
END:VEVENT
BEGIN:VEVENT
DTSTART;TZID=America/New_York:20261109T080000
DTEND;TZID=America/New_York:20261109T170000
DTSTAMP:20260424T114344
CREATED:20260218T191932Z
LAST-MODIFIED:20260218T191932Z
UID:10000733-1794211200-1794243600@hcca.net
SUMMARY:First Aid/CPR/AED (In Person)
DESCRIPTION:Register
URL:https://hcca.net/event/first-aid-cpr-aed-in-person-29/
LOCATION:HCCA\, 9251 Industrial Ct\, Suite 201\, Manassas\, VA\, 20109\, United States
CATEGORIES:VA Construction Safety Training Calendar
END:VEVENT
BEGIN:VEVENT
DTSTART;TZID=UTC:20261111T080000
DTEND;TZID=UTC:20261111T170000
DTSTAMP:20260424T114344
CREATED:20260218T191803Z
LAST-MODIFIED:20260218T191803Z
UID:10000738-1794384000-1794416400@hcca.net
SUMMARY:VDOT Erosion & Sediment Control Contractors Certification Course for Qualified Personnel (In Person)
DESCRIPTION:Register
URL:https://hcca.net/event/vdot-erosion-sediment-control-contractors-certification-course-for-qualified-personnel-in-person-14/
LOCATION:ONLINE
CATEGORIES:VA Construction Safety Training Calendar
END:VEVENT
BEGIN:VEVENT
DTSTART;TZID=UTC:20261112T080000
DTEND;TZID=UTC:20261113T170000
DTSTAMP:20260424T114344
CREATED:20260218T191918Z
LAST-MODIFIED:20260218T191918Z
UID:10000734-1794470400-1794589200@hcca.net
SUMMARY:VDOT Work Zone Intermediate Traffic Control Training (In Person)
DESCRIPTION:Register
URL:https://hcca.net/event/vdot-work-zone-intermediate-traffic-control-training-in-person-34/
LOCATION:HCCA\, 9251 Industrial Ct\, Suite 201\, Manassas\, VA\, 20109\, United States
CATEGORIES:VA Construction Safety Training Calendar
END:VEVENT
END:VCALENDAR