BEGIN:VCALENDAR
VERSION:2.0
PRODID:-//HCCA - ECPv6.15.17.1//NONSGML v1.0//EN
CALSCALE:GREGORIAN
METHOD:PUBLISH
X-ORIGINAL-URL:https://hcca.net
X-WR-CALDESC:Events for HCCA
REFRESH-INTERVAL;VALUE=DURATION:PT1H
X-Robots-Tag:noindex
X-PUBLISHED-TTL:PT1H
BEGIN:VTIMEZONE
TZID:America/New_York
BEGIN:DAYLIGHT
TZOFFSETFROM:-0500
TZOFFSETTO:-0400
TZNAME:EDT
DTSTART:20250309T070000
END:DAYLIGHT
BEGIN:STANDARD
TZOFFSETFROM:-0400
TZOFFSETTO:-0500
TZNAME:EST
DTSTART:20251102T060000
END:STANDARD
BEGIN:DAYLIGHT
TZOFFSETFROM:-0500
TZOFFSETTO:-0400
TZNAME:EDT
DTSTART:20260308T070000
END:DAYLIGHT
BEGIN:STANDARD
TZOFFSETFROM:-0400
TZOFFSETTO:-0500
TZNAME:EST
DTSTART:20261101T060000
END:STANDARD
BEGIN:DAYLIGHT
TZOFFSETFROM:-0500
TZOFFSETTO:-0400
TZNAME:EDT
DTSTART:20270314T070000
END:DAYLIGHT
BEGIN:STANDARD
TZOFFSETFROM:-0400
TZOFFSETTO:-0500
TZNAME:EST
DTSTART:20271107T060000
END:STANDARD
END:VTIMEZONE
BEGIN:VTIMEZONE
TZID:UTC
BEGIN:STANDARD
TZOFFSETFROM:+0000
TZOFFSETTO:+0000
TZNAME:UTC
DTSTART:20250101T000000
END:STANDARD
END:VTIMEZONE
BEGIN:VEVENT
DTSTART;TZID=America/New_York:20260325T080000
DTEND;TZID=America/New_York:20260325T170000
DTSTAMP:20260424T112301
CREATED:20260218T183108Z
LAST-MODIFIED:20260218T183108Z
UID:10000706-1774425600-1774458000@hcca.net
SUMMARY:First Aid/CPR/AED in Spanish (In Person)
DESCRIPTION:Register
URL:https://hcca.net/event/first-aid-cpr-aed-in-spanish-in-person-5/
LOCATION:HCCA\, 9251 Industrial Ct\, Suite 201\, Manassas\, VA\, 20109\, United States
CATEGORIES:VA Construction Safety Training Calendar
END:VEVENT
BEGIN:VEVENT
DTSTART;TZID=America/New_York:20260325T120000
DTEND;TZID=America/New_York:20260325T160000
DTSTAMP:20260424T112301
CREATED:20260302T155936Z
LAST-MODIFIED:20260302T155936Z
UID:10000750-1774440000-1774454400@hcca.net
SUMMARY:Confined Space in Spanish (In Person)
DESCRIPTION:register
URL:https://hcca.net/event/confined-space-in-spanish-in-person/
LOCATION:HCCA\, 9251 Industrial Ct\, Suite 201\, Manassas\, VA\, 20109\, United States
CATEGORIES:VA Construction Safety Training Calendar
END:VEVENT
BEGIN:VEVENT
DTSTART;TZID=UTC:20260326T080000
DTEND;TZID=UTC:20260327T170000
DTSTAMP:20260424T112301
CREATED:20251230T202343Z
LAST-MODIFIED:20260324T171544Z
UID:10000693-1774512000-1774630800@hcca.net
SUMMARY:VDOT Work Zone Intermediate Traffic Control Training (Online) - Class is Full
DESCRIPTION:
URL:https://hcca.net/event/vdot-work-zone-intermediate-traffic-control-training-online-20/
LOCATION:ONLINE
CATEGORIES:VA Construction Safety Training Calendar
END:VEVENT
BEGIN:VEVENT
DTSTART;TZID=America/New_York:20260330T080000
DTEND;TZID=America/New_York:20260330T170000
DTSTAMP:20260424T112301
CREATED:20251230T200901Z
LAST-MODIFIED:20251230T200901Z
UID:10000677-1774857600-1774890000@hcca.net
SUMMARY:VDOT Work Zone Basic in Spanish (In Person)
DESCRIPTION:Register
URL:https://hcca.net/event/vdot-work-zone-basic-in-spanish-in-person/
LOCATION:HCCA\, 9251 Industrial Ct\, Suite 201\, Manassas\, VA\, 20109\, United States
CATEGORIES:VA Construction Safety Training Calendar
END:VEVENT
BEGIN:VEVENT
DTSTART;TZID=UTC:20260331T080000
DTEND;TZID=UTC:20260331T170000
DTSTAMP:20260424T112301
CREATED:20260312T174450Z
LAST-MODIFIED:20260312T174450Z
UID:10000751-1774944000-1774976400@hcca.net
SUMMARY:OSHA 30 in SPANISH Day 1 (In Person) - MUST ATTEND ALL 4 DAYS MARCH 31\, April 7\, April 14\, April 21
DESCRIPTION:register
URL:https://hcca.net/event/osha-30-in-spanish-day-1-in-person-must-attend-all-4-days-march-31-april-7-april-14-april-21/
LOCATION:HCCA\, 9251 Industrial Ct\, Suite 201\, Manassas\, VA\, 20109\, United States
CATEGORIES:VA Construction Safety Training Calendar
END:VEVENT
BEGIN:VEVENT
DTSTART;TZID=UTC:20260407T080000
DTEND;TZID=UTC:20260407T170000
DTSTAMP:20260424T112301
CREATED:20260312T174528Z
LAST-MODIFIED:20260312T174932Z
UID:10000752-1775548800-1775581200@hcca.net
SUMMARY:OSHA 30 in SPANISH Day 2 (In Person)
DESCRIPTION:
URL:https://hcca.net/event/osha-30-day-2-in-person-3/
LOCATION:HCCA\, 9251 Industrial Ct\, Suite 201\, Manassas\, VA\, 20109\, United States
CATEGORIES:VA Construction Safety Training Calendar
END:VEVENT
BEGIN:VEVENT
DTSTART;TZID=UTC:20260409T080000
DTEND;TZID=UTC:20260410T170000
DTSTAMP:20260424T112301
CREATED:20251230T202147Z
LAST-MODIFIED:20251230T202147Z
UID:10000690-1775721600-1775840400@hcca.net
SUMMARY:VDOT Work Zone Intermediate Traffic Control Training (In Person)
DESCRIPTION:Register
URL:https://hcca.net/event/vdot-work-zone-intermediate-traffic-control-training-in-person-27/
LOCATION:HCCA\, 9251 Industrial Ct\, Suite 201\, Manassas\, VA\, 20109\, United States
CATEGORIES:VA Construction Safety Training Calendar
END:VEVENT
BEGIN:VEVENT
DTSTART;TZID=UTC:20260413T080000
DTEND;TZID=UTC:20260413T170000
DTSTAMP:20260424T112301
CREATED:20251230T200203Z
LAST-MODIFIED:20251230T200545Z
UID:10000673-1776067200-1776099600@hcca.net
SUMMARY:VDOT Work Zone Basic (In Person)
DESCRIPTION:Register
URL:https://hcca.net/event/vdot-work-zone-basic-in-person-6/
LOCATION:HCCA\, 9251 Industrial Ct\, Suite 201\, Manassas\, VA\, 20109\, United States
CATEGORIES:VA Construction Safety Training Calendar
END:VEVENT
BEGIN:VEVENT
DTSTART;TZID=UTC:20260414T080000
DTEND;TZID=UTC:20260414T170000
DTSTAMP:20260424T112301
CREATED:20260312T174557Z
LAST-MODIFIED:20260312T174811Z
UID:10000753-1776153600-1776186000@hcca.net
SUMMARY:OSHA 30 in SPANISH Day 3 (In Person)
DESCRIPTION:
URL:https://hcca.net/event/osha-30-day-3-in-person-3/
LOCATION:HCCA\, 9251 Industrial Ct\, Suite 201\, Manassas\, VA\, 20109\, United States
CATEGORIES:VA Construction Safety Training Calendar
END:VEVENT
BEGIN:VEVENT
DTSTART;TZID=UTC:20260415T080000
DTEND;TZID=UTC:20260415T170000
DTSTAMP:20260424T112302
CREATED:20251230T201919Z
LAST-MODIFIED:20260408T122237Z
UID:10000687-1776240000-1776272400@hcca.net
SUMMARY:VDOT Erosion & Sediment Control Contractors Certification Course for Qualified Personnel (Online) - Call to Register
DESCRIPTION:
URL:https://hcca.net/event/vdot-erosion-sediment-control-contractors-certification-course-for-qualified-personnel-online-6/
LOCATION:ONLINE
CATEGORIES:VA Construction Safety Training Calendar
END:VEVENT
BEGIN:VEVENT
DTSTART;TZID=UTC:20260415T160000
DTEND;TZID=UTC:20260415T190000
DTSTAMP:20260424T112302
CREATED:20251105T225344Z
LAST-MODIFIED:20260415T141419Z
UID:10000620-1776268800-1776279600@hcca.net
SUMMARY:Safety & Infrastructure Awards Banquet
DESCRIPTION:Registration is closed.
URL:https://hcca.net/event/safety-infrastructure-awards-banquet-2/
LOCATION:Chantilly National Golf & Country Club\, 14901 Braddock Road Centreville\, VA 20120\, VA\, 20120\, United States
CATEGORIES:VA Construction Events Calendar
END:VEVENT
BEGIN:VEVENT
DTSTART;TZID=America/New_York:20260420T080000
DTEND;TZID=America/New_York:20260420T170000
DTSTAMP:20260424T112302
CREATED:20251230T200933Z
LAST-MODIFIED:20251230T200933Z
UID:10000678-1776672000-1776704400@hcca.net
SUMMARY:VDOT Work Zone Basic in Spanish (In Person)
DESCRIPTION:Register
URL:https://hcca.net/event/vdot-work-zone-basic-in-spanish-in-person-2/
LOCATION:HCCA\, 9251 Industrial Ct\, Suite 201\, Manassas\, VA\, 20109\, United States
CATEGORIES:VA Construction Safety Training Calendar
END:VEVENT
BEGIN:VEVENT
DTSTART;TZID=UTC:20260421T080000
DTEND;TZID=UTC:20260421T130000
DTSTAMP:20260424T112302
CREATED:20251105T225420Z
LAST-MODIFIED:20260401T162115Z
UID:10000621-1776758400-1776776400@hcca.net
SUMMARY:SOLD OUT Clay Shoot Tournament
DESCRIPTION:Registration includes one raffle ticket per shooter\, breakfast\, BBQ Lunch\, and ammunition.   \nSchedule:8:00AM Breakfast & Check-In8:50AM Safety Meeting9:00AM Begin Shoot11:30AM Lunch & Awards1:00PM Event Ends \nPlease note: \n\nNEW THIS YEAR: Teams of 6!\nBring your own gun or you will be provided one.\nPersonal shotguns shall meet range requirements.\nAmmunition will be provided.\nEach Shooter will take 50 shots.\nAwards: 1st\, 2nd & 3rd team trophies & individual High Gun.\n\nTeam scores based on top 4 shooters\n\n\nAll Shooters MUST wear eye protection & ear protection.\nRegistration Type *Team of 6 & Station Sponsorship: $1500Half Team of 3 & Station Sponsorship: $800Individual Shooter: $250Individuals and Teams of 3 will be grouped with peers.SponsorshipSOLD OUT Lunch Sponsor: Core & MainAwards Sponsorship : $400SOLD OUT Raffle Prize Sponsor: Superior Paving Corp.SOLD OUT Breakfast Sponsor: Atlantic Const. UtilitiesSOLD OUT Shooting Station Sponsorship : $200Company *Email Address *Attendee(s):Total CostInvoice Me *Yes\, I would like to be invoiced for the full amount due.No\, I would like to pay now.SUBMIT REGISTRATION
URL:https://hcca.net/event/clay-shoot-tournament-2/
LOCATION:Bull Run Shooting Center\, 7700 Bull Run Dr\, Centreville\, VA\, 20121\, United States
CATEGORIES:VA Construction Events Calendar
ORGANIZER;CN="Ashley Hutson":MAILTO:ashley@hcca.net
END:VEVENT
BEGIN:VEVENT
DTSTART;TZID=UTC:20260421T080000
DTEND;TZID=UTC:20260421T170000
DTSTAMP:20260424T112302
CREATED:20260312T174614Z
LAST-MODIFIED:20260312T174848Z
UID:10000754-1776758400-1776790800@hcca.net
SUMMARY:OSHA 30 in SPANISH Day 4 (In Person)
DESCRIPTION:
URL:https://hcca.net/event/osha-30-day-4-in-person-3/
LOCATION:HCCA\, 9251 Industrial Ct\, Suite 201\, Manassas\, VA\, 20109\, United States
CATEGORIES:VA Construction Safety Training Calendar
END:VEVENT
BEGIN:VEVENT
DTSTART;TZID=America/New_York:20260422T080000
DTEND;TZID=America/New_York:20260422T170000
DTSTAMP:20260424T112302
CREATED:20260415T140910Z
LAST-MODIFIED:20260415T140910Z
UID:10000757-1776844800-1776877200@hcca.net
SUMMARY:First Aid/CPR/AED (In Person)
DESCRIPTION:Register
URL:https://hcca.net/event/first-aid-cpr-aed-in-person-22/
LOCATION:HCCA\, 9251 Industrial Ct\, Suite 201\, Manassas\, VA\, 20109\, United States
CATEGORIES:VA Construction Safety Training Calendar
END:VEVENT
BEGIN:VEVENT
DTSTART;TZID=UTC:20260423T080000
DTEND;TZID=UTC:20260424T170000
DTSTAMP:20260424T112302
CREATED:20251230T202417Z
LAST-MODIFIED:20260414T214849Z
UID:10000694-1776931200-1777050000@hcca.net
SUMMARY:VDOT Work Zone Intermediate Traffic Control Training (Online) - Class is Full
DESCRIPTION:
URL:https://hcca.net/event/vdot-work-zone-intermediate-traffic-control-training-online-21/
LOCATION:ONLINE
CATEGORIES:VA Construction Safety Training Calendar
END:VEVENT
BEGIN:VEVENT
DTSTART;TZID=UTC:20260508T080000
DTEND;TZID=UTC:20260508T153000
DTSTAMP:20260424T112302
CREATED:20251105T225742Z
LAST-MODIFIED:20260401T162136Z
UID:10000622-1778227200-1778254200@hcca.net
SUMMARY:SOLD OUT Ditch Diggers Open Golf Tournament
DESCRIPTION:May 8 2026 | TWIN LAKES GOLF COURSETHIS EVENT IS SOLD OUT. \nEMAIL ASHLEY@HCCA.NET TO JOIN THE WASIT LIST Company. *Contact Name *Registration *Team of 4 & Tee Sponsorship $1600Team of 4 $1300Contact Phone Number *Contact Email *Captain *Captain EmailGolfer 2 *Golfer 2 EmailGolfer 3 *Golfer 3 EmailGolfer 4 *Golfer 4 EmailMain CaptainMain Captain EmailSponsorshipSOLD OUT Tee SponsorshipSOLD OUT Beverage Sponsor: Concrete Pipe & PrecastSOLD OUT Putting Contest Sponsor: Luck Stone Corp.SOLD OUT Dinner Sponsor: SpinielloSOLD OUT Breakfast Sponsor: Core & MainSOLD OUT Snack Sponsor: Aaron's TowingSOLD OUT ThirsTee Sponsors: Ferguson & Atlantic Construction UtilitiesSOLD OUT Longest Drive Sponsors: Contractors Health Coalition & Herc RentalsSOLD OUT Hole in One Sponsors: Rinker Materials & Ritchie BrosSOLD OUT Closest to the Pin Sponsors: Ritchie Bros & Iron SheepdogSOLD OUT Lunch Sponsor: Sunbelt RentalsSOLD OUT Pregame Sponsor: Advanced Drainage SystemSOLD OUT Spirits Raffle Sponsors: Rinker Materials & Muller Inc.SOLD OUT Entertainment Sponsor: Alpha Solutions Traffic & SafetySOLD OUT: ATV Sponsor: Carter MachinerySOLD OUT: Water Sponsor: Traffic Safety SuppliesSOLD OUT: Crane Sponsor: WG ConstructionRaffle Tickets1 / $20.003 / $50.007 / $100.00Which course would your team prefer?OaksLakesBilling TotalInvoice Me *Yes\, I would like to be invoiced for the full amount due.No\, I would like to pay now.SUBMIT REGISTRATION
URL:https://hcca.net/event/ditch-diggers-open-golf-tournament-5/
LOCATION:Twin Lakes Golf Course\, 6201 Union Mill Road Clifton\, VA\, VA\, United States
CATEGORIES:VA Construction Events Calendar
END:VEVENT
BEGIN:VEVENT
DTSTART;TZID=America/New_York:20260512T030000
DTEND;TZID=America/New_York:20260512T163000
DTSTAMP:20260424T112302
CREATED:20260316T145816Z
LAST-MODIFIED:20260316T145816Z
UID:10000756-1778554800-1778603400@hcca.net
SUMMARY:Seminar: Know Your Numbers
DESCRIPTION:Know Your NumbersAll Members of the HCCA are Invited to attend this FREE educational event. \nSarah Clogan\, Onsite Wellness Coach of Allan Myers\, will discuss the importance of keeping up to date with your health and how to track it. Attend this seminar for better understanding of the following: \n\nbasic health screening\ndisease risk factors\npreventative care\n\nHosted by the HCCA Women in Construction Registration *HCCA Member : FreeNo. of Attendees *Company *Email Address *Attendee(s):Total CostInvoice Me *Complete RegistrationSUBMIT REGISTRATION
URL:https://hcca.net/event/seminar-know-your-numbers/
LOCATION:Allan Myers\, 12500 Fair Lakes Circle Unit 150\, Fairfax\, VA
CATEGORIES:VA Construction Events Calendar
ORGANIZER;CN="Ashley Hutson":MAILTO:ashley@hcca.net
END:VEVENT
BEGIN:VEVENT
DTSTART;TZID=America/New_York:20260513T160000
DTEND;TZID=America/New_York:20260513T180000
DTSTAMP:20260424T112302
CREATED:20260226T161256Z
LAST-MODIFIED:20260226T161256Z
UID:10000745-1778688000-1778695200@hcca.net
SUMMARY:Heavy Equipment Operator Interviews
DESCRIPTION:FAUQUIER CAMPUS \nUp to 12 students will be completing the Heavy Equipment Operator Course at Laurel Ridge Community College. Be the first to interview and hire on their last day of class. \nInterviews will be held in 9 minute rotations so each company can meet each student. Maximum 8 companies. \nEMAIL EVENTS@HCCA.NET TO PARTICIPATE \nLearn more about the program here: https://laurelridgeworkforce.com/heavy-equipment-operator-fast-track-career-training-program/
URL:https://hcca.net/event/heavy-equipment-operator-interviews-10/
LOCATION:Laurel Ridge Community College – Fauquier\, 6480 College St\, Warrenton\, VA\, 20187\, United States
CATEGORIES:VA Construction Events Calendar
ORGANIZER;CN="Ashley Hutson":MAILTO:ashley@hcca.net
END:VEVENT
BEGIN:VEVENT
DTSTART;TZID=UTC:20260520T160000
DTEND;TZID=UTC:20260520T190000
DTSTAMP:20260424T112302
CREATED:20251105T225900Z
LAST-MODIFIED:20260407T131654Z
UID:10000623-1779292800-1779303600@hcca.net
SUMMARY:HLI Graduation / SRJ Scholarship Awarding
DESCRIPTION:Celebrate the HCCA Leadership Institute as they give their final presentation and receive their plaques. The recipients of the Sidney R. Johnston Scholarship will also be recognized. \nSchedule:4:00 Cocktail Hour | 5:00 Presentation | 6:00 Continued Networking \nRegistration includes drink ticket and heavy hors d'oeuvres. Registration Type *HCCA MEMBER PRICE PER ATTENDEE : $85.00NON-MEMBER PRICE PER ATTENDEE: $140.00SponsorshipSOLD OUT Event Sponsor : Peoples BankCo-Sponsorship: $250No. of Attendees *Company *Email Address *Attendee(s):Total CostInvoice Me *Yes\, I would like to be invoiced for the full amount due.No\, I would like to pay now.SUBMIT REGISTRATION
URL:https://hcca.net/event/hli-graduation-srj-scholarship-awarding-3/
LOCATION:Sweeney Barn\, 9310 Discovery Blvd\, Manassas\, VA\, 20109\, United States
CATEGORIES:VA Construction Events Calendar
ORGANIZER;CN="Ashley Hutson":MAILTO:ashley@hcca.net
END:VEVENT
BEGIN:VEVENT
DTSTART;TZID=America/New_York:20260604T160000
DTEND;TZID=America/New_York:20260604T180000
DTSTAMP:20260424T112302
CREATED:20260226T161343Z
LAST-MODIFIED:20260226T161343Z
UID:10000746-1780588800-1780596000@hcca.net
SUMMARY:Heavy Equipment Operator Interviews
DESCRIPTION:MIDDLETOWN CAMPUS \nUp to 12 students will be completing the Heavy Equipment Operator Course at Laurel Ridge Community College. Be the first to interview and hire on their last day of class. \nInterviews will be held in 9 minute rotations so each company can meet each student. Maximum 8 companies. \nEMAIL EVENTS@HCCA.NET TO PARTICIPATE \nLearn more about the program here: https://laurelridgeworkforce.com/heavy-equipment-operator-fast-track-career-training-program/
URL:https://hcca.net/event/heavy-equipment-operator-interviews-11/
LOCATION:Laurel Ridge Community College – Middletown\, 173 Skirmisher Lane\, Middletown\, Virginia
CATEGORIES:VA Construction Events Calendar
ORGANIZER;CN="Ashley Hutson":MAILTO:ashley@hcca.net
END:VEVENT
BEGIN:VEVENT
DTSTART;TZID=UTC:20260606T100000
DTEND;TZID=UTC:20260606T160000
DTSTAMP:20260424T112302
CREATED:20251105T230204Z
LAST-MODIFIED:20260330T170935Z
UID:10000624-1780740000-1780761600@hcca.net
SUMMARY:Poker Run
DESCRIPTION:Poker Run\n100% Charitable EventAll proceeds will be donated to the HCCA Family Relief Fund.The Family Relief Fund provides financial assistance to employees\, families\, & friends of HCCA Member Firms who have suffered personal life emergencies. \nSTARTSuperior Paving Corp HQ 10:00AM Registration / 11:00AM Last Bike Out \nTim’s at Lake Anna - Mineral\, VA \nVito’s on Lake Anna - Mineral\, va \nCraft & Crust PIzza Tavern - Remington\, VA \nENDCraftworx Taproom - Gainesville\, VA4:30PM  Best Poker Hands Announced \nRegistration includes breakfast\, poker hand\, drink ticket\, and t-shirt. DriverDriver : $30.00Extra Hand $30Extra Hand : $30.00Driver Name *Passenger Name (if applicable)Driver Unisex T-Shirt Size (Small - 3XL)Passenger Unisex T-Shirt Size (Small - 3XL)HCCA Firm (if applicable)Phone *Email *SponsorshipsSOLD Best Hand Sponsor : Independence ExcavatingEvent Sponsorship: $500T-Shirt Sponsorship : $300Motorcyclists grant permission to the Heavy Construction Contractors Association (HCCA) to photograph\, video and post this event. The undersigned acknowledges and agrees that in consideration for allowing him/her to participate in the Poker Run on June 6\, 2026\, the undersigned assumes all risk of participation and agrees to indemnify and hold the Heavy Construction Contractors Association\, Inc.\, its officers\, directors and staff (collectively “HCCA”) from any claims for loss or damage to any property or loss or damage on account of injury or death of the undersigned or caused by the undersigned while participating in the event. The undersigned agrees to abide by all traffic laws and ordinances\, and to operate his/her motorcycle safely and properly at all times during the event. Total CostInvoice Me *Yes\, I would like to be invoiced for the full amount due.No\, I would like to pay now.SUBMIT REGISTRATION
URL:https://hcca.net/event/poker-run-4/
LOCATION:VA
CATEGORIES:VA Construction Events Calendar
END:VEVENT
BEGIN:VEVENT
DTSTART;TZID=America/New_York:20260608T080000
DTEND;TZID=America/New_York:20260608T170000
DTSTAMP:20260424T112302
CREATED:20251230T200011Z
LAST-MODIFIED:20251230T200706Z
UID:10000670-1780905600-1780938000@hcca.net
SUMMARY:First Aid/CPR/AED (In Person)
DESCRIPTION:Register
URL:https://hcca.net/event/first-aid-cpr-aed-in-person-24/
LOCATION:HCCA\, 9251 Industrial Ct\, Suite 201\, Manassas\, VA\, 20109\, United States
CATEGORIES:VA Construction Safety Training Calendar
END:VEVENT
BEGIN:VEVENT
DTSTART;TZID=America/New_York:20260609T080000
DTEND;TZID=America/New_York:20260609T170000
DTSTAMP:20260424T112302
CREATED:20251230T201100Z
LAST-MODIFIED:20260218T185420Z
UID:10000680-1780992000-1781024400@hcca.net
SUMMARY:VDOT Work Zone Basic in Spanish (In Person)
DESCRIPTION:Register
URL:https://hcca.net/event/vdot-work-zone-basic-in-spanish-in-person-4/
LOCATION:HCCA\, 9251 Industrial Ct\, Suite 201\, Manassas\, VA\, 20109\, United States
CATEGORIES:VA Construction Safety Training Calendar
END:VEVENT
BEGIN:VEVENT
DTSTART;TZID=UTC:20260611T080000
DTEND;TZID=UTC:20260612T170000
DTSTAMP:20260424T112302
CREATED:20251230T202302Z
LAST-MODIFIED:20251230T202302Z
UID:10000692-1781164800-1781283600@hcca.net
SUMMARY:VDOT Work Zone Intermediate Traffic Control Training (In Person)
DESCRIPTION:Register
URL:https://hcca.net/event/vdot-work-zone-intermediate-traffic-control-training-in-person-29/
LOCATION:HCCA\, 9251 Industrial Ct\, Suite 201\, Manassas\, VA\, 20109\, United States
CATEGORIES:VA Construction Safety Training Calendar
END:VEVENT
BEGIN:VEVENT
DTSTART;TZID=UTC:20260615T080000
DTEND;TZID=UTC:20260615T170000
DTSTAMP:20260424T112302
CREATED:20251230T200317Z
LAST-MODIFIED:20251230T200317Z
UID:10000675-1781510400-1781542800@hcca.net
SUMMARY:VDOT Work Zone Basic (In Person)
DESCRIPTION:Register
URL:https://hcca.net/event/vdot-work-zone-basic-in-person-8/
LOCATION:HCCA\, 9251 Industrial Ct\, Suite 201\, Manassas\, VA\, 20109\, United States
CATEGORIES:VA Construction Safety Training Calendar
END:VEVENT
BEGIN:VEVENT
DTSTART;TZID=UTC:20260617T080000
DTEND;TZID=UTC:20260617T170000
DTSTAMP:20260424T112302
CREATED:20251230T202005Z
LAST-MODIFIED:20251230T202005Z
UID:10000688-1781683200-1781715600@hcca.net
SUMMARY:VDOT Erosion & Sediment Control Contractors Certification Course for Qualified Personnel (Online)
DESCRIPTION:Register
URL:https://hcca.net/event/vdot-erosion-sediment-control-contractors-certification-course-for-qualified-personnel-online-13/
LOCATION:ONLINE
CATEGORIES:VA Construction Safety Training Calendar
END:VEVENT
BEGIN:VEVENT
DTSTART;TZID=UTC:20260618T080000
DTEND;TZID=UTC:20260619T170000
DTSTAMP:20260424T112302
CREATED:20251230T202527Z
LAST-MODIFIED:20260218T185507Z
UID:10000696-1781769600-1781888400@hcca.net
SUMMARY:VDOT Work Zone Intermediate Traffic Control Training (Online)
DESCRIPTION:Register
URL:https://hcca.net/event/vdot-work-zone-intermediate-traffic-control-training-online-23/
LOCATION:ONLINE
CATEGORIES:VA Construction Safety Training Calendar
END:VEVENT
BEGIN:VEVENT
DTSTART;TZID=America/New_York:20260711T090000
DTEND;TZID=America/New_York:20260711T130000
DTSTAMP:20260424T112302
CREATED:20260226T161506Z
LAST-MODIFIED:20260407T151200Z
UID:10000747-1783760400-1783774800@hcca.net
SUMMARY:Heavy Equipment Operator Interviews
DESCRIPTION:FAUQIUER CAMPUS \nThis event will gather two classes of students – one group from Fauquier and the other from Middletown.\nEach company will interview up to 24 students will be completing the Heavy Equipment Operator Course at Laurel Ridge Community College. Be the first to interview and hire on their last day of class. \nInterviews will be held in 9 minute rotations so each company can meet each student. Maximum 8 companies. \nEMAIL EVENTS@HCCA.NET TO PARTICIPATE \nLearn more about the program here: https://laurelridgeworkforce.com/heavy-equipment-operator-fast-track-career-training-program/
URL:https://hcca.net/event/7636/
LOCATION:Laurel Ridge Community College – Fauquier\, 6480 College St\, Warrenton\, VA\, 20187\, United States
CATEGORIES:VA Construction Events Calendar
END:VEVENT
BEGIN:VEVENT
DTSTART;TZID=UTC:20260715T160000
DTEND;TZID=UTC:20260715T190000
DTSTAMP:20260424T112302
CREATED:20251105T230524Z
LAST-MODIFIED:20251105T230524Z
UID:10000625-1784131200-1784142000@hcca.net
SUMMARY:Summer Social hosted by HCCA WIC x NVBIA WBI x NAWIC NOVA
DESCRIPTION:
URL:https://hcca.net/event/summer-social-hosted-by-hcca-wic-x-nvbia-wbi-x-nawic-nova/
LOCATION:VA
CATEGORIES:VA Construction Events Calendar
END:VEVENT
END:VCALENDAR