BEGIN:VCALENDAR
VERSION:2.0
PRODID:-//HCCA - ECPv6.15.17.1//NONSGML v1.0//EN
CALSCALE:GREGORIAN
METHOD:PUBLISH
X-WR-CALNAME:HCCA
X-ORIGINAL-URL:https://hcca.net
X-WR-CALDESC:Events for HCCA
REFRESH-INTERVAL;VALUE=DURATION:PT1H
X-Robots-Tag:noindex
X-PUBLISHED-TTL:PT1H
BEGIN:VTIMEZONE
TZID:UTC
BEGIN:STANDARD
TZOFFSETFROM:+0000
TZOFFSETTO:+0000
TZNAME:UTC
DTSTART:20240101T000000
END:STANDARD
END:VTIMEZONE
BEGIN:VEVENT
DTSTART;TZID=UTC:20260122T080000
DTEND;TZID=UTC:20260123T170000
DTSTAMP:20260424T102931
CREATED:20251111T001034Z
LAST-MODIFIED:20251111T001034Z
UID:10000635-1769068800-1769187600@hcca.net
SUMMARY:VDOT Work Zone Intermediate Traffic Control Training (In Person)
DESCRIPTION:Register
URL:https://hcca.net/event/vdot-work-zone-intermediate-traffic-control-training-in-person-24/
LOCATION:HCCA\, 9251 Industrial Ct\, Suite 201\, Manassas\, VA\, 20109\, United States
CATEGORIES:VA Construction Safety Training Calendar
END:VEVENT
BEGIN:VEVENT
DTSTART;TZID=UTC:20260121T080000
DTEND;TZID=UTC:20260121T170000
DTSTAMP:20260424T102931
CREATED:20251217T002134Z
LAST-MODIFIED:20251217T002134Z
UID:10000656-1768982400-1769014800@hcca.net
SUMMARY:Custom Training - REGISTRATION CLOSED
DESCRIPTION:
URL:https://hcca.net/event/custom-training-registration-closed-11/
LOCATION:VA
CATEGORIES:VA Construction Safety Training Calendar
END:VEVENT
BEGIN:VEVENT
DTSTART;TZID=UTC:20260120T080000
DTEND;TZID=UTC:20260120T170000
DTSTAMP:20260424T102931
CREATED:20251111T002129Z
LAST-MODIFIED:20251111T002129Z
UID:10000643-1768896000-1768928400@hcca.net
SUMMARY:VDOT Erosion & Sediment Control Contractors Certification Course for Qualified Personnel (In Person)
DESCRIPTION:Register
URL:https://hcca.net/event/vdot-erosion-sediment-control-contractors-certification-course-for-qualified-personnel-in-person-10/
LOCATION:HCCA\, 9251 Industrial Ct\, Suite 201\, Manassas\, VA\, 20109\, United States
CATEGORIES:VA Construction Safety Training Calendar
END:VEVENT
BEGIN:VEVENT
DTSTART;TZID=UTC:20260119T080000
DTEND;TZID=UTC:20260119T170000
DTSTAMP:20260424T102931
CREATED:20251111T001713Z
LAST-MODIFIED:20251111T001713Z
UID:10000639-1768809600-1768842000@hcca.net
SUMMARY:OSHA 30 Day 2 (In Person)
DESCRIPTION:
URL:https://hcca.net/event/osha-30-day-2-in-person/
LOCATION:HCCA\, 9251 Industrial Ct\, Suite 201\, Manassas\, VA\, 20109\, United States
CATEGORIES:VA Construction Safety Training Calendar
END:VEVENT
BEGIN:VEVENT
DTSTART;TZID=UTC:20260115T080000
DTEND;TZID=UTC:20260116T170000
DTSTAMP:20260424T102931
CREATED:20251111T000948Z
LAST-MODIFIED:20260107T192913Z
UID:10000634-1768464000-1768582800@hcca.net
SUMMARY:VDOT Work Zone Intermediate Traffic Control Training (In Person) - Class is full\, please call to get added to waitlist.
DESCRIPTION:
URL:https://hcca.net/event/vdot-work-zone-intermediate-traffic-control-training-in-person-23/
LOCATION:HCCA\, 9251 Industrial Ct\, Suite 201\, Manassas\, VA\, 20109\, United States
CATEGORIES:VA Construction Safety Training Calendar
END:VEVENT
BEGIN:VEVENT
DTSTART;TZID=UTC:20260114T160000
DTEND;TZID=UTC:20260114T190000
DTSTAMP:20260424T102931
CREATED:20251105T224303Z
LAST-MODIFIED:20251106T010215Z
UID:10000615-1768406400-1768417200@hcca.net
SUMMARY:Vendor Showcase
DESCRIPTION:Vendor Showcase\nAttendees: HCCA's biggest annual networking event! Meet Vendors\, Contractors\, & Business Firms from the HCCA. Visit with old colleagues & build new connections for products & services. \n\nExhibitors: Tables are exclusive and free with member registration for HCCA members. Space is limited. Register now! Registration Type *HCCA MEMBER PRICE PER ATTENDEE : $85.00NON-MEMBER PRICE PER ATTENDEE: $140.00SponsorshipSOLD Event Sponsorship : Link-Belt Mid-AtlanticSOLD Co-Sponsors: Long Island Lumber\, John Marshall Bank\, & MOOVEDisplay Table?Sold Out - Join the Wait listNo. of Attendees *Company *Email Address *Attendee(s):Total CostInvoice Me *Yes\, I would like to be invoiced for the full amount due.No\, I would like to pay now.SUBMIT REGISTRATION
URL:https://hcca.net/event/vendor-showcase-4/
LOCATION:Old Hickory Golf Club\, 11921 Chanceford Dr\, Woodbridge\, VA\, 22192\, United States
CATEGORIES:VA Construction Events Calendar
ORGANIZER;CN="Ashley Hutson":MAILTO:ashley@hcca.net
END:VEVENT
BEGIN:VEVENT
DTSTART;TZID=UTC:20260114T130000
DTEND;TZID=UTC:20260114T150000
DTSTAMP:20260424T102931
CREATED:20251217T001336Z
LAST-MODIFIED:20260106T175331Z
UID:10000655-1768395600-1768402800@hcca.net
SUMMARY:Lock Out Tag Out (In Person) - Call to Register
DESCRIPTION:
URL:https://hcca.net/event/lock-out-tag-out-in-person-3/
LOCATION:VA
CATEGORIES:VA Construction Safety Training Calendar
END:VEVENT
BEGIN:VEVENT
DTSTART;TZID=UTC:20260114T100000
DTEND;TZID=UTC:20260114T120000
DTSTAMP:20260424T102931
CREATED:20251217T000427Z
LAST-MODIFIED:20260106T175408Z
UID:10000654-1768384800-1768392000@hcca.net
SUMMARY:Fall Protection Training (In Person) - Call to Register
DESCRIPTION:
URL:https://hcca.net/event/fall-protection-training-in-person/
LOCATION:HCCA\, 9251 Industrial Ct\, Suite 201\, Manassas\, VA\, 20109\, United States
CATEGORIES:VA Construction Safety Training Calendar
END:VEVENT
BEGIN:VEVENT
DTSTART;TZID=UTC:20260114T080000
DTEND;TZID=UTC:20260114T100000
DTSTAMP:20260424T102931
CREATED:20251217T000332Z
LAST-MODIFIED:20260106T175448Z
UID:10000653-1768377600-1768384800@hcca.net
SUMMARY:Confined Space Training (In Person) - Call to Register
DESCRIPTION:
URL:https://hcca.net/event/confined-space-training-in-person/
LOCATION:HCCA\, 9251 Industrial Ct\, Suite 201\, Manassas\, VA\, 20109\, United States
CATEGORIES:VA Construction Safety Training Calendar
END:VEVENT
BEGIN:VEVENT
DTSTART;TZID=UTC:20260113T080000
DTEND;TZID=UTC:20260113T170000
DTSTAMP:20260424T102931
CREATED:20251217T000227Z
LAST-MODIFIED:20251217T000227Z
UID:10000652-1768291200-1768323600@hcca.net
SUMMARY:First Aid/CPR/AED (In Person) - CLASS IS FULL
DESCRIPTION:
URL:https://hcca.net/event/first-aid-cpr-aed-in-person-class-is-full-2/
LOCATION:HCCA\, 9251 Industrial Ct\, Suite 201\, Manassas\, VA\, 20109\, United States
CATEGORIES:VA Construction Safety Training Calendar
END:VEVENT
BEGIN:VEVENT
DTSTART;TZID=UTC:20260112T080000
DTEND;TZID=UTC:20260112T170000
DTSTAMP:20260424T102931
CREATED:20251111T001603Z
LAST-MODIFIED:20251111T001919Z
UID:10000638-1768204800-1768237200@hcca.net
SUMMARY:OSHA 30 Day 1 (In Person) - MUST ATTEND ALL 4 DAYS
DESCRIPTION:register
URL:https://hcca.net/event/osha-30-day-1-in-person-3/
LOCATION:HCCA\, 9251 Industrial Ct\, Suite 201\, Manassas\, VA\, 20109\, United States
CATEGORIES:VA Construction Safety Training Calendar
END:VEVENT
BEGIN:VEVENT
DTSTART;TZID=UTC:20260108T080000
DTEND;TZID=UTC:20260109T170000
DTSTAMP:20260424T102931
CREATED:20251217T000108Z
LAST-MODIFIED:20251217T000108Z
UID:10000651-1767859200-1767978000@hcca.net
SUMMARY:OSHA 10 in Spanish (In Person)
DESCRIPTION:Register
URL:https://hcca.net/event/osha-10-in-spanish-in-person-2/
LOCATION:HCCA\, 9251 Industrial Ct\, Suite 201\, Manassas\, VA\, 20109\, United States
CATEGORIES:VA Construction Safety Training Calendar
END:VEVENT
BEGIN:VEVENT
DTSTART;TZID=UTC:20260107T080000
DTEND;TZID=UTC:20260107T170000
DTSTAMP:20260424T102931
CREATED:20251111T004513Z
LAST-MODIFIED:20251111T004537Z
UID:10000647-1767772800-1767805200@hcca.net
SUMMARY:Custom Training - Registration Closed
DESCRIPTION:
URL:https://hcca.net/event/custom-training-registration-closed-8/
LOCATION:VA
CATEGORIES:VA Construction Safety Training Calendar
END:VEVENT
BEGIN:VEVENT
DTSTART;TZID=UTC:20260105T080000
DTEND;TZID=UTC:20260105T170000
DTSTAMP:20260424T102931
CREATED:20251217T000011Z
LAST-MODIFIED:20251217T000011Z
UID:10000650-1767600000-1767632400@hcca.net
SUMMARY:VDOT Work Zone Basic (In Person)
DESCRIPTION:Register
URL:https://hcca.net/event/vdot-work-zone-basic-in-person-4/
LOCATION:HCCA\, 9251 Industrial Ct\, Suite 201\, Manassas\, VA\, 20109\, United States
CATEGORIES:VA Construction Safety Training Calendar
END:VEVENT
BEGIN:VEVENT
DTSTART;TZID=UTC:20251218T080000
DTEND;TZID=UTC:20251219T170000
DTSTAMP:20260424T102931
CREATED:20241210T064800Z
LAST-MODIFIED:20241210T064800Z
UID:10000380-1766044800-1766163600@hcca.net
SUMMARY:VDOT Work Zone Intermediate Traffic Control Training (Online)
DESCRIPTION:Register
URL:https://hcca.net/event/vdot-work-zone-intermediate-traffic-control-training-online-18/
LOCATION:ONLINE
CATEGORIES:VA Construction Safety Training Calendar
END:VEVENT
BEGIN:VEVENT
DTSTART;TZID=UTC:20251217T080000
DTEND;TZID=UTC:20251217T170000
DTSTAMP:20260424T102931
CREATED:20241210T062840Z
LAST-MODIFIED:20241210T062840Z
UID:10000549-1765958400-1765990800@hcca.net
SUMMARY:VDOT Erosion & Sediment Control Contractors Certification Course for Qualified Personnel (Online)
DESCRIPTION:Register
URL:https://hcca.net/event/vdot-erosion-sediment-control-contractors-certification-course-for-qualified-personnel-online-11/
LOCATION:ONLINE
CATEGORIES:VA Construction Safety Training Calendar
END:VEVENT
BEGIN:VEVENT
DTSTART;TZID=UTC:20251215T080000
DTEND;TZID=UTC:20251215T170000
DTSTAMP:20260424T102931
CREATED:20241210T070803Z
LAST-MODIFIED:20241210T070803Z
UID:10000577-1765785600-1765818000@hcca.net
SUMMARY:Work Zone Basic Traffic Control Training in Spanish (In Person)
DESCRIPTION:Register
URL:https://hcca.net/event/work-zone-basic-traffic-control-training-in-spanish-in-person-10/
LOCATION:HCCA\, 9251 Industrial Ct\, Suite 201\, Manassas\, VA\, 20109\, United States
CATEGORIES:VA Construction Safety Training Calendar
END:VEVENT
BEGIN:VEVENT
DTSTART;TZID=UTC:20251211T080000
DTEND;TZID=UTC:20251212T170000
DTSTAMP:20260424T102931
CREATED:20241210T064709Z
LAST-MODIFIED:20251119T201604Z
UID:10000378-1765440000-1765558800@hcca.net
SUMMARY:VDOT Work Zone Intermediate Traffic Control Training (In Person)
DESCRIPTION:Register
URL:https://hcca.net/event/vdot-work-zone-intermediate-traffic-control-training-in-person-21/
LOCATION:HCCA\, 9251 Industrial Ct\, Suite 201\, Manassas\, VA\, 20109\, United States
CATEGORIES:VA Construction Safety Training Calendar
END:VEVENT
BEGIN:VEVENT
DTSTART;TZID=UTC:20251209T160000
DTEND;TZID=UTC:20251209T190000
DTSTAMP:20260424T102931
CREATED:20251105T220620Z
LAST-MODIFIED:20251105T220730Z
UID:10000614-1765296000-1765306800@hcca.net
SUMMARY:WIC Winter Social
DESCRIPTION:All HCCA Members are invited to paint an ornament and enjoy happy hour with your HCCA Women in Construction colleagues. \nThis event is free and for HCCA members only. \nSponsors needed! Registration *HCCA Member : FreeNo. of Attendees *SponsorshipSponsorship $500Company on event signage\, announced at event\, & mentioned on social mediaCompany *Email Address *Attendee(s):Total CostInvoice Me *No payment needed.I would like to Sponsor.SUBMIT REGISTRATION
URL:https://hcca.net/event/wic-winter-social-2/
LOCATION:Craft Worx Taproom\, 5615 Wellington Rd #101\, Gainesville\, VA 20155\, Gainesville\, VA\, 20155\, United States
CATEGORIES:VA Construction Events Calendar
ORGANIZER;CN="Ashley Hutson":MAILTO:ashley@hcca.net
END:VEVENT
BEGIN:VEVENT
DTSTART;TZID=UTC:20251208T080000
DTEND;TZID=UTC:20251208T170000
DTSTAMP:20260424T102931
CREATED:20241210T065918Z
LAST-MODIFIED:20241210T065918Z
UID:10000568-1765180800-1765213200@hcca.net
SUMMARY:Work Zone Basic Traffic Control Training (In Person)
DESCRIPTION:Register
URL:https://hcca.net/event/work-zone-basic-traffic-control-training-in-person-18/
LOCATION:HCCA\, 9251 Industrial Ct\, Suite 201\, Manassas\, VA\, 20109\, United States
CATEGORIES:VA Construction Safety Training Calendar
END:VEVENT
BEGIN:VEVENT
DTSTART;TZID=UTC:20251205T180000
DTEND;TZID=UTC:20251205T230000
DTSTAMP:20260424T102931
CREATED:20241113T233306Z
LAST-MODIFIED:20251124T220846Z
UID:10000499-1764957600-1764975600@hcca.net
SUMMARY:Holiday Party
DESCRIPTION:Registration is closed. contact ashley@hcca.net with any questions
URL:https://hcca.net/event/holiday-party-3/
LOCATION:Hyatt Regency Dulles
CATEGORIES:VA Construction Events Calendar
END:VEVENT
BEGIN:VEVENT
DTSTART;TZID=UTC:20251202T080000
DTEND;TZID=UTC:20251202T100000
DTSTAMP:20260424T102931
CREATED:20250519T183055Z
LAST-MODIFIED:20250519T183107Z
UID:10000594-1764662400-1764669600@hcca.net
SUMMARY:Legislative Breakfast
DESCRIPTION:This is an opportunity for individual members from the leading trade organizations responsible for conceptualizing\, building\, and maintaining the transportation infrastructure and new construction projects in Northern Virginia to meet legislators representing Northern Virginia. \nEach legislator will be welcome to share their goals for the legislative session and their thoughts on both local and Statewide issues. The relaxed atmosphere embraces new relationships and creates space for dialogue on issues facing infrastructure in the Commonwealth of Virginia. Registration *ATTENDEE : $50.00No. of Attendees *Company *Email Address *Attendee(s):Association Affiliation (Choose all that apply)HCCAVTCAVAAABC-VAODHCANVTA (Alliance)Total CostInvoice Me *Yes\, I would like to be invoiced for the full amount due.No\, I would like to pay now.SUBMIT REGISTRATION
URL:https://hcca.net/event/legislative-breakfast-4/
LOCATION:Northern VA Association of Realtors\, 8407 Pennell Street\, Fairfax\, VA\, 22031\, United States
CATEGORIES:VA Construction Events Calendar
ORGANIZER;CN="Ashley Hutson":MAILTO:ashley@hcca.net
END:VEVENT
BEGIN:VEVENT
DTSTART;TZID=UTC:20251201T080000
DTEND;TZID=UTC:20251201T170000
DTSTAMP:20260424T102931
CREATED:20241210T071459Z
LAST-MODIFIED:20241210T071459Z
UID:10000584-1764576000-1764608400@hcca.net
SUMMARY:First Aid/CPR/AED Training (In Person)
DESCRIPTION:Register
URL:https://hcca.net/event/first-aid-cpr-aed-training-in-person-16/
LOCATION:HCCA\, 9251 Industrial Ct\, Suite 201\, Manassas\, VA\, 20109\, United States
CATEGORIES:VA Construction Safety Training Calendar
END:VEVENT
BEGIN:VEVENT
DTSTART;TZID=UTC:20251124T080000
DTEND;TZID=UTC:20251125T170000
DTSTAMP:20260424T102931
CREATED:20251007T203923Z
LAST-MODIFIED:20251007T204307Z
UID:10000611-1763971200-1764090000@hcca.net
SUMMARY:OSHA 10 (In Person)
DESCRIPTION:Register
URL:https://hcca.net/event/osha-10-8/
LOCATION:HCCA\, 9251 Industrial Ct\, Suite 201\, Manassas\, VA\, 20109\, United States
CATEGORIES:VA Construction Safety Training Calendar
END:VEVENT
BEGIN:VEVENT
DTSTART;TZID=UTC:20251120T080000
DTEND;TZID=UTC:20251121T170000
DTSTAMP:20260424T102931
CREATED:20241210T064625Z
LAST-MODIFIED:20241210T064625Z
UID:10000566-1763625600-1763744400@hcca.net
SUMMARY:VDOT Work Zone Intermediate Traffic Control Training (Online)
DESCRIPTION:Register
URL:https://hcca.net/event/vdot-work-zone-intermediate-traffic-control-training-online-17/
LOCATION:ONLINE
CATEGORIES:VA Construction Safety Training Calendar
END:VEVENT
BEGIN:VEVENT
DTSTART;TZID=UTC:20251119T160000
DTEND;TZID=UTC:20251119T190000
DTSTAMP:20260424T102931
CREATED:20241113T233205Z
LAST-MODIFIED:20250807T165130Z
UID:10000498-1763568000-1763578800@hcca.net
SUMMARY:Builders Outlook on 2026
DESCRIPTION:Leadership from the Northern Virginia Building Industry Association will share their insight into development in 2026. \nPanelists: Paul Jester of Van Metre Homes\, Mark Giganti of Evergreen Homes\, Gary Scola of Miller and Smith\, and Keith Waters\, Ph.D. of the Stephen S. Fuller Institute \nEvent Sponsor: William A. Hazel Registration Type *HCCA MEMBER PRICE PER ATTENDEE : $80.00NON-MEMBER PRICE PER ATTENDEE: $120.00SponsorshipEvent Sponsor: William A. HazelCo-Sponsor: LCINo. of Attendees *Company *Email Address *Attendee(s):Total CostInvoice Me *Yes\, I would like to be invoiced for the full amount due.No\, I would like to pay now.SUBMIT REGISTRATION
URL:https://hcca.net/event/builders-outlook-on-2026/
LOCATION:Chantilly National Golf & Country Club\, 14901 Braddock Road Centreville\, VA 20120\, VA\, 20120\, United States
CATEGORIES:VA Construction Events Calendar
END:VEVENT
BEGIN:VEVENT
DTSTART;TZID=UTC:20251118T080000
DTEND;TZID=UTC:20251119T170000
DTSTAMP:20260424T102931
CREATED:20250924T202106Z
LAST-MODIFIED:20250924T202106Z
UID:10000610-1763452800-1763571600@hcca.net
SUMMARY:Custom Training - Registration Closed
DESCRIPTION:
URL:https://hcca.net/event/custom-training-registration-closed-7/
LOCATION:VA
CATEGORIES:VA Construction Safety Training Calendar
END:VEVENT
BEGIN:VEVENT
DTSTART;TZID=UTC:20251117T080000
DTEND;TZID=UTC:20251117T170000
DTSTAMP:20260424T102931
CREATED:20241210T070630Z
LAST-MODIFIED:20251022T222909Z
UID:10000574-1763366400-1763398800@hcca.net
SUMMARY:VDOT Work Zone Basic Traffic Control Training in Spanish (In Person)
DESCRIPTION:Register
URL:https://hcca.net/event/work-zone-basic-traffic-control-training-in-spanish-in-person-8/
LOCATION:HCCA\, 9251 Industrial Ct\, Suite 201\, Manassas\, VA\, 20109\, United States
CATEGORIES:VA Construction Safety Training Calendar
END:VEVENT
BEGIN:VEVENT
DTSTART;TZID=UTC:20251113T080000
DTEND;TZID=UTC:20251114T170000
DTSTAMP:20260424T102931
CREATED:20251022T222750Z
LAST-MODIFIED:20251022T222833Z
UID:10000613-1763020800-1763139600@hcca.net
SUMMARY:VDOT Work Zone Advanced Traffic Control Training (In Person)
DESCRIPTION:Register
URL:https://hcca.net/event/vdot-work-zone-advanced-training-in-person/
LOCATION:HCCA\, 9251 Industrial Ct\, Suite 201\, Manassas\, VA\, 20109\, United States
CATEGORIES:VA Construction Safety Training Calendar
END:VEVENT
BEGIN:VEVENT
DTSTART;TZID=UTC:20251112T100000
DTEND;TZID=UTC:20251112T110000
DTSTAMP:20260424T102931
CREATED:20251012T173649Z
LAST-MODIFIED:20251027T035424Z
UID:10000612-1762941600-1762945200@hcca.net
SUMMARY:Ditch Diggers Dialogue: Pay When Paid
DESCRIPTION:Build a financial plan that fits your goals\, your work\, and your life – especially in a field where priorities and timelines can shift quickly. Allison Rosenberg of HUB International will provide a step-by-step framework to help you make confident financial decisions at any stage of your career. Attendees will consider the unique challenges that women face as it relates to finances\, including longer life expectancies\, caregiver responsibilities\, and the importance of taking full ownership of your financial wellness. \nAbout Our Speaker\nAllison Rosenberg is a Senior Consultant at HUB International in Bethesda\, Maryland\, where she specializes in retirement plan consulting and financial wellness education. With more than two decades of experience\, Allison helps organizations design meaningful retirement programs and empowers employees to make confident\, informed financial decisions. She is an investment advisor representative with Global Retirement Partners\, LLC\, a registered investment advisor. \nAllison’s path to financial services was anything but traditional. After earning her degree in Education from Wake Forest University\, she began her career as a classroom teacher. Her passion for teaching and curiosity about the world led her to join the Peace Corps\, where she spent several years in Paraguay training teachers and developing a deep appreciation for adult learning and cultural connection. \nWhen she returned to the U.S.\, Allison sought a career that combined her love of teaching\, her Spanish language skills\, and her desire to make a positive difference in people’s lives. That search led her to the world of retirement education — a field that quickly proved to be a natural fit. Over the years\, her work has evolved from helping employees understand their retirement plans to guiding individuals and organizations toward holistic financial wellness strategies. \nAt HUB International\, Allison is known for her approachable\, engaging style and her ability to make complex financial topics feel clear\, relevant\, and actionable. Whether facilitating workshops\, consulting with plan sponsors\, or meeting one-on-one with employees\, she creates an environment where people feel comfortable asking questions and inspired to take steps toward their goals. \nAllison’s commitment to financial education is grounded in her belief that confidence and understanding are the foundation of financial well-being. She brings empathy\, curiosity\, and a teacher’s mindset to every interaction\, helping people connect the dots between their day-to-day decisions and long-term financial security. \nOutside of work\, Allison lives in Potomac\, Maryland\, with her husband\, Adam\, and their children\, Frances and Moses. After spending three years in Indonesia\, the family has embraced being back in the U.S.\, enjoying the outdoors\, supporting the kids in their many activities\, and appreciating time with family and friends. Their time abroad reinforced the importance of flexibility\, curiosity\, and connection — values that continue to shape Allison’s approach to both life and work. Registration *HCCA Member : FreeNo. of Attendees *Company *Email Address *Attendee(s):Total CostInvoice Me *Complete RegistrationSUBMIT REGISTRATION
URL:https://hcca.net/event/ditch-diggers-dialogue-pay-when-paid/
LOCATION:ONLINE
CATEGORIES:VA Construction Events Calendar
ORGANIZER;CN="Ashley Hutson":MAILTO:ashley@hcca.net
END:VEVENT
END:VCALENDAR