BEGIN:VCALENDAR
VERSION:2.0
PRODID:-//HCCA - ECPv6.15.17.1//NONSGML v1.0//EN
CALSCALE:GREGORIAN
METHOD:PUBLISH
X-WR-CALNAME:HCCA
X-ORIGINAL-URL:https://hcca.net
X-WR-CALDESC:Events for HCCA
REFRESH-INTERVAL;VALUE=DURATION:PT1H
X-Robots-Tag:noindex
X-PUBLISHED-TTL:PT1H
BEGIN:VTIMEZONE
TZID:UTC
BEGIN:STANDARD
TZOFFSETFROM:+0000
TZOFFSETTO:+0000
TZNAME:UTC
DTSTART:20240101T000000
END:STANDARD
END:VTIMEZONE
BEGIN:VEVENT
DTSTART;TZID=UTC:20251028T080000
DTEND;TZID=UTC:20251030T170000
DTSTAMP:20260424T122157
CREATED:20250924T201918Z
LAST-MODIFIED:20250924T201918Z
UID:10000608-1761638400-1761843600@hcca.net
SUMMARY:Custom Training - Registration Closed
DESCRIPTION:
URL:https://hcca.net/event/custom-training-registration-closed-5/
LOCATION:VA
CATEGORIES:VA Construction Safety Training Calendar
END:VEVENT
BEGIN:VEVENT
DTSTART;TZID=UTC:20251023T080000
DTEND;TZID=UTC:20251024T170000
DTSTAMP:20260424T122157
CREATED:20241210T064453Z
LAST-MODIFIED:20251020T172920Z
UID:10000564-1761206400-1761325200@hcca.net
SUMMARY:VDOT Work Zone Intermediate Traffic Control Training (Online) - PLEASE CALL TO REGISTER
DESCRIPTION:
URL:https://hcca.net/event/vdot-work-zone-intermediate-traffic-control-training-online-16/
LOCATION:ONLINE
CATEGORIES:VA Construction Safety Training Calendar
END:VEVENT
BEGIN:VEVENT
DTSTART;TZID=UTC:20251022T080000
DTEND;TZID=UTC:20251022T170000
DTSTAMP:20260424T122157
CREATED:20241210T062535Z
LAST-MODIFIED:20251016T173402Z
UID:10000545-1761120000-1761152400@hcca.net
SUMMARY:VDOT Erosion & Sediment Control Contractors Certification Course for Qualified Personnel (Online) - PLEASE CALL TO REGISTER
DESCRIPTION:
URL:https://hcca.net/event/vdot-erosion-sediment-control-contractors-certification-course-for-qualified-personnel-online-9/
LOCATION:ONLINE
CATEGORIES:VA Construction Safety Training Calendar
END:VEVENT
BEGIN:VEVENT
DTSTART;TZID=UTC:20251022T080000
DTEND;TZID=UTC:20251022T130000
DTSTAMP:20260424T122157
CREATED:20250610T205755Z
LAST-MODIFIED:20250610T205755Z
UID:10000598-1761120000-1761138000@hcca.net
SUMMARY:Clay Shoot Tournamnet
DESCRIPTION:Registration includes one raffle ticket per shooter\, breakfast\, BBQ Lunch\, and ammunition.   \nSchedule:8:00AM Breakfast & Check-In8:50AM Safety Meeting9:00AM Begin Shoot11:30AM Lunch & Awards1:00PM Event Ends \nPlease note: \n\nNEW THIS YEAR: Teams of 6!\nBring your own gun or you will be provided one.\nPersonal shotguns shall meet range requirements.\nAmmunition will be provided.\nEach Shooter will take 50 shots.\nAwards: 1st\, 2nd & 3rd team trophies & individual High Gun.\n\nTeam scores based on top 4 shooters\n\n\nAll Shooters MUST wear eye protection & ear protection.\nRegistration Type *Team of 6 & Station Sponsorship: $1500Half Team of 3 & Station Sponsorship: $800Individual Shooter: $250Individuals and Teams of 3 will be grouped with peers.SponsorshipSOLD OUT Lunch Sponsor: Core & MainAwards Sponsorship : $400SOLD OUT Raffle Prize Sponsor: Superior Paving Corp.SOLD OUT Breakfast Sponsor: Atlantic Const. UtilitiesSOLD OUT Shooting Station Sponsorship : $200Company *Email Address *Attendee(s):Total CostInvoice Me *Yes\, I would like to be invoiced for the full amount due.No\, I would like to pay now.SUBMIT REGISTRATION
URL:https://hcca.net/event/clay-shoot-tournamnet/
LOCATION:Bull Run Shooting Center\, 7700 Bull Run Dr\, Centreville\, VA\, 20121\, United States
CATEGORIES:VA Construction Events Calendar
ORGANIZER;CN="Ashley Hutson":MAILTO:ashley@hcca.net
END:VEVENT
BEGIN:VEVENT
DTSTART;TZID=UTC:20251021T080000
DTEND;TZID=UTC:20251021T170000
DTSTAMP:20260424T122157
CREATED:20241210T071334Z
LAST-MODIFIED:20250924T200818Z
UID:10000582-1761033600-1761066000@hcca.net
SUMMARY:First Aid/CPR/AED Training (In Person)
DESCRIPTION:Register
URL:https://hcca.net/event/first-aid-cpr-aed-training-in-person-14/
LOCATION:HCCA\, 9251 Industrial Ct\, Suite 201\, Manassas\, VA\, 20109\, United States
CATEGORIES:VA Construction Safety Training Calendar
END:VEVENT
BEGIN:VEVENT
DTSTART;TZID=UTC:20251020T080000
DTEND;TZID=UTC:20251020T170000
DTSTAMP:20260424T122157
CREATED:20241210T065754Z
LAST-MODIFIED:20251016T173242Z
UID:10000388-1760947200-1760979600@hcca.net
SUMMARY:Work Zone Basic Traffic Control Training (In Person) - CLASS CANCELLED
DESCRIPTION:
URL:https://hcca.net/event/work-zone-basic-traffic-control-training-in-person-16/
LOCATION:HCCA\, 9251 Industrial Ct\, Suite 201\, Manassas\, VA\, 20109\, United States
CATEGORIES:VA Construction Safety Training Calendar
END:VEVENT
BEGIN:VEVENT
DTSTART;TZID=UTC:20251015T160000
DTEND;TZID=UTC:20251015T190000
DTSTAMP:20260424T122157
CREATED:20241113T233102Z
LAST-MODIFIED:20250530T185329Z
UID:10000497-1760544000-1760554800@hcca.net
SUMMARY:Member Appreciation Happy Hour
DESCRIPTION:HCCA appreciates the dedication and support from our Member Firms.To show our appreciation\, two individuals from every HCCA firm are invited to attend a free happy hour at the Farm Brewery at Broad Run. \n$50 / additional attendee. To register more than two attendees\, email events@hcca.net Registration *HCCA Member : FreeNon - Member: $100No. of Attendees *Company *Email Address *Attendee(s):Total CostInvoice Me *Yes\, I would like to be invoiced for the full amount due.No\, I would like to pay now.SUBMIT REGISTRATION
URL:https://hcca.net/event/member-appreciation-happy-hour/
LOCATION:Farm Brewery
CATEGORIES:VA Construction Events Calendar
ORGANIZER;CN="Ashley Hutson":MAILTO:ashley@hcca.net
END:VEVENT
BEGIN:VEVENT
DTSTART;TZID=UTC:20251013T080000
DTEND;TZID=UTC:20251016T170000
DTSTAMP:20260424T122157
CREATED:20250924T201848Z
LAST-MODIFIED:20250924T201848Z
UID:10000607-1760342400-1760634000@hcca.net
SUMMARY:Custom Training - Registration Closed
DESCRIPTION:
URL:https://hcca.net/event/custom-training-registration-closed-4/
LOCATION:VA
CATEGORIES:VA Construction Safety Training Calendar
END:VEVENT
BEGIN:VEVENT
DTSTART;TZID=UTC:20251009T080000
DTEND;TZID=UTC:20251010T170000
DTSTAMP:20260424T122157
CREATED:20241210T064348Z
LAST-MODIFIED:20241210T064348Z
UID:10000563-1759996800-1760115600@hcca.net
SUMMARY:VDOT Work Zone Intermediate Traffic Control Training (In Person)
DESCRIPTION:Register
URL:https://hcca.net/event/vdot-work-zone-intermediate-traffic-control-training-in-person-19/
LOCATION:HCCA\, 9251 Industrial Ct\, Suite 201\, Manassas\, VA\, 20109\, United States
CATEGORIES:VA Construction Safety Training Calendar
END:VEVENT
BEGIN:VEVENT
DTSTART;TZID=UTC:20251008T080000
DTEND;TZID=UTC:20251008T170000
DTSTAMP:20260424T122157
CREATED:20241210T062442Z
LAST-MODIFIED:20251007T204345Z
UID:10000544-1759910400-1759942800@hcca.net
SUMMARY:VDOT Erosion & Sediment Control Contractors Certification Course for Qualified Personnel (In Person) - CLASS CANCELLED
DESCRIPTION:
URL:https://hcca.net/event/vdot-erosion-sediment-control-contractors-certification-course-for-qualified-personnel-in-person-6/
LOCATION:HCCA\, 9251 Industrial Ct\, Suite 201\, Manassas\, VA\, 20109\, United States
CATEGORIES:VA Construction Safety Training Calendar
END:VEVENT
BEGIN:VEVENT
DTSTART;TZID=UTC:20251007T160000
DTEND;TZID=UTC:20251007T173000
DTSTAMP:20260424T122157
CREATED:20250814T144006Z
LAST-MODIFIED:20250814T144006Z
UID:10000604-1759852800-1759858200@hcca.net
SUMMARY:Hard Hat Harmony: Communication & Conflict Resolution for Construction Teams
DESCRIPTION:Know Your NumbersAll Members of the HCCA are Invited to attend this FREE educational event. \nSarah Clogan\, Onsite Wellness Coach of Allan Myers\, will discuss the importance of keeping up to date with your health and how to track it. Attend this seminar for better understanding of the following: \n\nbasic health screening\ndisease risk factors\npreventative care\n\nHosted by the HCCA Women in Construction Registration *HCCA Member : FreeNo. of Attendees *Company *Email Address *Attendee(s):Total CostInvoice Me *Complete RegistrationSUBMIT REGISTRATION
URL:https://hcca.net/event/hard-hat-harmony-communication-conflict-resolution-for-construction-teams/
LOCATION:The Anderson Company\, 12150 TAC Court\, Manassas\, VA\, 20109\, United States
CATEGORIES:VA Construction Events Calendar
ORGANIZER;CN="Ashley Hutson":MAILTO:ashley@hcca.net
END:VEVENT
BEGIN:VEVENT
DTSTART;TZID=UTC:20251006T080000
DTEND;TZID=UTC:20251007T170000
DTSTAMP:20260424T122157
CREATED:20250924T201718Z
LAST-MODIFIED:20250924T201751Z
UID:10000606-1759737600-1759856400@hcca.net
SUMMARY:Custom Training - Registration Closed
DESCRIPTION:
URL:https://hcca.net/event/custom-class-3/
LOCATION:VA
CATEGORIES:VA Construction Safety Training Calendar
END:VEVENT
BEGIN:VEVENT
DTSTART;TZID=UTC:20251004T100000
DTEND;TZID=UTC:20251004T140000
DTSTAMP:20260424T122157
CREATED:20250730T205051Z
LAST-MODIFIED:20250730T205051Z
UID:10000603-1759572000-1759586400@hcca.net
SUMMARY:Big Dig of Northern Virginia
DESCRIPTION:The Big Dig of Northern Virginia is a one-of-a-kind event where kids and adults can experience the excitement of operating heavy machinery\, including excavators\,scissor lifts\, and more\, all under the supervision of skilled construction professionals.  Since its debut in 2021\, the Big Dig has become a cornerstone event in the fight against pediatric cancer\, raising over$450\,000 to date. This year\, we are thrilled to partner exclusively with Inova Children’s\, furthering our commitment to support children and families facing pediatric cancer in Northern Virginia.Proceeds from the event will support critical pediatric cancer initiatives at Inova Children’s.The Big Dig offers a day of fun\,connection\, and impact for the entire family. Join us for an unforgettable experience that makes a real difference in the lives of children battling cancer. Rain date 10/5/25 \nClick Here to Sponsor the Big Dig / Click Here for PDF Sponsorship Package
URL:https://hcca.net/event/big-dig-of-northern-virginia/
LOCATION:Van Metre Homes\, 43045 Van Metre Dr Suite 200\, Ashburn\, VA\, 20148\, United States
CATEGORIES:VA Construction Events Calendar
END:VEVENT
BEGIN:VEVENT
DTSTART;TZID=UTC:20251002T080000
DTEND;TZID=UTC:20251003T170000
DTSTAMP:20260424T122157
CREATED:20250924T201619Z
LAST-MODIFIED:20250924T201821Z
UID:10000605-1759392000-1759510800@hcca.net
SUMMARY:Custom Training - Registration Closed
DESCRIPTION:
URL:https://hcca.net/event/custom-class-2/
LOCATION:VA
CATEGORIES:VA Construction Safety Training Calendar
END:VEVENT
BEGIN:VEVENT
DTSTART;TZID=UTC:20250930T080000
DTEND;TZID=UTC:20251001T170000
DTSTAMP:20260424T122157
CREATED:20250924T202002Z
LAST-MODIFIED:20250924T202002Z
UID:10000609-1759219200-1759338000@hcca.net
SUMMARY:Custom Training - Registration Closed
DESCRIPTION:
URL:https://hcca.net/event/custom-training-registration-closed-6/
LOCATION:VA
CATEGORIES:VA Construction Safety Training Calendar
END:VEVENT
BEGIN:VEVENT
DTSTART;TZID=UTC:20250929T080000
DTEND;TZID=UTC:20250929T170000
DTSTAMP:20260424T122157
CREATED:20241210T070421Z
LAST-MODIFIED:20250926T161111Z
UID:10000573-1759132800-1759165200@hcca.net
SUMMARY:Work Zone Basic Traffic Control Training in Spanish (In Person) - CANCELLED
DESCRIPTION:
URL:https://hcca.net/event/work-zone-basic-traffic-control-training-in-spanish-in-person-7/
LOCATION:HCCA\, 9251 Industrial Ct\, Suite 201\, Manassas\, VA\, 20109\, United States
CATEGORIES:VA Construction Safety Training Calendar
END:VEVENT
BEGIN:VEVENT
DTSTART;TZID=UTC:20250925T080000
DTEND;TZID=UTC:20250926T170000
DTSTAMP:20260424T122157
CREATED:20241210T064258Z
LAST-MODIFIED:20250918T181002Z
UID:10000562-1758787200-1758906000@hcca.net
SUMMARY:VDOT Work Zone Intermediate Traffic Control Training (Online) - Call to Register
DESCRIPTION:
URL:https://hcca.net/event/vdot-work-zone-intermediate-traffic-control-training-online-15/
LOCATION:ONLINE
CATEGORIES:VA Construction Safety Training Calendar
END:VEVENT
BEGIN:VEVENT
DTSTART;TZID=UTC:20250924T080000
DTEND;TZID=UTC:20250924T170000
DTSTAMP:20260424T122157
CREATED:20241210T062402Z
LAST-MODIFIED:20250918T181044Z
UID:10000543-1758700800-1758733200@hcca.net
SUMMARY:VDOT Erosion & Sediment Control Contractors Certification Course for Qualified Personnel (Online or In Person) - Call to Register
DESCRIPTION:
URL:https://hcca.net/event/vdot-erosion-sediment-control-contractors-certification-course-for-qualified-personnel-online-or-in-person-2/
LOCATION:VA
CATEGORIES:VA Construction Safety Training Calendar
END:VEVENT
BEGIN:VEVENT
DTSTART;TZID=UTC:20250923T113000
DTEND;TZID=UTC:20250923T133000
DTSTAMP:20260424T122157
CREATED:20241113T233016Z
LAST-MODIFIED:20250804T174902Z
UID:10000496-1758627000-1758634200@hcca.net
SUMMARY:Lunch & Learn: Hiring from Skilled Trades Programs
DESCRIPTION:This FREE open house style lunch and learn is an opportunity for HCCA members to learn about the Heavy Equipment Operator program\, and other skilled trade programs\, and how to hire from them! \nStop by\, grab a bite\, and learn how your Company can benefit from partnership with Laurel Ridge Community College. \nPlease Click "Complete Registration without Payment" to submit registration.  Registration *HCCA Member : FreeNo. of Attendees *Company *Email Address *Attendee(s):Total CostInvoice Me *Complete RegistrationSUBMIT REGISTRATION
URL:https://hcca.net/event/lunchlearn/
LOCATION:Laurel Ridge Community College – Fauquier\, 6480 College St\, Warrenton\, VA\, 20187\, United States
CATEGORIES:VA Construction Events Calendar
ORGANIZER;CN="Ashley Hutson":MAILTO:ashley@hcca.net
END:VEVENT
BEGIN:VEVENT
DTSTART;TZID=UTC:20250922T080000
DTEND;TZID=UTC:20250922T170000
DTSTAMP:20260424T122157
CREATED:20241210T065708Z
LAST-MODIFIED:20241210T065708Z
UID:10000387-1758528000-1758560400@hcca.net
SUMMARY:Work Zone Basic Traffic Control Training (In Person)
DESCRIPTION:Register
URL:https://hcca.net/event/work-zone-basic-traffic-control-training-in-person-15/
LOCATION:HCCA\, 9251 Industrial Ct\, Suite 201\, Manassas\, VA\, 20109\, United States
CATEGORIES:VA Construction Safety Training Calendar
END:VEVENT
BEGIN:VEVENT
DTSTART;TZID=UTC:20250918T080000
DTEND;TZID=UTC:20250919T170000
DTSTAMP:20260424T122157
CREATED:20241210T064141Z
LAST-MODIFIED:20241210T064141Z
UID:10000561-1758182400-1758301200@hcca.net
SUMMARY:VDOT Work Zone Intermediate Traffic Control Training (In Person)
DESCRIPTION:Register
URL:https://hcca.net/event/vdot-work-zone-intermediate-traffic-control-training-in-person-18/
LOCATION:HCCA\, 9251 Industrial Ct\, Suite 201\, Manassas\, VA\, 20109\, United States
CATEGORIES:VA Construction Safety Training Calendar
END:VEVENT
BEGIN:VEVENT
DTSTART;TZID=UTC:20250915T080000
DTEND;TZID=UTC:20250915T170000
DTSTAMP:20260424T122157
CREATED:20241210T071301Z
LAST-MODIFIED:20241210T071301Z
UID:10000581-1757923200-1757955600@hcca.net
SUMMARY:First Aid/CPR/AED Training (In Person)
DESCRIPTION:Register
URL:https://hcca.net/event/first-aid-cpr-aed-training-in-person-13/
LOCATION:HCCA\, 9251 Industrial Ct\, Suite 201\, Manassas\, VA\, 20109\, United States
CATEGORIES:VA Construction Safety Training Calendar
END:VEVENT
BEGIN:VEVENT
DTSTART;TZID=UTC:20250912T080000
DTEND;TZID=UTC:20250912T150000
DTSTAMP:20260424T122157
CREATED:20241113T232918Z
LAST-MODIFIED:20250814T180347Z
UID:10000495-1757664000-1757689200@hcca.net
SUMMARY:Presidents' Cup Golf Tournament
DESCRIPTION:This event is sold out!!
URL:https://hcca.net/event/presidents-cup-golf-tournament-4/
LOCATION:Twin Lakes Golf Course\, 6201 Union Mill Road Clifton\, VA\, VA\, United States
CATEGORIES:VA Construction Events Calendar
END:VEVENT
BEGIN:VEVENT
DTSTART;TZID=UTC:20250824T080000
DTEND;TZID=UTC:20250824T110000
DTSTAMP:20260424T122157
CREATED:20241113T232820Z
LAST-MODIFIED:20250501T222804Z
UID:10000494-1756022400-1756033200@hcca.net
SUMMARY:Ditch Diggers Dash 5K & Touch a Truck
DESCRIPTION:This 100% charitable 5K and Touch a Truck supports the Sweet Julia Grace Foundation and the HCCA Family Relief Fund. \nThe Start/Finish line will be staged at Brown & Brown Insurance. After the last runner heads north on Discovery Blvd\, the police will allow runners to drive to 2Silos to enjoy a beverage prior to awards being announced. Runners must be present at 8:00AM\, prior to the kids fun run. Strollers and pets (bring dog bags) are welcome at rear at 5K. \nHeavy Equipment will be on site for children to experience the view from the operators seat\, thanks to generous HCCA member sponsors! \nPLEASE FILL OUT ONE FORM PER PERSON. \nFor Event Website visit: https://runsignup.com/Race/VA/Manassas/DitchDiggersDash5K RegistrationAdult RunnerYouth Runner (12 & Under)Touch a Truck OnlySponsorshipsEvent Sponsorship : $500Runner Name *Age on Race DayHCCA Firm (if applicable)Unisex T-Shirt Size (Small - 3XL)Phone *Email *\nIn consideration of you accepting this entry\, I\, the participant\, intending to be legally bound\,  do hereby waive and forever release any and all right and claims for damages or injuries that I may have against HCCA\, RunSignup.com\, 2 Silos Brewing\, Sweet Julia Grace Foundation and all of their agents assisting with the event\, sponsors and their representatives\, volunteers and employees for any and all injuries to me or my personal property resulting from my participation in or attendance at the event or related activities\, including the “touch a truck” event. This release includes all injuries and/or damages suffered by me before\, during or after the event.  I acknowledge that my participation involves the risk of injury or death and hereby assume all such risk.  I recognize\, intend\, and understand that this release is binding on my heirs\, executors\, administrators\, or assignees. \nI know that running a road race is a potentially hazardous activity. I should not enter and run unless I am medically able to do so and properly trained. I assume all risks associated with running in this event including\, but not limited to: falls\, contact with other participants\, the effects of weather\, traffic\, and course conditions\, and waive any and all claims which I might have based on any of those and other risks typical found in running a road race. I acknowledge all such risks are known and understood by me. I agree to abide by all decisions of any race official relative to my ability to safely complete the run. I certify as a material condition to my being permitted to enter this race that I am physically fit and sufficiently trained for the completion of this event and that a licensed Medical Doctor has verified my physical condition. \nIn the event of an illness\, injury or medical emergency arising during the event I hereby authorize and give my consent to the Event Director to secure from any accredited hospital\, clinic and/ or physician any treatment deemed necessary for my immediate care. I agree that I will be fully responsible for payment of any and all medical services and treatment rendered to me including but not limited to medical transport\, medications\, treatment and hospitalization. \nBy submitting this entry\, I acknowledge (or a parent or adult guardian for all children under 18 years) having read and agreed to the above release and waiver. \nFurther\, I grant permission to HCCA\, Runsignup.com\, and Sweet Julia Grace Foundation to use my name\, voice\, and images of myself in any photographs\, motion pictures\, results\, publications or any other print\, videographic or electronic recording of this event for legitimate purposes. \nTotal CostInvoice Me *Yes\, I would like to be invoiced for the full amount due.No\, I would like to pay now.SUBMIT REGISTRATION
URL:https://hcca.net/event/ditch-diggers-dash-5k-touch-a-truck/
LOCATION:VA
CATEGORIES:VA Construction Events Calendar
END:VEVENT
BEGIN:VEVENT
DTSTART;TZID=UTC:20250821T080000
DTEND;TZID=UTC:20250822T170000
DTSTAMP:20260424T122157
CREATED:20241210T064101Z
LAST-MODIFIED:20250818T183246Z
UID:10000560-1755763200-1755882000@hcca.net
SUMMARY:VDOT Work Zone Intermediate Traffic Control Training (Online) - Call to Register
DESCRIPTION:
URL:https://hcca.net/event/vdot-work-zone-intermediate-traffic-control-training-online-14/
LOCATION:ONLINE
CATEGORIES:VA Construction Safety Training Calendar
END:VEVENT
BEGIN:VEVENT
DTSTART;TZID=UTC:20250820T160000
DTEND;TZID=UTC:20251105T190000
DTSTAMP:20260424T122157
CREATED:20251105T230606Z
LAST-MODIFIED:20251105T230606Z
UID:10000626-1755705600-1762369200@hcca.net
SUMMARY:Networking Event
DESCRIPTION:More Details to Come!
URL:https://hcca.net/event/networking-event-2/
LOCATION:VA
CATEGORIES:VA Construction Events Calendar
END:VEVENT
BEGIN:VEVENT
DTSTART;TZID=UTC:20250818T080000
DTEND;TZID=UTC:20250818T170000
DTSTAMP:20260424T122157
CREATED:20241210T070338Z
LAST-MODIFIED:20241210T070338Z
UID:10000572-1755504000-1755536400@hcca.net
SUMMARY:Work Zone Basic Traffic Control Training in Spanish (In Person)
DESCRIPTION:Register
URL:https://hcca.net/event/work-zone-basic-traffic-control-training-in-spanish-in-person-6/
LOCATION:HCCA\, 9251 Industrial Ct\, Suite 201\, Manassas\, VA\, 20109\, United States
CATEGORIES:VA Construction Safety Training Calendar
END:VEVENT
BEGIN:VEVENT
DTSTART;TZID=UTC:20250814T160000
DTEND;TZID=UTC:20250814T190000
DTSTAMP:20260424T122157
CREATED:20250610T203014Z
LAST-MODIFIED:20250610T203325Z
UID:10000597-1755187200-1755198000@hcca.net
SUMMARY:No.1 Networking at No.1 Golf Lounge
DESCRIPTION:This event will showcase HCCA’s small/diverse businesses. Bring business cards\, a golf club(optional) and get ready for an evening of No.1 Networking. \nRegistration includes drink ticket & light appetizers. \nGolf is optional. \nClick Here for PDF Registration *HCCA Member : $50.00Non-Member : $85.00No. of Attendees *Company *Email Address *Attendee(s):SponsorshipSOLD OUT Event Sponsor : Branscome PavingSOLD OUT Co-Sponsorship : William A. HazelTotal CostInvoice Me *Yes\, I would like to be invoiced for the full amount due.No\, I would like to pay now.SUBMIT REGISTRATION
URL:https://hcca.net/event/no-1-networking-at-no-1-golf-lounge/
LOCATION:No. 1 Golf Lounge\, 5938 Centreville Crest Ln\, Centreville\, VA\, United States
CATEGORIES:VA Construction Events Calendar
ORGANIZER;CN="Ashley Hutson":MAILTO:ashley@hcca.net
END:VEVENT
BEGIN:VEVENT
DTSTART;TZID=UTC:20250814T080000
DTEND;TZID=UTC:20250814T170000
DTSTAMP:20260424T122157
CREATED:20241210T065631Z
LAST-MODIFIED:20250811T190712Z
UID:10000386-1755158400-1755190800@hcca.net
SUMMARY:Work Zone Basic Traffic Control Training (In Person)
DESCRIPTION:Register
URL:https://hcca.net/event/work-zone-basic-traffic-control-training-in-person-14/
LOCATION:HCCA\, 9251 Industrial Ct\, Suite 201\, Manassas\, VA\, 20109\, United States
CATEGORIES:VA Construction Safety Training Calendar
END:VEVENT
BEGIN:VEVENT
DTSTART;TZID=UTC:20250813T080000
DTEND;TZID=UTC:20250813T170000
DTSTAMP:20260424T122157
CREATED:20241210T062315Z
LAST-MODIFIED:20250807T195551Z
UID:10000542-1755072000-1755104400@hcca.net
SUMMARY:VDOT Erosion & Sediment Control Contractors Certification Course for Qualified Personnel (Online or In Person) - Please call to register
DESCRIPTION:
URL:https://hcca.net/event/vdot-erosion-sediment-control-contractors-certification-course-for-qualified-personnel-online-or-in-person/
LOCATION:VA
CATEGORIES:VA Construction Safety Training Calendar
END:VEVENT
END:VCALENDAR