BEGIN:VCALENDAR
VERSION:2.0
PRODID:-//HCCA - ECPv6.15.17.1//NONSGML v1.0//EN
CALSCALE:GREGORIAN
METHOD:PUBLISH
X-WR-CALNAME:HCCA
X-ORIGINAL-URL:https://hcca.net
X-WR-CALDESC:Events for HCCA
REFRESH-INTERVAL;VALUE=DURATION:PT1H
X-Robots-Tag:noindex
X-PUBLISHED-TTL:PT1H
BEGIN:VTIMEZONE
TZID:UTC
BEGIN:STANDARD
TZOFFSETFROM:+0000
TZOFFSETTO:+0000
TZNAME:UTC
DTSTART:20220101T000000
END:STANDARD
END:VTIMEZONE
BEGIN:VEVENT
DTSTART;TZID=UTC:20240125T080000
DTEND;TZID=UTC:20240126T170000
DTSTAMP:20260425T225036
CREATED:20231128T213710Z
LAST-MODIFIED:20231128T213710Z
UID:10000329-1706169600-1706288400@hcca.net
SUMMARY:OSHA 10 (In Person)
DESCRIPTION:Register
URL:https://hcca.net/event/osha-10-in-person-4/
LOCATION:HCCA\, 9251 Industrial Ct\, Suite 201\, Manassas\, VA\, 20109\, United States
CATEGORIES:VA Construction Safety Training Calendar
END:VEVENT
BEGIN:VEVENT
DTSTART;TZID=UTC:20240124T080000
DTEND;TZID=UTC:20240124T170000
DTSTAMP:20260425T225036
CREATED:20231128T213452Z
LAST-MODIFIED:20240121T055947Z
UID:10000328-1706083200-1706115600@hcca.net
SUMMARY:VDOT Erosion & Sediment Control Contractors Certification (CLASS IS FULL - REGISTATION CLOSED)
DESCRIPTION:
URL:https://hcca.net/event/vdot-erosion-sediment-control-contractors-certification-in-person/
LOCATION:HCCA\, 9251 Industrial Ct\, Suite 201\, Manassas\, VA\, 20109\, United States
CATEGORIES:VA Construction Safety Training Calendar
END:VEVENT
BEGIN:VEVENT
DTSTART;TZID=UTC:20240123T080000
DTEND;TZID=UTC:20240123T170000
DTSTAMP:20260425T225036
CREATED:20231128T215053Z
LAST-MODIFIED:20231128T215122Z
UID:10000338-1705996800-1706029200@hcca.net
SUMMARY:OSHA 30- Spanish Day 3 – Training is 4 days (REGISTRATION CLOSED)
DESCRIPTION:
URL:https://hcca.net/event/osha-30-spanish-day-3-training-is-4-days-registration-closed/
LOCATION:HCCA\, 9251 Industrial Ct\, Suite 201\, Manassas\, VA\, 20109\, United States
CATEGORIES:VA Construction Safety Training Calendar
END:VEVENT
BEGIN:VEVENT
DTSTART;TZID=UTC:20240122T080000
DTEND;TZID=UTC:20240122T170000
DTSTAMP:20260425T225036
CREATED:20231128T214002Z
LAST-MODIFIED:20240105T224335Z
UID:10000331-1705910400-1705942800@hcca.net
SUMMARY:First Aid/CPR/AED (Class is Full)
DESCRIPTION:
URL:https://hcca.net/event/first-aid-cpr-aed-in-person-10/
LOCATION:HCCA\, 9251 Industrial Ct\, Suite 201\, Manassas\, VA\, 20109\, United States
CATEGORIES:VA Construction Safety Training Calendar
END:VEVENT
BEGIN:VEVENT
DTSTART;TZID=UTC:20240118T080000
DTEND;TZID=UTC:20240119T170000
DTSTAMP:20260425T225036
CREATED:20231128T212606Z
LAST-MODIFIED:20240109T211136Z
UID:10000184-1705564800-1705683600@hcca.net
SUMMARY:VDOT Work Zone Intermediate Traffic Control Training (In Person)
DESCRIPTION:Register
URL:https://hcca.net/event/work-zone-intermediate-in-person-2/
LOCATION:HCCA\, 9251 Industrial Ct\, Suite 201\, Manassas\, VA\, 20109\, United States
CATEGORIES:VA Construction Safety Training Calendar
END:VEVENT
BEGIN:VEVENT
DTSTART;TZID=UTC:20240117T160000
DTEND;TZID=UTC:20240117T190000
DTSTAMP:20260425T225036
CREATED:20231113T235443Z
LAST-MODIFIED:20231114T000523Z
UID:10000172-1705507200-1705518000@hcca.net
SUMMARY:Vendor Showcase
DESCRIPTION:Vendor Showcase\nAttendees: HCCA's biggest annual networking event! Meet Vendors\, Contractors\, & Business Firms from the HCCA. Visit with old colleagues & build new connections for products & services. \n\nExhibitors: Tables are exclusive and free with member registration for HCCA members. Space is limited. Register now! Registration Type *HCCA MEMBER PRICE PER ATTENDEE : $85.00NON-MEMBER PRICE PER ATTENDEE: $140.00SponsorshipSOLD Event Sponsorship : Link-Belt Mid-AtlanticSOLD Co-Sponsors: Long Island Lumber\, John Marshall Bank\, & MOOVEDisplay Table?Sold Out - Join the Wait listNo. of Attendees *Company *Email Address *Attendee(s):Total CostInvoice Me *Yes\, I would like to be invoiced for the full amount due.No\, I would like to pay now.SUBMIT REGISTRATION
URL:https://hcca.net/event/vendor-showcase-2/
LOCATION:Old Hickory Golf Club\, 11921 Chanceford Dr\, Woodbridge\, VA\, 22192\, United States
CATEGORIES:VA Construction Events Calendar
ORGANIZER;CN="Ashley Hutson":MAILTO:ashley@hcca.net
END:VEVENT
BEGIN:VEVENT
DTSTART;TZID=UTC:20240117T130000
DTEND;TZID=UTC:20240117T150000
DTSTAMP:20260425T225036
CREATED:20231128T213222Z
LAST-MODIFIED:20231128T213222Z
UID:10000327-1705496400-1705503600@hcca.net
SUMMARY:Lock Out Tag Out (In Person)
DESCRIPTION:Register
URL:https://hcca.net/event/lock-out-tag-out-in-person/
LOCATION:HCCA\, 9251 Industrial Ct\, Suite 201\, Manassas\, VA\, 20109\, United States
CATEGORIES:VA Construction Safety Training Calendar
END:VEVENT
BEGIN:VEVENT
DTSTART;TZID=UTC:20240117T110000
DTEND;TZID=UTC:20240117T130000
DTSTAMP:20260425T225036
CREATED:20231128T213117Z
LAST-MODIFIED:20231128T213117Z
UID:10000326-1705489200-1705496400@hcca.net
SUMMARY:Fall Protection (In Person)
DESCRIPTION:Register
URL:https://hcca.net/event/fall-protection-in-person/
LOCATION:HCCA\, 9251 Industrial Ct\, Suite 201\, Manassas\, VA\, 20109\, United States
CATEGORIES:VA Construction Safety Training Calendar
END:VEVENT
BEGIN:VEVENT
DTSTART;TZID=UTC:20240117T080000
DTEND;TZID=UTC:20240117T110000
DTSTAMP:20260425T225036
CREATED:20231128T212958Z
LAST-MODIFIED:20231128T212958Z
UID:10000325-1705478400-1705489200@hcca.net
SUMMARY:Confined Space (In Person)
DESCRIPTION:Register
URL:https://hcca.net/event/confined-space-in-person/
LOCATION:HCCA\, 9251 Industrial Ct\, Suite 201\, Manassas\, VA\, 20109\, United States
CATEGORIES:VA Construction Safety Training Calendar
END:VEVENT
BEGIN:VEVENT
DTSTART;TZID=UTC:20240116T080000
DTEND;TZID=UTC:20240116T170000
DTSTAMP:20260425T225036
CREATED:20231128T214949Z
LAST-MODIFIED:20231128T214949Z
UID:10000337-1705392000-1705424400@hcca.net
SUMMARY:OSHA 30- Spanish Day 2 – Training is 4 days (REGISTRATION CLOSED)
DESCRIPTION:
URL:https://hcca.net/event/osha-30-spanish-day-2-training-is-4-days-registration-closed/
LOCATION:HCCA\, 9251 Industrial Ct\, Suite 201\, Manassas\, VA\, 20109\, United States
CATEGORIES:VA Construction Safety Training Calendar
END:VEVENT
BEGIN:VEVENT
DTSTART;TZID=UTC:20240115T080000
DTEND;TZID=UTC:20240115T170000
DTSTAMP:20260425T225036
CREATED:20231128T213852Z
LAST-MODIFIED:20240109T214015Z
UID:10000330-1705305600-1705338000@hcca.net
SUMMARY:First Aid/CPR/AED Training (Class is Full)
DESCRIPTION:
URL:https://hcca.net/event/first-aid-cpr-aed-in-person-9/
LOCATION:HCCA\, 9251 Industrial Ct\, Suite 201\, Manassas\, VA\, 20109\, United States
CATEGORIES:VA Construction Safety Training Calendar
END:VEVENT
BEGIN:VEVENT
DTSTART;TZID=UTC:20240111T080000
DTEND;TZID=UTC:20240112T170000
DTSTAMP:20260425T225036
CREATED:20231128T212308Z
LAST-MODIFIED:20240109T211114Z
UID:10000182-1704960000-1705078800@hcca.net
SUMMARY:VDOT Work Zone Intermediate Traffic Control Training (In Person)
DESCRIPTION:Register
URL:https://hcca.net/event/work-zone-intermediate-in-person/
LOCATION:HCCA\, 9251 Industrial Ct\, Suite 201\, Manassas\, VA\, 20109\, United States
CATEGORIES:VA Construction Safety Training Calendar
END:VEVENT
BEGIN:VEVENT
DTSTART;TZID=UTC:20240110T080000
DTEND;TZID=UTC:20240110T170000
DTSTAMP:20260425T225036
CREATED:20231128T212118Z
LAST-MODIFIED:20231128T213546Z
UID:10000180-1704873600-1704906000@hcca.net
SUMMARY:VDOT Work Zone Basic - Spanish (In Person)
DESCRIPTION:Register
URL:https://hcca.net/event/work-zone-basic-spanish-in-person/
LOCATION:HCCA\, 9251 Industrial Ct\, Suite 201\, Manassas\, VA\, 20109\, United States
CATEGORIES:VA Construction Safety Training Calendar
END:VEVENT
BEGIN:VEVENT
DTSTART;TZID=UTC:20240109T110000
DTEND;TZID=UTC:20240109T123000
DTSTAMP:20260425T225036
CREATED:20231218T235901Z
LAST-MODIFIED:20231218T235901Z
UID:10000397-1704798000-1704803400@hcca.net
SUMMARY:Safety Lunch & Learn: Jobsite Hazard Analysis
DESCRIPTION:Click Here for PDF \nemail events@hcca.net to register
URL:https://hcca.net/event/safety-lunch-learn-jobsite-hazard-analysis/
LOCATION:ONLINE
CATEGORIES:VA Construction Events Calendar,VA Construction Safety Training Calendar
ORGANIZER;CN="Ashley Hutson":MAILTO:ashley@hcca.net
END:VEVENT
BEGIN:VEVENT
DTSTART;TZID=UTC:20240109T080000
DTEND;TZID=UTC:20240109T170000
DTSTAMP:20260425T225036
CREATED:20231128T214534Z
LAST-MODIFIED:20231128T214807Z
UID:10000336-1704787200-1704819600@hcca.net
SUMMARY:OSHA 30 - Spanish Day 1 Training is 4 days 1/9/24\, 1/16/24\, 1/23/24 & 1/30/24 (In Person)
DESCRIPTION:Register
URL:https://hcca.net/event/osha-30-spanish-in-person/
LOCATION:HCCA\, 9251 Industrial Ct\, Suite 201\, Manassas\, VA\, 20109\, United States
CATEGORIES:VA Construction Safety Training Calendar
END:VEVENT
BEGIN:VEVENT
DTSTART;TZID=UTC:20240105T080000
DTEND;TZID=UTC:20240108T170000
DTSTAMP:20260425T225036
CREATED:20231128T211729Z
LAST-MODIFIED:20231218T193244Z
UID:10000178-1704441600-1704733200@hcca.net
SUMMARY:OSHA 10 - Spanish (In Person) Friday & Monday only
DESCRIPTION:Register
URL:https://hcca.net/event/osha-10-spanish-in-person-3/
LOCATION:HCCA\, 9251 Industrial Ct\, Suite 201\, Manassas\, VA\, 20109\, United States
CATEGORIES:VA Construction Safety Training Calendar
END:VEVENT
BEGIN:VEVENT
DTSTART;TZID=UTC:20231228T080000
DTEND;TZID=UTC:20231229T170000
DTSTAMP:20260425T225036
CREATED:20231130T181604Z
LAST-MODIFIED:20231130T181604Z
UID:10000377-1703750400-1703869200@hcca.net
SUMMARY:Custom Class (REGISTRATION CLOSED)
DESCRIPTION:
URL:https://hcca.net/event/custom-class-registration-closed-6/
LOCATION:VA
CATEGORIES:VA Construction Safety Training Calendar
END:VEVENT
BEGIN:VEVENT
DTSTART;TZID=UTC:20231220T080000
DTEND;TZID=UTC:20231221T163000
DTSTAMP:20260425T225036
CREATED:20221209T233847Z
LAST-MODIFIED:20231121T211141Z
UID:10000259-1703059200-1703176200@hcca.net
SUMMARY:VDOT INTERMEDIATE WORK ZONE - VIRTUAL
DESCRIPTION:Register
URL:https://hcca.net/event/vdot-intermediate-work-zone-in-person-20/
LOCATION:ONLINE
CATEGORIES:VA Construction Safety Training Calendar
END:VEVENT
BEGIN:VEVENT
DTSTART;TZID=UTC:20231218T080000
DTEND;TZID=UTC:20231219T170000
DTSTAMP:20260425T225036
CREATED:20231130T180923Z
LAST-MODIFIED:20231130T181052Z
UID:10000217-1702886400-1703005200@hcca.net
SUMMARY:OSHA 10 - Spanish (In Person)
DESCRIPTION:Register
URL:https://hcca.net/event/osha-10-spanish-in-person-5/
LOCATION:HCCA\, 9251 Industrial Ct\, Suite 201\, Manassas\, VA\, 20109\, United States
CATEGORIES:VA Construction Safety Training Calendar
END:VEVENT
BEGIN:VEVENT
DTSTART;TZID=UTC:20231214T110000
DTEND;TZID=UTC:20231214T130000
DTSTAMP:20260425T225036
CREATED:20231117T213902Z
LAST-MODIFIED:20231121T202953Z
UID:10000176-1702551600-1702558800@hcca.net
SUMMARY:Lunch & Learn: Incident Investigation
DESCRIPTION:The HCCA Safety Committee presents: \nDesigned for all levels of field personnel who are responsible for investigating incidents\, this seminar will provide tips and tools needed for analyzing incidents involving heavy equipment\, vehicles\, and human injury. Attendees will learn: How to plan for incident investigation How to react when an incident occurs How to analyze incidents to identify root causes Professional communication for public relations What data to collect and include in reporting What to do/not do to protect yourself and the Company How to implement these strategies into the Company’s safety program. \n\nRSVP by emailing events@hcca.net \nClick Here for PDF
URL:https://hcca.net/event/lunch-learn-incident-investigation/
LOCATION:The Anderson Company\, 12150 TAC Court\, Manassas\, VA\, 20109\, United States
CATEGORIES:VA Construction Events Calendar,VA Construction Safety Training Calendar
ORGANIZER;CN="Ashley Hutson":MAILTO:ashley@hcca.net
END:VEVENT
BEGIN:VEVENT
DTSTART;TZID=UTC:20231214T080000
DTEND;TZID=UTC:20231215T163000
DTSTAMP:20260425T225036
CREATED:20221209T231204Z
LAST-MODIFIED:20221209T231204Z
UID:10000258-1702540800-1702657800@hcca.net
SUMMARY:OSHA 10 - IN PERSON
DESCRIPTION:Register
URL:https://hcca.net/event/osha-10-in-person-3/
LOCATION:HCCA\, 9251 Industrial Ct\, Suite 201\, Manassas\, VA\, 20109\, United States
CATEGORIES:VA Construction Safety Training Calendar
END:VEVENT
BEGIN:VEVENT
DTSTART;TZID=UTC:20231212T160000
DTEND;TZID=UTC:20231212T190000
DTSTAMP:20260425T225036
CREATED:20231106T205613Z
LAST-MODIFIED:20231115T002014Z
UID:10000168-1702396800-1702407600@hcca.net
SUMMARY:Women In Construction Winter Social
DESCRIPTION:Kick off the Holiday Season with the HCCA Women in Construction for a social event with optional Cookie Decorating. \nStormy Acres Cookies will provide supplies for a private & professional cookie decorating class. Decorate four cookies for $45/person \nRSVP by Nov 20 to events@hcca.net\n*HCCA Members Only* \nClick here for PDF
URL:https://hcca.net/event/women-in-construction-winter-social-2/
LOCATION:Craft Worx Taproom\, 5615 Wellington Rd #101\, Gainesville\, VA 20155\, Gainesville\, VA\, 20155\, United States
CATEGORIES:VA Construction Events Calendar
ORGANIZER;CN="Ashley Hutson":MAILTO:ashley@hcca.net
END:VEVENT
BEGIN:VEVENT
DTSTART;TZID=UTC:20231212T080000
DTEND;TZID=UTC:20231213T170000
DTSTAMP:20260425T225036
CREATED:20231130T181454Z
LAST-MODIFIED:20231130T181454Z
UID:10000376-1702368000-1702486800@hcca.net
SUMMARY:Custom Class (REGISTRATION CLOSED)
DESCRIPTION:
URL:https://hcca.net/event/custom-class-registration-closed-5/
LOCATION:VA
CATEGORIES:VA Construction Safety Training Calendar
END:VEVENT
BEGIN:VEVENT
DTSTART;TZID=UTC:20231212T080000
DTEND;TZID=UTC:20231212T110000
DTSTAMP:20260425T225036
CREATED:20230710T191853Z
LAST-MODIFIED:20231027T201617Z
UID:10000302-1702368000-1702378800@hcca.net
SUMMARY:Legislative Breakfast
DESCRIPTION:This is an opportunity for individual members from the leading trade organizations responsible for conceptualizing\, building\, and maintaining the transportation infrastructure and new construction projects in Northern Virginia to meet legislators representing Northern Virginia. \nEach legislator will be welcome to share their goals for the legislative session and their thoughts on both local and Statewide issues. The relaxed atmosphere embraces new relationships and creates space for dialogue on issues facing infrastructure in the Commonwealth of Virginia. Registration *ATTENDEE : $50.00No. of Attendees *Company *Email Address *Attendee(s):Association Affiliation (Choose all that apply)HCCAVTCAVAAABC-VAODHCANVTA (Alliance)Total CostInvoice Me *Yes\, I would like to be invoiced for the full amount due.No\, I would like to pay now.SUBMIT REGISTRATION
URL:https://hcca.net/event/legislative-breakfast-2/
LOCATION:Northern VA Association of Realtors\, 8407 Pennell Street\, Fairfax\, VA\, 22031\, United States
CATEGORIES:VA Construction Events Calendar
ORGANIZER;CN="Ashley Hutson":MAILTO:ashley@hcca.net
END:VEVENT
BEGIN:VEVENT
DTSTART;TZID=UTC:20231207T100000
DTEND;TZID=UTC:20231207T110000
DTSTAMP:20260425T225036
CREATED:20231116T205412Z
LAST-MODIFIED:20231116T210409Z
UID:10000174-1701943200-1701946800@hcca.net
SUMMARY:Ditch Diggers Dialogue: Equipment Financing
DESCRIPTION:Click Here for PDF\nCalling all Financial Decision Makers & Fleet Managers! \nYou don’t want to miss this educational opportunity. There are many considerations when financing new or used equipment – are you sure you’re getting a great deal? \nMaria Lepkowicz and Staci Zacharko of Truist will share the “do’s and don’ts” of Equipment Financing. Join us for a virtual seminar and find out how you can add $$$ to your bottom line. \nTo receive the Teams link to the Virtual Seminar\, email events@hcca.net
URL:https://hcca.net/event/ditch-diggers-dialogue-equipment-financing/
LOCATION:ONLINE
CATEGORIES:VA Construction Events Calendar
ORGANIZER;CN="Ashley Hutson":MAILTO:ashley@hcca.net
END:VEVENT
BEGIN:VEVENT
DTSTART;TZID=UTC:20231207T100000
DTEND;TZID=UTC:20231207T110000
DTSTAMP:20260425T225036
CREATED:20231030T205620Z
LAST-MODIFIED:20231030T210038Z
UID:10000166-1701943200-1701946800@hcca.net
SUMMARY:Equipment Financing: Do's an Don'ts by Truist
DESCRIPTION:There are many considerations when financing new or used equipment – are you sure you’re getting a great deal? Maria Lepkowicz and Staci Zacharko of Truist will share the “do’s and don’ts” of Equipment Financing. Join us for a virtual seminar and find out how you can add $$$ to your bottom line.  \nRSVP to events@hcca.net for link to join the meeting. \nClick here for PDF
URL:https://hcca.net/event/equipment-financing-dos-an-donts-by-truist/
LOCATION:ONLINE
END:VEVENT
BEGIN:VEVENT
DTSTART;TZID=UTC:20231207T080000
DTEND;TZID=UTC:20231208T163000
DTSTAMP:20260425T225036
CREATED:20221209T224826Z
LAST-MODIFIED:20231121T211026Z
UID:10000256-1701936000-1702053000@hcca.net
SUMMARY:VDOT INTERMEDIATE WORK ZONE - In Person
DESCRIPTION:Register
URL:https://hcca.net/event/vdot-intermediate-work-zone-online-10/
LOCATION:HCCA\, 9251 Industrial Ct\, Suite 201\, Manassas\, VA\, 20109\, United States
CATEGORIES:VA Construction Safety Training Calendar
END:VEVENT
BEGIN:VEVENT
DTSTART;TZID=UTC:20231206T080000
DTEND;TZID=UTC:20231206T170000
DTSTAMP:20260425T225036
CREATED:20221209T224646Z
LAST-MODIFIED:20231026T183643Z
UID:10000255-1701849600-1701882000@hcca.net
SUMMARY:VDOT ESCCC HYBRID (In Person or Online)
DESCRIPTION:Register
URL:https://hcca.net/event/vdot-esccc-online-10/
LOCATION:ONLINE
CATEGORIES:VA Construction Safety Training Calendar
END:VEVENT
BEGIN:VEVENT
DTSTART;TZID=UTC:20231205T160000
DTEND;TZID=UTC:20231205T190000
DTSTAMP:20260425T225036
CREATED:20231023T222932Z
LAST-MODIFIED:20231023T223036Z
UID:10000324-1701792000-1701802800@hcca.net
SUMMARY:Women in Construction Winter Social
DESCRIPTION:Kick off the Holiday Season with the HCCA Women in Construction for a social event with optional Cookie Decorating. \nStormy Acres Cookies will provide supplies for a private & professional cookie decorating class.\nDecorate four cookies for $45/person (cash preferred). https://www.stormyacrescookies.com/  \nPlease reply by email if you plan to attend AND if you plan to decorate cookies.  \nFood Sponsors: The Anderson Company\, H2O Pipe Works\nBeverage Sponsors: Luck Stone\, Vulcan Materials \nRSVP by Nov 20 to events@hcca.net \nClick for PDF
URL:https://hcca.net/event/women-in-construction-winter-social/
LOCATION:Craft Worx Taproom\, 5615 Wellington Rd #101\, Gainesville\, VA 20155\, Gainesville\, VA\, 20155\, United States
ORGANIZER;CN="Ashley Hutson":MAILTO:ashley@hcca.net
END:VEVENT
BEGIN:VEVENT
DTSTART;TZID=UTC:20231205T080000
DTEND;TZID=UTC:20231205T120000
DTSTAMP:20260425T225036
CREATED:20221209T225036Z
LAST-MODIFIED:20231107T190204Z
UID:10000257-1701763200-1701777600@hcca.net
SUMMARY:FIRST AID/CPR/AED - IN PERSON
DESCRIPTION:Register
URL:https://hcca.net/event/first-aid-cpr-aed-in-person-11/
LOCATION:HCCA\, 9251 Industrial Ct\, Suite 201\, Manassas\, VA\, 20109\, United States
CATEGORIES:VA Construction Safety Training Calendar
END:VEVENT
END:VCALENDAR