BEGIN:VCALENDAR
VERSION:2.0
PRODID:-//HCCA - ECPv6.15.17.1//NONSGML v1.0//EN
CALSCALE:GREGORIAN
METHOD:PUBLISH
X-WR-CALNAME:HCCA
X-ORIGINAL-URL:https://hcca.net
X-WR-CALDESC:Events for HCCA
REFRESH-INTERVAL;VALUE=DURATION:PT1H
X-Robots-Tag:noindex
X-PUBLISHED-TTL:PT1H
BEGIN:VTIMEZONE
TZID:UTC
BEGIN:STANDARD
TZOFFSETFROM:+0000
TZOFFSETTO:+0000
TZNAME:UTC
DTSTART:20230101T000000
END:STANDARD
END:VTIMEZONE
BEGIN:VEVENT
DTSTART;TZID=UTC:20240620T080000
DTEND;TZID=UTC:20240621T170000
DTSTAMP:20260425T120040
CREATED:20240109T215508Z
LAST-MODIFIED:20240606T202736Z
UID:10000278-1718870400-1718989200@hcca.net
SUMMARY:OSHA 10 in Spanish (In Person)
DESCRIPTION:Register
URL:https://hcca.net/event/osha-10-in-person-7/
LOCATION:VA
CATEGORIES:VA Construction Safety Training Calendar
END:VEVENT
BEGIN:VEVENT
DTSTART;TZID=UTC:20240617T080000
DTEND;TZID=UTC:20240617T170000
DTSTAMP:20260425T120040
CREATED:20240109T214924Z
LAST-MODIFIED:20240205T200730Z
UID:10000457-1718611200-1718643600@hcca.net
SUMMARY:Work Zone Basic Traffic Control Training (In Person)
DESCRIPTION:Register
URL:https://hcca.net/event/work-zone-basic-traffic-control-training-in-person-2/
LOCATION:HCCA\, 9251 Industrial Ct\, Suite 201\, Manassas\, VA\, 20109\, United States
CATEGORIES:VA Construction Safety Training Calendar
END:VEVENT
BEGIN:VEVENT
DTSTART;TZID=UTC:20240613T080000
DTEND;TZID=UTC:20240614T170000
DTSTAMP:20260425T120040
CREATED:20240416T202647Z
LAST-MODIFIED:20240416T202647Z
UID:10000470-1718265600-1718384400@hcca.net
SUMMARY:Custom Training - REGISTRATION CLOSED
DESCRIPTION:
URL:https://hcca.net/event/custom-training-registration-closed-2/
LOCATION:VA
CATEGORIES:VA Construction Safety Training Calendar
END:VEVENT
BEGIN:VEVENT
DTSTART;TZID=UTC:20240610T080000
DTEND;TZID=UTC:20240610T170000
DTSTAMP:20260425T120040
CREATED:20240109T214434Z
LAST-MODIFIED:20240604T172654Z
UID:10000452-1718006400-1718038800@hcca.net
SUMMARY:Custom Class - Registration Closed
DESCRIPTION:
URL:https://hcca.net/event/work-zone-basic-traffic-control-training-spanish-in-person-2/
LOCATION:HCCA\, 9251 Industrial Ct\, Suite 201\, Manassas\, VA\, 20109\, United States
CATEGORIES:VA Construction Safety Training Calendar
END:VEVENT
BEGIN:VEVENT
DTSTART;TZID=UTC:20240606T080000
DTEND;TZID=UTC:20240607T170000
DTSTAMP:20260425T120040
CREATED:20240109T212058Z
LAST-MODIFIED:20240109T212058Z
UID:10000431-1717660800-1717779600@hcca.net
SUMMARY:VDOT Work Zone Intermediate Traffic Control Training (In Person)
DESCRIPTION:Register
URL:https://hcca.net/event/vdot-work-zone-intermediate-traffic-control-training-in-person-3/
LOCATION:HCCA\, 9251 Industrial Ct\, Suite 201\, Manassas\, VA\, 20109\, United States
CATEGORIES:VA Construction Safety Training Calendar
END:VEVENT
BEGIN:VEVENT
DTSTART;TZID=UTC:20240605T100000
DTEND;TZID=UTC:20240605T233000
DTSTAMP:20260425T120040
CREATED:20240408T232223Z
LAST-MODIFIED:20240409T221054Z
UID:10000468-1717581600-1717630200@hcca.net
SUMMARY:Webinar: How to get Paid on Private Contracts
DESCRIPTION:Joe Kasimer and Eric Lammers of Rees Broome will provide an educational webinar addressing private contracts\, both residential and commercial\, including critical contract clauses\, handling change orders and claims\, mechanic liens and bond claims\, and how to document cost and liability issues. \n  \nemail events@hcca.net to RSVP
URL:https://hcca.net/event/webinar-how-to-get-paid-on-private-contracts/
LOCATION:ONLINE
CATEGORIES:VA Construction Events Calendar
END:VEVENT
BEGIN:VEVENT
DTSTART;TZID=UTC:20240603T080000
DTEND;TZID=UTC:20240603T170000
DTSTAMP:20260425T120040
CREATED:20240109T213559Z
LAST-MODIFIED:20240205T200609Z
UID:10000444-1717401600-1717434000@hcca.net
SUMMARY:First Aid/CPR/AED Training (In Person)
DESCRIPTION:Register
URL:https://hcca.net/event/first-aid-cpr-aed-training-in-person/
LOCATION:HCCA\, 9251 Industrial Ct\, Suite 201\, Manassas\, VA\, 20109\, United States
CATEGORIES:VA Construction Safety Training Calendar
END:VEVENT
BEGIN:VEVENT
DTSTART;TZID=UTC:20240601T100000
DTEND;TZID=UTC:20240601T170000
DTSTAMP:20260425T120040
CREATED:20231201T000420Z
LAST-MODIFIED:20240312T185718Z
UID:10000394-1717236000-1717261200@hcca.net
SUMMARY:Poker Run
DESCRIPTION:Poker Run\n100% Charitable EventAll proceeds will be donated to the HCCA Family Relief Fund.The Family Relief Fund provides financial assistance to employees\, families\, & friends of HCCA Member Firms who have suffered personal life emergencies. \nSTARTSuperior Paving Corp HQ 10:00AM Registration / 11:00AM Last Bike Out \nTim’s at Lake Anna - Mineral\, VA \nVito’s on Lake Anna - Mineral\, va \nCraft & Crust PIzza Tavern - Remington\, VA \nENDCraftworx Taproom - Gainesville\, VA4:30PM  Best Poker Hands Announced \nRegistration includes breakfast\, poker hand\, drink ticket\, and t-shirt. DriverDriver : $30.00Extra Hand $30Extra Hand : $30.00Driver Name *Passenger Name (if applicable)Driver Unisex T-Shirt Size (Small - 3XL)Passenger Unisex T-Shirt Size (Small - 3XL)HCCA Firm (if applicable)Phone *Email *SponsorshipsSOLD Best Hand Sponsor : Independence ExcavatingEvent Sponsorship: $500T-Shirt Sponsorship : $300Motorcyclists grant permission to the Heavy Construction Contractors Association (HCCA) to photograph\, video and post this event. The undersigned acknowledges and agrees that in consideration for allowing him/her to participate in the Poker Run on June 6\, 2026\, the undersigned assumes all risk of participation and agrees to indemnify and hold the Heavy Construction Contractors Association\, Inc.\, its officers\, directors and staff (collectively “HCCA”) from any claims for loss or damage to any property or loss or damage on account of injury or death of the undersigned or caused by the undersigned while participating in the event. The undersigned agrees to abide by all traffic laws and ordinances\, and to operate his/her motorcycle safely and properly at all times during the event. Total CostInvoice Me *Yes\, I would like to be invoiced for the full amount due.No\, I would like to pay now.SUBMIT REGISTRATION
URL:https://hcca.net/event/poker-run-2/
LOCATION:Laurita
CATEGORIES:VA Construction Events Calendar
ORGANIZER;CN="Ashley Hutson":MAILTO:ashley@hcca.net
END:VEVENT
BEGIN:VEVENT
DTSTART;TZID=UTC:20240530T080000
DTEND;TZID=UTC:20240531T170000
DTSTAMP:20260425T120040
CREATED:20240514T201814Z
LAST-MODIFIED:20240514T201814Z
UID:10000471-1717056000-1717174800@hcca.net
SUMMARY:OSHA 10 (In Person)
DESCRIPTION:Register
URL:https://hcca.net/event/osha-10-in-person-10/
LOCATION:HCCA\, 9251 Industrial Ct\, Suite 201\, Manassas\, VA\, 20109\, United States
CATEGORIES:VA Construction Safety Training Calendar
END:VEVENT
BEGIN:VEVENT
DTSTART;TZID=UTC:20240523T080000
DTEND;TZID=UTC:20240524T170000
DTSTAMP:20260425T120040
CREATED:20240109T211938Z
LAST-MODIFIED:20240521T202424Z
UID:10000430-1716451200-1716570000@hcca.net
SUMMARY:VDOT Work Zone Intermediate Traffic Control Training (Online) - REGISTRATION CLOSED
DESCRIPTION:
URL:https://hcca.net/event/vdot-work-zone-intermediate-traffic-control-training-online/
LOCATION:ONLINE
CATEGORIES:VA Construction Safety Training Calendar
END:VEVENT
BEGIN:VEVENT
DTSTART;TZID=UTC:20240521T100000
DTEND;TZID=UTC:20240521T233000
DTSTAMP:20260425T120040
CREATED:20240408T232128Z
LAST-MODIFIED:20240408T232128Z
UID:10000467-1716285600-1716334200@hcca.net
SUMMARY:Webinar: VDOT Claims Process - How to be Succcessful
DESCRIPTION:Joe Kasimer and Eric Lammers of Rees Broome will present a webinar about cost recovery and claims on VDOT contracts. This program will be useful both for companies considering entering the VDOT contracting program and those who regularly deal with the Department. This 60 minute session will focus on the Dos and Don’ts of VDOT contract administration. \n  \nRSVP to events@hcca.net
URL:https://hcca.net/event/webinar-vdot-claims-process-how-to-be-succcessful/
LOCATION:ONLINE
CATEGORIES:VA Construction Events Calendar
END:VEVENT
BEGIN:VEVENT
DTSTART;TZID=UTC:20240521T080000
DTEND;TZID=UTC:20240522T170000
DTSTAMP:20260425T120040
CREATED:20240109T215412Z
LAST-MODIFIED:20240514T201641Z
UID:10000276-1716278400-1716397200@hcca.net
SUMMARY:OSHA 10 in Spanish (In Person)
DESCRIPTION:Register
URL:https://hcca.net/event/osha-10-in-person-6/
LOCATION:HCCA\, 9251 Industrial Ct\, Suite 201\, Manassas\, VA\, 20109\, United States
CATEGORIES:VA Construction Safety Training Calendar
END:VEVENT
BEGIN:VEVENT
DTSTART;TZID=UTC:20240520T160000
DTEND;TZID=UTC:20240520T183000
DTSTAMP:20260425T120040
CREATED:20240103T203258Z
LAST-MODIFIED:20240328T180832Z
UID:10000405-1716220800-1716229800@hcca.net
SUMMARY:Heavy Equipment Operator Interviews
DESCRIPTION:FIFTEEN HIGH SCHOOL STUDENTS will complete the Heavy Equipment Operator course at Laurel Ridge Community College – Fauquier. \nHCCA can invite 8 employers to interview and hire these individuals. First come\, first serve. \nEmail ashley@hcca.net to RSVP
URL:https://hcca.net/event/tentative-heavy-equipment-operator-interviews-3/
LOCATION:Laurel Ridge Community College – Fauquier\, 6480 College St\, Warrenton\, VA\, 20187\, United States
CATEGORIES:VA Construction Events Calendar
ORGANIZER;CN="Ashley Hutson":MAILTO:ashley@hcca.net
END:VEVENT
BEGIN:VEVENT
DTSTART;TZID=UTC:20240520T080000
DTEND;TZID=UTC:20240520T170000
DTSTAMP:20260425T120040
CREATED:20240109T214847Z
LAST-MODIFIED:20240109T214847Z
UID:10000456-1716192000-1716224400@hcca.net
SUMMARY:Work Zone Basic Traffic Control Training (In Person)
DESCRIPTION:Register
URL:https://hcca.net/event/work-zone-basic-traffic-control-training-in-person/
LOCATION:HCCA\, 9251 Industrial Ct\, Suite 201\, Manassas\, VA\, 20109\, United States
CATEGORIES:VA Construction Safety Training Calendar
END:VEVENT
BEGIN:VEVENT
DTSTART;TZID=UTC:20240516T080000
DTEND;TZID=UTC:20240517T170000
DTSTAMP:20260425T120040
CREATED:20240109T211901Z
LAST-MODIFIED:20240111T195111Z
UID:10000429-1715846400-1715965200@hcca.net
SUMMARY:VDOT Work Zone Intermediate Traffic Control Training (In Person)
DESCRIPTION:Register
URL:https://hcca.net/event/vdot-work-zone-intermediate-traffic-control-training-in-person-2/
LOCATION:HCCA\, 9251 Industrial Ct\, Suite 201\, Manassas\, VA\, 20109\, United States
CATEGORIES:VA Construction Safety Training Calendar
END:VEVENT
BEGIN:VEVENT
DTSTART;TZID=UTC:20240515T160000
DTEND;TZID=UTC:20240515T193000
DTSTAMP:20260425T120040
CREATED:20231201T000332Z
LAST-MODIFIED:20240418T194501Z
UID:10000393-1715788800-1715801400@hcca.net
SUMMARY:HLI Graduation/ SRJ Scholarship Awarding
DESCRIPTION:AI in ConstructionAssistant Professor and Research Professional\, Dr. Dr. Alireza Shojaei\, of the Myers-Lawson School of Construction at Virginia Tech will share his thoughts on the impact of artificial intelligence in the heavy construction. Registration Type *HCCA MEMBER PRICE PER ATTENDEE : $80.00NON-MEMBER PRICE PER ATTENDEE: $120.00SponsorshipSOLD OUT Event Sponsor : Trimble\, Inc.SOLD OUT Co-Sponsor : Iron SheepdogCompany logo on signage\, drink tickets\, announced over microphone\, and extra drink tickets to hand outNo. of Attendees *Company *Email Address *Attendee(s):Total CostInvoice Me *Yes\, I would like to be invoiced for the full amount due.No\, I would like to pay now.SUBMIT REGISTRATION
URL:https://hcca.net/event/hli-graduation-srj-scholarship-awarding/
LOCATION:Chantilly National Golf & Country Club\, 14901 Braddock Road Centreville\, VA 20120\, VA\, 20120\, United States
CATEGORIES:VA Construction Events Calendar
ORGANIZER;CN="Ashley Hutson":MAILTO:ashley@hcca.net
END:VEVENT
BEGIN:VEVENT
DTSTART;TZID=UTC:20240515T080000
DTEND;TZID=UTC:20240515T170000
DTSTAMP:20260425T120040
CREATED:20240109T205956Z
LAST-MODIFIED:20240510T165719Z
UID:10000246-1715760000-1715792400@hcca.net
SUMMARY:VDOT Erosion & Sediment Control Contractor Certification (In Person)
DESCRIPTION:Register
URL:https://hcca.net/event/vdot-erosion-sediment-control-contractor-certification-on-line/
LOCATION:HCCA\, 9251 Industrial Ct\, Suite 201\, Manassas\, VA\, 20109\, United States
CATEGORIES:VA Construction Safety Training Calendar
END:VEVENT
BEGIN:VEVENT
DTSTART;TZID=UTC:20240514T140000
DTEND;TZID=UTC:20240514T153000
DTSTAMP:20260425T120040
CREATED:20240103T203204Z
LAST-MODIFIED:20240328T214606Z
UID:10000403-1715695200-1715700600@hcca.net
SUMMARY:Healthy Habits for Long Work Days
DESCRIPTION:Hosted by HCCA WIC\, welcome to all HCCA membership: \nConstruction asks long days of its workers\, and finding time for fitness can be challenging. Led by Sarah Clogan\, Onsite Wellness Coach of Allan Myers\, this 90 minute interactive workshop will provide a comprehensive look at exercise\, physical activity\, and how to reach your personal fitness goals to improve your health. \nRSVP to events@hcca.net \nClick Here for PDF
URL:https://hcca.net/event/wic-education-womens-health/
LOCATION:Allan Myers\, 12500 Fair Lakes Circle Unit 150\, Fairfax\, VA
CATEGORIES:VA Construction Events Calendar
ORGANIZER;CN="Ashley Hutson":MAILTO:ashley@hcca.net
END:VEVENT
BEGIN:VEVENT
DTSTART;TZID=UTC:20240514T080000
DTEND;TZID=UTC:20240514T170000
DTSTAMP:20260425T120040
CREATED:20240109T205711Z
LAST-MODIFIED:20240403T214202Z
UID:10000244-1715673600-1715706000@hcca.net
SUMMARY:First Aid/CPR/AED (In Person)
DESCRIPTION:Register
URL:https://hcca.net/event/first-aid-cpr-aed-in-person-18/
LOCATION:HCCA\, 9251 Industrial Ct\, Suite 201\, Manassas\, VA\, 20109\, United States
CATEGORIES:VA Construction Safety Training Calendar
END:VEVENT
BEGIN:VEVENT
DTSTART;TZID=UTC:20240513T160000
DTEND;TZID=UTC:20240513T183000
DTSTAMP:20260425T120040
CREATED:20240328T180416Z
LAST-MODIFIED:20240328T180416Z
UID:10000466-1715616000-1715625000@hcca.net
SUMMARY:Heavy Equipment Operator Interviews
DESCRIPTION:Ten young people will complete the Heavy Equipment Operator course at Laurel Ridge Community College – Middletown. \nHCCA can invite 6 employers to interview and hire these individuals. First come\, first serve. \nEmail ashley@hcca.net to RSVP
URL:https://hcca.net/event/heavy-equipment-operator-interviews-3/
LOCATION:Laurel Ridge Community College – Middletown\, 173 Skirmisher Lane\, Middletown\, Virginia
CATEGORIES:VA Construction Events Calendar
END:VEVENT
BEGIN:VEVENT
DTSTART;TZID=UTC:20240513T080000
DTEND;TZID=UTC:20240513T170000
DTSTAMP:20260425T120040
CREATED:20240109T214344Z
LAST-MODIFIED:20240109T214344Z
UID:10000451-1715587200-1715619600@hcca.net
SUMMARY:Work Zone Basic Traffic Control Training - Spanish (In Person)
DESCRIPTION:Register
URL:https://hcca.net/event/work-zone-basic-traffic-control-training-spanish-in-person/
LOCATION:HCCA\, 9251 Industrial Ct\, Suite 201\, Manassas\, VA\, 20109\, United States
CATEGORIES:VA Construction Safety Training Calendar
END:VEVENT
BEGIN:VEVENT
DTSTART;TZID=UTC:20240510T080000
DTEND;TZID=UTC:20240510T153000
DTSTAMP:20260425T120040
CREATED:20231201T000301Z
LAST-MODIFIED:20240322T034049Z
UID:10000392-1715328000-1715355000@hcca.net
SUMMARY:SOLD OUT Ditch Diggers Open Golf Tournament
DESCRIPTION:May 8 2026 | TWIN LAKES GOLF COURSETHIS EVENT IS SOLD OUT. \nEMAIL ASHLEY@HCCA.NET TO JOIN THE WASIT LIST Company. *Contact Name *Registration *Team of 4 & Tee Sponsorship $1600Team of 4 $1300Contact Phone Number *Contact Email *Captain *Captain EmailGolfer 2 *Golfer 2 EmailGolfer 3 *Golfer 3 EmailGolfer 4 *Golfer 4 EmailMain CaptainMain Captain EmailSponsorshipSOLD OUT Tee SponsorshipSOLD OUT Beverage Sponsor: Concrete Pipe & PrecastSOLD OUT Putting Contest Sponsor: Luck Stone Corp.SOLD OUT Dinner Sponsor: SpinielloSOLD OUT Breakfast Sponsor: Core & MainSOLD OUT Snack Sponsor: Aaron's TowingSOLD OUT ThirsTee Sponsors: Ferguson & Atlantic Construction UtilitiesSOLD OUT Longest Drive Sponsors: Contractors Health Coalition & Herc RentalsSOLD OUT Hole in One Sponsors: Rinker Materials & Ritchie BrosSOLD OUT Closest to the Pin Sponsors: Ritchie Bros & Iron SheepdogSOLD OUT Lunch Sponsor: Sunbelt RentalsSOLD OUT Pregame Sponsor: Advanced Drainage SystemSOLD OUT Spirits Raffle Sponsors: Rinker Materials & Muller Inc.SOLD OUT Entertainment Sponsor: Alpha Solutions Traffic & SafetySOLD OUT: ATV Sponsor: Carter MachinerySOLD OUT: Water Sponsor: Traffic Safety SuppliesSOLD OUT: Crane Sponsor: WG ConstructionRaffle Tickets1 / $20.003 / $50.007 / $100.00Which course would your team prefer?OaksLakesBilling TotalInvoice Me *Yes\, I would like to be invoiced for the full amount due.No\, I would like to pay now.SUBMIT REGISTRATION
URL:https://hcca.net/event/ditch-diggers-open-golf-tournament-3/
LOCATION:Twin Lakes Golf Course\, 6201 Union Mill Road Clifton\, VA\, VA\, United States
CATEGORIES:VA Construction Events Calendar
ORGANIZER;CN="Ashley Hutson":MAILTO:ashley@hcca.net
END:VEVENT
BEGIN:VEVENT
DTSTART;TZID=UTC:20240507T170000
DTEND;TZID=UTC:20240507T193000
DTSTAMP:20260425T120040
CREATED:20240103T203117Z
LAST-MODIFIED:20240328T180311Z
UID:10000402-1715101200-1715110200@hcca.net
SUMMARY:Heavy Equipment Operator Interviews
DESCRIPTION:Nine young people will complete the Heavy Equipment Operator course at Laurel Ridge Community College – Middletown. \nHCCA can invite 6 employers to interview and hire these individuals. First come\, first serve. \nEmail ashley@hcca.net to RSVP
URL:https://hcca.net/event/tentative-heavy-equipment-operator-interviews-2/
LOCATION:Laurel Ridge Community College – Middletown\, 173 Skirmisher Lane\, Middletown\, Virginia
CATEGORIES:VA Construction Events Calendar
ORGANIZER;CN="Ashley Hutson":MAILTO:ashley@hcca.net
END:VEVENT
BEGIN:VEVENT
DTSTART;TZID=UTC:20240427T080000
DTEND;TZID=UTC:20240427T130000
DTSTAMP:20260425T120040
CREATED:20240103T203005Z
LAST-MODIFIED:20240306T214952Z
UID:10000401-1714204800-1714222800@hcca.net
SUMMARY:HCCA Clay Shoot Tournament
DESCRIPTION:Registration includes one raffle ticket per shooter\, breakfast\, BBQ Lunch\, and ammunition.   \nSchedule:8:00AM Breakfast & Check-In8:50AM Safety Meeting9:00AM Begin Shoot11:30AM Lunch & Awards1:00PM Event Ends \nPlease note: \n\nNEW THIS YEAR: Teams of 6!\nBring your own gun or you will be provided one.\nPersonal shotguns shall meet range requirements.\nAmmunition will be provided.\nEach Shooter will take 50 shots.\nAwards: 1st\, 2nd & 3rd team trophies & individual High Gun.\n\nTeam scores based on top 4 shooters\n\n\nAll Shooters MUST wear eye protection & ear protection.\nRegistration Type *Team of 6 & Station Sponsorship: $1500Half Team of 3 & Station Sponsorship: $800Individual Shooter: $250Individuals and Teams of 3 will be grouped with peers.SponsorshipSOLD OUT Lunch Sponsor: Core & MainAwards Sponsorship : $400SOLD OUT Raffle Prize Sponsor: Superior Paving Corp.SOLD OUT Breakfast Sponsor: Atlantic Const. UtilitiesSOLD OUT Shooting Station Sponsorship : $200Company *Email Address *Attendee(s):Total CostInvoice Me *Yes\, I would like to be invoiced for the full amount due.No\, I would like to pay now.SUBMIT REGISTRATION
URL:https://hcca.net/event/hcca-clay-shoot/
LOCATION:Shady Grove Sporting Clays\, 11781 Lucky Hill Road Remington\, VA 22734\, VA\, 22734\, United States
CATEGORIES:VA Construction Events Calendar
END:VEVENT
BEGIN:VEVENT
DTSTART;TZID=UTC:20240425T080000
DTEND;TZID=UTC:20240426T170000
DTSTAMP:20260425T120041
CREATED:20231129T030344Z
LAST-MODIFIED:20240109T211715Z
UID:10000216-1714032000-1714150800@hcca.net
SUMMARY:VDOT Work Zone Intermediate Traffic Control Training (In Person)
DESCRIPTION:Register
URL:https://hcca.net/event/vdot-work-zone-intermediate-in-person-6/
LOCATION:HCCA\, 9251 Industrial Ct\, Suite 201\, Manassas\, VA\, 20109\, United States
CATEGORIES:VA Construction Safety Training Calendar
END:VEVENT
BEGIN:VEVENT
DTSTART;TZID=UTC:20240424T160000
DTEND;TZID=UTC:20240424T190000
DTSTAMP:20260425T120041
CREATED:20231201T000230Z
LAST-MODIFIED:20240306T204754Z
UID:10000391-1713974400-1713985200@hcca.net
SUMMARY:Safety & Infrastructure Awards Dinner
DESCRIPTION:This event will recognize those who contribute to great Infrastructure projects and those who keep construction workers safe. \n4:00-5:00 Networking Cocktail Hour5:00-6:00 Buffet Dinner6:00-7:15  Awards Program Registration Type *HCCA MEMBER PRICE PER ATTENDEE : $85.00NON-MEMBER PRICE PER ATTENDEE: $140.00SponsorshipSOLD Event Sponsor: Traffic Safety SuppliesSOLD Co-Sponsor: Flippo ConstructionNo. of Attendees *Company *Email Address *Attendee(s):Total CostInvoice Me *Yes\, I would like to be invoiced for the full amount due.No\, I would like to pay now.SUBMIT REGISTRATION
URL:https://hcca.net/event/safety-infrastructure-awards-3/
LOCATION:Chantilly National Golf & Country Club\, 14901 Braddock Road Centreville\, VA 20120\, VA\, 20120\, United States
CATEGORIES:VA Construction Events Calendar
ORGANIZER;CN="Ashley Hutson":MAILTO:ashley@hcca.net
END:VEVENT
BEGIN:VEVENT
DTSTART;TZID=UTC:20240424T080000
DTEND;TZID=UTC:20240424T170000
DTSTAMP:20260425T120041
CREATED:20231129T030257Z
LAST-MODIFIED:20240422T184329Z
UID:10000215-1713945600-1713978000@hcca.net
SUMMARY:VDOT Erosion & Sediment Control Contractors Certification (Hybrid In Person or Online) - REGISTRATION CLOSED
DESCRIPTION:
URL:https://hcca.net/event/vdot-erosion-sediment-control-contractors-certification-online-2/
LOCATION:HCCA\, 9251 Industrial Ct\, Suite 201\, Manassas\, VA\, 20109\, United States
CATEGORIES:VA Construction Safety Training Calendar
END:VEVENT
BEGIN:VEVENT
DTSTART;TZID=UTC:20240422T080000
DTEND;TZID=UTC:20240422T170000
DTSTAMP:20260425T120041
CREATED:20231129T030157Z
LAST-MODIFIED:20231129T030157Z
UID:10000214-1713772800-1713805200@hcca.net
SUMMARY:VDOT Work Zone Basic (In Person)
DESCRIPTION:Register
URL:https://hcca.net/event/vdot-work-zone-basic-in-person-3/
LOCATION:HCCA\, 9251 Industrial Ct\, Suite 201\, Manassas\, VA\, 20109\, United States
CATEGORIES:VA Construction Safety Training Calendar
END:VEVENT
BEGIN:VEVENT
DTSTART;TZID=UTC:20240418T100000
DTEND;TZID=UTC:20240418T113000
DTSTAMP:20260425T120041
CREATED:20240306T203650Z
LAST-MODIFIED:20240306T203657Z
UID:10000464-1713434400-1713439800@hcca.net
SUMMARY:Ditch Diggers Dialogue: Perfecting a Loan Application
DESCRIPTION:Have you ever been denied a loan? Wondered how you can enhance your financials using your current cash-flow? \nThis session\, offered by Sam Patel and Len Rann of First Citizens Bank\, looks at financials through the lens of a business loan underwriter to help determine what areas could be improved before applying. \nEmail events@hcca.net for link to webinar \nClick Here for PDF
URL:https://hcca.net/event/ditch-diggers-dialogue-perfecting-a-loan-application/
LOCATION:ONLINE
CATEGORIES:VA Construction Events Calendar
ORGANIZER;CN="Ashley Hutson":MAILTO:ashley@hcca.net
END:VEVENT
BEGIN:VEVENT
DTSTART;TZID=UTC:20240418T080000
DTEND;TZID=UTC:20240419T170000
DTSTAMP:20260425T120041
CREATED:20231129T030106Z
LAST-MODIFIED:20240416T202514Z
UID:10000213-1713427200-1713546000@hcca.net
SUMMARY:VDOT Work Zone Intermediate Traffic Control Training (Online) - REGISTRATION CLOSED
DESCRIPTION:
URL:https://hcca.net/event/vdot-work-zone-intermediate-online-2/
LOCATION:ONLINE
CATEGORIES:VA Construction Safety Training Calendar
END:VEVENT
END:VCALENDAR