BEGIN:VCALENDAR
VERSION:2.0
PRODID:-//HCCA - ECPv6.15.17.1//NONSGML v1.0//EN
CALSCALE:GREGORIAN
METHOD:PUBLISH
X-ORIGINAL-URL:https://hcca.net
X-WR-CALDESC:Events for HCCA
REFRESH-INTERVAL;VALUE=DURATION:PT1H
X-Robots-Tag:noindex
X-PUBLISHED-TTL:PT1H
BEGIN:VTIMEZONE
TZID:America/New_York
BEGIN:DAYLIGHT
TZOFFSETFROM:-0500
TZOFFSETTO:-0400
TZNAME:EDT
DTSTART:20250309T070000
END:DAYLIGHT
BEGIN:STANDARD
TZOFFSETFROM:-0400
TZOFFSETTO:-0500
TZNAME:EST
DTSTART:20251102T060000
END:STANDARD
BEGIN:DAYLIGHT
TZOFFSETFROM:-0500
TZOFFSETTO:-0400
TZNAME:EDT
DTSTART:20260308T070000
END:DAYLIGHT
BEGIN:STANDARD
TZOFFSETFROM:-0400
TZOFFSETTO:-0500
TZNAME:EST
DTSTART:20261101T060000
END:STANDARD
BEGIN:DAYLIGHT
TZOFFSETFROM:-0500
TZOFFSETTO:-0400
TZNAME:EDT
DTSTART:20270314T070000
END:DAYLIGHT
BEGIN:STANDARD
TZOFFSETFROM:-0400
TZOFFSETTO:-0500
TZNAME:EST
DTSTART:20271107T060000
END:STANDARD
END:VTIMEZONE
BEGIN:VTIMEZONE
TZID:UTC
BEGIN:STANDARD
TZOFFSETFROM:+0000
TZOFFSETTO:+0000
TZNAME:UTC
DTSTART:20250101T000000
END:STANDARD
END:VTIMEZONE
BEGIN:VEVENT
DTSTART;TZID=America/New_York:20261123T160000
DTEND;TZID=America/New_York:20261123T180000
DTSTAMP:20260425T091056
CREATED:20260226T161901Z
LAST-MODIFIED:20260226T161901Z
UID:10000749-1795449600-1795456800@hcca.net
SUMMARY:Heavy Equipment Operator Interviews
DESCRIPTION:MIDDLETOWN CAMPUS \nUp to 12 students will be completing the Heavy Equipment Operator Course at Laurel Ridge Community College. Be the first to interview and hire on their last day of class. \nInterviews will be held in 9 minute rotations so each company can meet each student. Maximum 8 companies. \nEMAIL EVENTS@HCCA.NET TO PARTICIPATE \nLearn more about the program here: https://laurelridgeworkforce.com/heavy-equipment-operator-fast-track-career-training-program/
URL:https://hcca.net/event/heavy-equipment-operator-interviews-13/
LOCATION:Laurel Ridge Community College – Middletown\, 173 Skirmisher Lane\, Middletown\, Virginia
CATEGORIES:VA Construction Events Calendar
END:VEVENT
BEGIN:VEVENT
DTSTART;TZID=America/New_York:20261207T080000
DTEND;TZID=America/New_York:20261207T170000
DTSTAMP:20260425T091056
CREATED:20260218T192429Z
LAST-MODIFIED:20260218T192429Z
UID:10000739-1796630400-1796662800@hcca.net
SUMMARY:First Aid/CPR/AED (In Person)
DESCRIPTION:Register
URL:https://hcca.net/event/first-aid-cpr-aed-in-person-30/
LOCATION:HCCA\, 9251 Industrial Ct\, Suite 201\, Manassas\, VA\, 20109\, United States
CATEGORIES:VA Construction Safety Training Calendar
END:VEVENT
BEGIN:VEVENT
DTSTART;TZID=UTC:20261209T080000
DTEND;TZID=UTC:20261209T170000
DTSTAMP:20260425T091056
CREATED:20260218T192102Z
LAST-MODIFIED:20260218T192102Z
UID:10000744-1796803200-1796835600@hcca.net
SUMMARY:VDOT Erosion & Sediment Control Contractors Certification Course for Qualified Personnel (Online)
DESCRIPTION:Register
URL:https://hcca.net/event/vdot-erosion-sediment-control-contractors-certification-course-for-qualified-personnel-online-16/
LOCATION:ONLINE
CATEGORIES:VA Construction Safety Training Calendar
END:VEVENT
BEGIN:VEVENT
DTSTART;TZID=UTC:20261210T080000
DTEND;TZID=UTC:20261211T170000
DTSTAMP:20260425T091056
CREATED:20260218T192222Z
LAST-MODIFIED:20260218T192222Z
UID:10000740-1796889600-1797008400@hcca.net
SUMMARY:VDOT Work Zone Intermediate Traffic Control Training (In Person)
DESCRIPTION:Register
URL:https://hcca.net/event/vdot-work-zone-intermediate-traffic-control-training-in-person-35/
LOCATION:HCCA\, 9251 Industrial Ct\, Suite 201\, Manassas\, VA\, 20109\, United States
CATEGORIES:VA Construction Safety Training Calendar
END:VEVENT
BEGIN:VEVENT
DTSTART;TZID=UTC:20261214T080000
DTEND;TZID=UTC:20261214T170000
DTSTAMP:20260425T091056
CREATED:20260218T192206Z
LAST-MODIFIED:20260218T192206Z
UID:10000741-1797235200-1797267600@hcca.net
SUMMARY:VDOT Work Zone Basic (In Person)
DESCRIPTION:Register
URL:https://hcca.net/event/vdot-work-zone-basic-in-person-14/
LOCATION:HCCA\, 9251 Industrial Ct\, Suite 201\, Manassas\, VA\, 20109\, United States
CATEGORIES:VA Construction Safety Training Calendar
END:VEVENT
BEGIN:VEVENT
DTSTART;TZID=UTC:20261217T080000
DTEND;TZID=UTC:20261218T170000
DTSTAMP:20260425T091056
CREATED:20260218T192144Z
LAST-MODIFIED:20260218T192144Z
UID:10000742-1797494400-1797613200@hcca.net
SUMMARY:VDOT Work Zone Intermediate Traffic Control Training (Online)
DESCRIPTION:Register
URL:https://hcca.net/event/vdot-work-zone-intermediate-traffic-control-training-online-29/
LOCATION:ONLINE
CATEGORIES:VA Construction Safety Training Calendar
END:VEVENT
BEGIN:VEVENT
DTSTART;TZID=America/New_York:20261221T080000
DTEND;TZID=America/New_York:20261221T170000
DTSTAMP:20260425T091056
CREATED:20260218T192124Z
LAST-MODIFIED:20260218T192124Z
UID:10000743-1797840000-1797872400@hcca.net
SUMMARY:VDOT Work Zone Basic in Spanish (In Person)
DESCRIPTION:Register
URL:https://hcca.net/event/vdot-work-zone-basic-in-spanish-in-person-10/
LOCATION:HCCA\, 9251 Industrial Ct\, Suite 201\, Manassas\, VA\, 20109\, United States
CATEGORIES:VA Construction Safety Training Calendar
END:VEVENT
END:VCALENDAR