BEGIN:VCALENDAR
VERSION:2.0
PRODID:-//HCCA - ECPv6.15.17.1//NONSGML v1.0//EN
CALSCALE:GREGORIAN
METHOD:PUBLISH
X-ORIGINAL-URL:https://hcca.net
X-WR-CALDESC:Events for HCCA
REFRESH-INTERVAL;VALUE=DURATION:PT1H
X-Robots-Tag:noindex
X-PUBLISHED-TTL:PT1H
BEGIN:VTIMEZONE
TZID:UTC
BEGIN:STANDARD
TZOFFSETFROM:+0000
TZOFFSETTO:+0000
TZNAME:UTC
DTSTART:20250101T000000
END:STANDARD
END:VTIMEZONE
BEGIN:VTIMEZONE
TZID:America/New_York
BEGIN:DAYLIGHT
TZOFFSETFROM:-0500
TZOFFSETTO:-0400
TZNAME:EDT
DTSTART:20250309T070000
END:DAYLIGHT
BEGIN:STANDARD
TZOFFSETFROM:-0400
TZOFFSETTO:-0500
TZNAME:EST
DTSTART:20251102T060000
END:STANDARD
BEGIN:DAYLIGHT
TZOFFSETFROM:-0500
TZOFFSETTO:-0400
TZNAME:EDT
DTSTART:20260308T070000
END:DAYLIGHT
BEGIN:STANDARD
TZOFFSETFROM:-0400
TZOFFSETTO:-0500
TZNAME:EST
DTSTART:20261101T060000
END:STANDARD
BEGIN:DAYLIGHT
TZOFFSETFROM:-0500
TZOFFSETTO:-0400
TZNAME:EDT
DTSTART:20270314T070000
END:DAYLIGHT
BEGIN:STANDARD
TZOFFSETFROM:-0400
TZOFFSETTO:-0500
TZNAME:EST
DTSTART:20271107T060000
END:STANDARD
END:VTIMEZONE
BEGIN:VEVENT
DTSTART;TZID=UTC:20260224T100000
DTEND;TZID=UTC:20260224T110000
DTSTAMP:20260425T091701
CREATED:20251105T231738Z
LAST-MODIFIED:20260108T142349Z
UID:10000633-1771927200-1771930800@hcca.net
SUMMARY:WEBINAR: Claim Preservation: Balancing Legal Rights and Client Responsibility
DESCRIPTION:Construction disputes put contractors in an impossible bind: aggressively pursue every legal right and risk burning bridges with valued clients or stay silent to preserve relationships and forfeit millions in legitimate claims.  Jonathan R. Wright\, a partner with Watt\, Tieder\, Hoffar & Fitzgerald LLP\, will present best practices and strategies to protect your legal position without destroying the business relationships that fuel your company's growth. You'll learn how savvy contractors document issues\, communicate concerns\, and preserve claims while maintaining professionalism and trust with project owners. Master these techniques and you'll never again have to choose between getting paid what you're owed and securing future work. Registration *HCCA Member : FreeNo. of Attendees *Company *Email Address *Attendee(s):Total CostInvoice Me *Complete RegistrationSUBMIT REGISTRATION
URL:https://hcca.net/event/webinar-construction-claim-preservation/
LOCATION:ONLINE
CATEGORIES:VA Construction Events Calendar
ORGANIZER;CN="Ashley Hutson":MAILTO:ashley@hcca.net
END:VEVENT
BEGIN:VEVENT
DTSTART;TZID=UTC:20260225T080000
DTEND;TZID=UTC:20260225T170000
DTSTAMP:20260425T091701
CREATED:20251111T002332Z
LAST-MODIFIED:20260217T151243Z
UID:10000645-1772006400-1772038800@hcca.net
SUMMARY:VDOT Erosion & Sediment Control Contractors Certification Course for Qualified Personnel (Online) - Class is FULL
DESCRIPTION:
URL:https://hcca.net/event/vdot-erosion-sediment-control-contractors-certification-course-for-qualified-personnel-online-3/
LOCATION:ONLINE
CATEGORIES:VA Construction Safety Training Calendar
END:VEVENT
BEGIN:VEVENT
DTSTART;TZID=UTC:20260226T080000
DTEND;TZID=UTC:20260227T170000
DTSTAMP:20260425T091701
CREATED:20251111T001354Z
LAST-MODIFIED:20260216T164031Z
UID:10000637-1772092800-1772211600@hcca.net
SUMMARY:VDOT Work Zone Intermediate Traffic Control Training (Online) - Class is FULL
DESCRIPTION:
URL:https://hcca.net/event/vdot-work-zone-intermediate-traffic-control-training-online-19/
LOCATION:ONLINE
CATEGORIES:VA Construction Safety Training Calendar
END:VEVENT
BEGIN:VEVENT
DTSTART;TZID=America/New_York:20260302T080000
DTEND;TZID=America/New_York:20260302T170000
DTSTAMP:20260425T091701
CREATED:20251230T195818Z
LAST-MODIFIED:20260218T182753Z
UID:10000667-1772438400-1772470800@hcca.net
SUMMARY:First Aid/CPR/AED (In Person) - Class is FULL
DESCRIPTION:
URL:https://hcca.net/event/first-aid-cpr-aed-in-person-21/
LOCATION:HCCA\, 9251 Industrial Ct\, Suite 201\, Manassas\, VA\, 20109\, United States
CATEGORIES:VA Construction Safety Training Calendar
END:VEVENT
BEGIN:VEVENT
DTSTART;TZID=UTC:20260303T080000
DTEND;TZID=UTC:20260303T170000
DTSTAMP:20260425T091701
CREATED:20260214T004117Z
LAST-MODIFIED:20260214T004117Z
UID:10000699-1772524800-1772557200@hcca.net
SUMMARY:OSHA 30 Day 1 (In Person) - MUST ATTEND ALL 4 DAYS MARCH 3\, 10\, 17\, 24
DESCRIPTION:register
URL:https://hcca.net/event/osha-30-day-1-in-person-must-attend-all-4-days-march-3-10-17-24/
LOCATION:HCCA\, 9251 Industrial Ct\, Suite 201\, Manassas\, VA\, 20109\, United States
CATEGORIES:VA Construction Safety Training Calendar
END:VEVENT
BEGIN:VEVENT
DTSTART;TZID=America/New_York:20260303T100000
DTEND;TZID=America/New_York:20260303T110000
DTSTAMP:20260425T091701
CREATED:20260113T190105Z
LAST-MODIFIED:20260113T190913Z
UID:10000697-1772532000-1772535600@hcca.net
SUMMARY:Money Milestones: Financial Planning
DESCRIPTION:Build a financial plan that fits your goals\, your work\, and your life – especially in a field where priorities and timelines can shift quickly. Allison Rosenberg of HUB International will provide a step-by-step framework to help you make confident financial decisions at any stage of your career. Attendees will consider the unique challenges that women face as it relates to finances\, including longer life expectancies\, caregiver responsibilities\, and the importance of taking full ownership of your financial wellness. \nAbout Our Speaker\nAllison Rosenberg is a Senior Consultant at HUB International in Bethesda\, Maryland\, where she specializes in retirement plan consulting and financial wellness education. With more than two decades of experience\, Allison helps organizations design meaningful retirement programs and empowers employees to make confident\, informed financial decisions. She is an investment advisor representative with Global Retirement Partners\, LLC\, a registered investment advisor. \nAllison’s path to financial services was anything but traditional. After earning her degree in Education from Wake Forest University\, she began her career as a classroom teacher. Her passion for teaching and curiosity about the world led her to join the Peace Corps\, where she spent several years in Paraguay training teachers and developing a deep appreciation for adult learning and cultural connection. \nWhen she returned to the U.S.\, Allison sought a career that combined her love of teaching\, her Spanish language skills\, and her desire to make a positive difference in people’s lives. That search led her to the world of retirement education — a field that quickly proved to be a natural fit. Over the years\, her work has evolved from helping employees understand their retirement plans to guiding individuals and organizations toward holistic financial wellness strategies. \nAt HUB International\, Allison is known for her approachable\, engaging style and her ability to make complex financial topics feel clear\, relevant\, and actionable. Whether facilitating workshops\, consulting with plan sponsors\, or meeting one-on-one with employees\, she creates an environment where people feel comfortable asking questions and inspired to take steps toward their goals. \nAllison’s commitment to financial education is grounded in her belief that confidence and understanding are the foundation of financial well-being. She brings empathy\, curiosity\, and a teacher’s mindset to every interaction\, helping people connect the dots between their day-to-day decisions and long-term financial security. \nOutside of work\, Allison lives in Potomac\, Maryland\, with her husband\, Adam\, and their children\, Frances and Moses. After spending three years in Indonesia\, the family has embraced being back in the U.S.\, enjoying the outdoors\, supporting the kids in their many activities\, and appreciating time with family and friends. Their time abroad reinforced the importance of flexibility\, curiosity\, and connection — values that continue to shape Allison’s approach to both life and work. Registration *HCCA Member : FreeNo. of Attendees *Company *Email Address *Attendee(s):Total CostInvoice Me *Complete RegistrationSUBMIT REGISTRATION
URL:https://hcca.net/event/money-milestones-financial-planning/
LOCATION:ONLINE
CATEGORIES:VA Construction Events Calendar
END:VEVENT
BEGIN:VEVENT
DTSTART;TZID=America/New_York:20260304T080000
DTEND;TZID=America/New_York:20260304T170000
DTSTAMP:20260425T091701
CREATED:20260218T182858Z
LAST-MODIFIED:20260218T182858Z
UID:10000703-1772611200-1772643600@hcca.net
SUMMARY:First Aid/CPR/AED in Spanish (In Person)
DESCRIPTION:Register
URL:https://hcca.net/event/first-aid-cpr-aed-in-spanish-in-person-2/
LOCATION:HCCA\, 9251 Industrial Ct\, Suite 201\, Manassas\, VA\, 20109\, United States
CATEGORIES:VA Construction Safety Training Calendar
END:VEVENT
BEGIN:VEVENT
DTSTART;TZID=America/New_York:20260304T160000
DTEND;TZID=America/New_York:20260304T190000
DTSTAMP:20260425T091701
CREATED:20260113T201608Z
LAST-MODIFIED:20260119T160148Z
UID:10000698-1772640000-1772650800@hcca.net
SUMMARY:WIC Week Wine Wednesday
DESCRIPTION:WIC Week Wine Wednesday*NEW LOCATION*Celebrate National Women in Construction Week with a networking happy hour. This event is open to all members of HCCA and the construction industry. \nDONATION DRIVE:Boxes of Basics works with school counselors\, social workers\, faith leaders and human services agencies to provide children with stylish\, quality clothing that will give kids confidence and help them thrive. \nWe are collecting new packs of youth underwear and new pairs of tennis shoes at this event. Ages 5-18 Registration Type *HCCA MEMBER PRICE PER ATTENDEE : $80.00NON-MEMBER PRICE PER ATTENDEE: $120.00Co-SponsorsLuck Stone Corp.\, Oldcastle Infrastructure\, Rinker Materials\, & Black HydrovacNo. of Attendees *Company *Email Address *Attendee(s):Total CostInvoice Me *Yes\, I would like to be invoiced for the full amount due.No\, I would like to pay now.SUBMIT REGISTRATION
URL:https://hcca.net/event/wic-week-wine-wednesday-3/
LOCATION:Diamond Farm Winery & Brewery\, 14170 Owls Nest Road\, Nokesville\, VA\, 20181\, United States
CATEGORIES:VA Construction Events Calendar
ORGANIZER;CN="Ashley Hutson":MAILTO:ashley@hcca.net
END:VEVENT
BEGIN:VEVENT
DTSTART;TZID=America/New_York:20260306T080000
DTEND;TZID=America/New_York:20260306T170000
DTSTAMP:20260425T091701
CREATED:20260218T182952Z
LAST-MODIFIED:20260218T182952Z
UID:10000704-1772784000-1772816400@hcca.net
SUMMARY:First Aid/CPR/AED in Spanish (In Person)
DESCRIPTION:Register
URL:https://hcca.net/event/first-aid-cpr-aed-in-spanish-in-person-3/
LOCATION:HCCA\, 9251 Industrial Ct\, Suite 201\, Manassas\, VA\, 20109\, United States
CATEGORIES:VA Construction Safety Training Calendar
END:VEVENT
BEGIN:VEVENT
DTSTART;TZID=UTC:20260309T080000
DTEND;TZID=UTC:20260309T170000
DTSTAMP:20260425T091701
CREATED:20251230T200136Z
LAST-MODIFIED:20251230T200448Z
UID:10000672-1773043200-1773075600@hcca.net
SUMMARY:VDOT Work Zone Basic (In Person)
DESCRIPTION:Register
URL:https://hcca.net/event/vdot-work-zone-basic-in-person-5/
LOCATION:HCCA\, 9251 Industrial Ct\, Suite 201\, Manassas\, VA\, 20109\, United States
CATEGORIES:VA Construction Safety Training Calendar
END:VEVENT
BEGIN:VEVENT
DTSTART;TZID=UTC:20260310T080000
DTEND;TZID=UTC:20260310T170000
DTSTAMP:20260425T091701
CREATED:20251105T224948Z
LAST-MODIFIED:20251105T224948Z
UID:10000618-1773129600-1773162000@hcca.net
SUMMARY:New Member Breakfast
DESCRIPTION:
URL:https://hcca.net/event/new-member-breakfast-4/
LOCATION:Superior Paving
CATEGORIES:VA Construction Events Calendar
ORGANIZER;CN="Ashley Hutson":MAILTO:ashley@hcca.net
END:VEVENT
BEGIN:VEVENT
DTSTART;TZID=UTC:20260310T080000
DTEND;TZID=UTC:20260310T170000
DTSTAMP:20260425T091701
CREATED:20260214T004223Z
LAST-MODIFIED:20260214T004223Z
UID:10000700-1773129600-1773162000@hcca.net
SUMMARY:OSHA 30 Day 2 (In Person)
DESCRIPTION:
URL:https://hcca.net/event/osha-30-day-2-in-person-2/
LOCATION:HCCA\, 9251 Industrial Ct\, Suite 201\, Manassas\, VA\, 20109\, United States
CATEGORIES:VA Construction Safety Training Calendar
END:VEVENT
BEGIN:VEVENT
DTSTART;TZID=America/New_York:20260311T080000
DTEND;TZID=America/New_York:20260311T170000
DTSTAMP:20260425T091701
CREATED:20260218T183031Z
LAST-MODIFIED:20260218T183031Z
UID:10000705-1773216000-1773248400@hcca.net
SUMMARY:First Aid/CPR/AED in Spanish (In Person)
DESCRIPTION:Register
URL:https://hcca.net/event/first-aid-cpr-aed-in-spanish-in-person-4/
LOCATION:HCCA\, 9251 Industrial Ct\, Suite 201\, Manassas\, VA\, 20109\, United States
CATEGORIES:VA Construction Safety Training Calendar
END:VEVENT
BEGIN:VEVENT
DTSTART;TZID=UTC:20260312T080000
DTEND;TZID=UTC:20260313T170000
DTSTAMP:20260425T091701
CREATED:20251230T202107Z
LAST-MODIFIED:20251230T202107Z
UID:10000689-1773302400-1773421200@hcca.net
SUMMARY:VDOT Work Zone Intermediate Traffic Control Training (In Person)
DESCRIPTION:Register
URL:https://hcca.net/event/vdot-work-zone-intermediate-traffic-control-training-in-person-26/
LOCATION:HCCA\, 9251 Industrial Ct\, Suite 201\, Manassas\, VA\, 20109\, United States
CATEGORIES:VA Construction Safety Training Calendar
END:VEVENT
BEGIN:VEVENT
DTSTART;TZID=America/New_York:20260316T080000
DTEND;TZID=America/New_York:20260316T170000
DTSTAMP:20260425T091701
CREATED:20251230T201440Z
LAST-MODIFIED:20251230T201440Z
UID:10000682-1773648000-1773680400@hcca.net
SUMMARY:Custom Class - Registration Closed
DESCRIPTION:
URL:https://hcca.net/event/custom-class-registration-closed-19/
CATEGORIES:VA Construction Safety Training Calendar
END:VEVENT
BEGIN:VEVENT
DTSTART;TZID=UTC:20260317T080000
DTEND;TZID=UTC:20260317T170000
DTSTAMP:20260425T091701
CREATED:20260214T004436Z
LAST-MODIFIED:20260214T004436Z
UID:10000701-1773734400-1773766800@hcca.net
SUMMARY:OSHA 30 Day 3 (In Person)
DESCRIPTION:
URL:https://hcca.net/event/osha-30-day-3-in-person-2/
LOCATION:HCCA\, 9251 Industrial Ct\, Suite 201\, Manassas\, VA\, 20109\, United States
CATEGORIES:VA Construction Safety Training Calendar
END:VEVENT
BEGIN:VEVENT
DTSTART;TZID=UTC:20260318T080000
DTEND;TZID=UTC:20260318T170000
DTSTAMP:20260425T091701
CREATED:20251230T201654Z
LAST-MODIFIED:20260317T180918Z
UID:10000684-1773820800-1773853200@hcca.net
SUMMARY:VDOT Erosion & Sediment Control Contractors Certification Course for Qualified Personnel (Online) - Call to Register
DESCRIPTION:
URL:https://hcca.net/event/vdot-erosion-sediment-control-contractors-certification-course-for-qualified-personnel-in-person-8/
LOCATION:ONLINE
CATEGORIES:VA Construction Safety Training Calendar
END:VEVENT
BEGIN:VEVENT
DTSTART;TZID=UTC:20260318T160000
DTEND;TZID=UTC:20260318T190000
DTSTAMP:20260425T091701
CREATED:20251105T225230Z
LAST-MODIFIED:20251207T230140Z
UID:10000619-1773849600-1773860400@hcca.net
SUMMARY:Policy Under Construction: A Legislative Look at Virginia's Business Climate
DESCRIPTION:HCCA's Legislative Affairs Staff will provide summary of the General Assembly session and it's impacts on Virginia's Construction Industry.  \nSubmit your questions in advance to events@hcca.net \nSchedule: 4:00 Cocktail Hour / 5:00 Dinner / 6:00 Seminar / 7:15 End \n  Registration Type *HCCA MEMBER PRICE PER ATTENDEE : $85.00NON-MEMBER PRICE PER ATTENDEE: $140.00SponsorshipEvent Sponsorship : $750Co-Sponsorship : $250No. of Attendees *Company *Email Address *Attendee(s):Total CostInvoice Me *Yes\, I would like to be invoiced for the full amount due.No\, I would like to pay now.SUBMIT REGISTRATION
URL:https://hcca.net/event/business-climate-in-virginia/
LOCATION:Chantilly National Golf & Country Club\, 14901 Braddock Road Centreville\, VA 20120\, VA\, 20120\, United States
CATEGORIES:VA Construction Events Calendar
END:VEVENT
BEGIN:VEVENT
DTSTART;TZID=America/New_York:20260323T080000
DTEND;TZID=America/New_York:20260323T170000
DTSTAMP:20260425T091701
CREATED:20251230T201511Z
LAST-MODIFIED:20251230T201511Z
UID:10000683-1774252800-1774285200@hcca.net
SUMMARY:Custom Class - Registration Closed
DESCRIPTION:
URL:https://hcca.net/event/custom-class-registration-closed-20/
CATEGORIES:VA Construction Safety Training Calendar
END:VEVENT
BEGIN:VEVENT
DTSTART;TZID=UTC:20260324T080000
DTEND;TZID=UTC:20260324T170000
DTSTAMP:20260425T091701
CREATED:20260214T004540Z
LAST-MODIFIED:20260214T004540Z
UID:10000702-1774339200-1774371600@hcca.net
SUMMARY:OSHA 30 Day 4 (In Person)
DESCRIPTION:
URL:https://hcca.net/event/osha-30-day-4-in-person-2/
LOCATION:HCCA\, 9251 Industrial Ct\, Suite 201\, Manassas\, VA\, 20109\, United States
CATEGORIES:VA Construction Safety Training Calendar
END:VEVENT
BEGIN:VEVENT
DTSTART;TZID=America/New_York:20260325T080000
DTEND;TZID=America/New_York:20260325T170000
DTSTAMP:20260425T091701
CREATED:20260218T183108Z
LAST-MODIFIED:20260218T183108Z
UID:10000706-1774425600-1774458000@hcca.net
SUMMARY:First Aid/CPR/AED in Spanish (In Person)
DESCRIPTION:Register
URL:https://hcca.net/event/first-aid-cpr-aed-in-spanish-in-person-5/
LOCATION:HCCA\, 9251 Industrial Ct\, Suite 201\, Manassas\, VA\, 20109\, United States
CATEGORIES:VA Construction Safety Training Calendar
END:VEVENT
BEGIN:VEVENT
DTSTART;TZID=America/New_York:20260325T120000
DTEND;TZID=America/New_York:20260325T160000
DTSTAMP:20260425T091701
CREATED:20260302T155936Z
LAST-MODIFIED:20260302T155936Z
UID:10000750-1774440000-1774454400@hcca.net
SUMMARY:Confined Space in Spanish (In Person)
DESCRIPTION:register
URL:https://hcca.net/event/confined-space-in-spanish-in-person/
LOCATION:HCCA\, 9251 Industrial Ct\, Suite 201\, Manassas\, VA\, 20109\, United States
CATEGORIES:VA Construction Safety Training Calendar
END:VEVENT
BEGIN:VEVENT
DTSTART;TZID=UTC:20260326T080000
DTEND;TZID=UTC:20260327T170000
DTSTAMP:20260425T091701
CREATED:20251230T202343Z
LAST-MODIFIED:20260324T171544Z
UID:10000693-1774512000-1774630800@hcca.net
SUMMARY:VDOT Work Zone Intermediate Traffic Control Training (Online) - Class is Full
DESCRIPTION:
URL:https://hcca.net/event/vdot-work-zone-intermediate-traffic-control-training-online-20/
LOCATION:ONLINE
CATEGORIES:VA Construction Safety Training Calendar
END:VEVENT
BEGIN:VEVENT
DTSTART;TZID=America/New_York:20260330T080000
DTEND;TZID=America/New_York:20260330T170000
DTSTAMP:20260425T091701
CREATED:20251230T200901Z
LAST-MODIFIED:20251230T200901Z
UID:10000677-1774857600-1774890000@hcca.net
SUMMARY:VDOT Work Zone Basic in Spanish (In Person)
DESCRIPTION:Register
URL:https://hcca.net/event/vdot-work-zone-basic-in-spanish-in-person/
LOCATION:HCCA\, 9251 Industrial Ct\, Suite 201\, Manassas\, VA\, 20109\, United States
CATEGORIES:VA Construction Safety Training Calendar
END:VEVENT
BEGIN:VEVENT
DTSTART;TZID=UTC:20260331T080000
DTEND;TZID=UTC:20260331T170000
DTSTAMP:20260425T091701
CREATED:20260312T174450Z
LAST-MODIFIED:20260312T174450Z
UID:10000751-1774944000-1774976400@hcca.net
SUMMARY:OSHA 30 in SPANISH Day 1 (In Person) - MUST ATTEND ALL 4 DAYS MARCH 31\, April 7\, April 14\, April 21
DESCRIPTION:register
URL:https://hcca.net/event/osha-30-in-spanish-day-1-in-person-must-attend-all-4-days-march-31-april-7-april-14-april-21/
LOCATION:HCCA\, 9251 Industrial Ct\, Suite 201\, Manassas\, VA\, 20109\, United States
CATEGORIES:VA Construction Safety Training Calendar
END:VEVENT
BEGIN:VEVENT
DTSTART;TZID=UTC:20260407T080000
DTEND;TZID=UTC:20260407T170000
DTSTAMP:20260425T091701
CREATED:20260312T174528Z
LAST-MODIFIED:20260312T174932Z
UID:10000752-1775548800-1775581200@hcca.net
SUMMARY:OSHA 30 in SPANISH Day 2 (In Person)
DESCRIPTION:
URL:https://hcca.net/event/osha-30-day-2-in-person-3/
LOCATION:HCCA\, 9251 Industrial Ct\, Suite 201\, Manassas\, VA\, 20109\, United States
CATEGORIES:VA Construction Safety Training Calendar
END:VEVENT
BEGIN:VEVENT
DTSTART;TZID=UTC:20260409T080000
DTEND;TZID=UTC:20260410T170000
DTSTAMP:20260425T091701
CREATED:20251230T202147Z
LAST-MODIFIED:20251230T202147Z
UID:10000690-1775721600-1775840400@hcca.net
SUMMARY:VDOT Work Zone Intermediate Traffic Control Training (In Person)
DESCRIPTION:Register
URL:https://hcca.net/event/vdot-work-zone-intermediate-traffic-control-training-in-person-27/
LOCATION:HCCA\, 9251 Industrial Ct\, Suite 201\, Manassas\, VA\, 20109\, United States
CATEGORIES:VA Construction Safety Training Calendar
END:VEVENT
BEGIN:VEVENT
DTSTART;TZID=UTC:20260413T080000
DTEND;TZID=UTC:20260413T170000
DTSTAMP:20260425T091701
CREATED:20251230T200203Z
LAST-MODIFIED:20251230T200545Z
UID:10000673-1776067200-1776099600@hcca.net
SUMMARY:VDOT Work Zone Basic (In Person)
DESCRIPTION:Register
URL:https://hcca.net/event/vdot-work-zone-basic-in-person-6/
LOCATION:HCCA\, 9251 Industrial Ct\, Suite 201\, Manassas\, VA\, 20109\, United States
CATEGORIES:VA Construction Safety Training Calendar
END:VEVENT
BEGIN:VEVENT
DTSTART;TZID=UTC:20260414T080000
DTEND;TZID=UTC:20260414T170000
DTSTAMP:20260425T091701
CREATED:20260312T174557Z
LAST-MODIFIED:20260312T174811Z
UID:10000753-1776153600-1776186000@hcca.net
SUMMARY:OSHA 30 in SPANISH Day 3 (In Person)
DESCRIPTION:
URL:https://hcca.net/event/osha-30-day-3-in-person-3/
LOCATION:HCCA\, 9251 Industrial Ct\, Suite 201\, Manassas\, VA\, 20109\, United States
CATEGORIES:VA Construction Safety Training Calendar
END:VEVENT
BEGIN:VEVENT
DTSTART;TZID=UTC:20260415T080000
DTEND;TZID=UTC:20260415T170000
DTSTAMP:20260425T091701
CREATED:20251230T201919Z
LAST-MODIFIED:20260408T122237Z
UID:10000687-1776240000-1776272400@hcca.net
SUMMARY:VDOT Erosion & Sediment Control Contractors Certification Course for Qualified Personnel (Online) - Call to Register
DESCRIPTION:
URL:https://hcca.net/event/vdot-erosion-sediment-control-contractors-certification-course-for-qualified-personnel-online-6/
LOCATION:ONLINE
CATEGORIES:VA Construction Safety Training Calendar
END:VEVENT
END:VCALENDAR