BEGIN:VCALENDAR
VERSION:2.0
PRODID:-//HCCA - ECPv6.15.17.1//NONSGML v1.0//EN
CALSCALE:GREGORIAN
METHOD:PUBLISH
X-ORIGINAL-URL:https://hcca.net
X-WR-CALDESC:Events for HCCA
REFRESH-INTERVAL;VALUE=DURATION:PT1H
X-Robots-Tag:noindex
X-PUBLISHED-TTL:PT1H
BEGIN:VTIMEZONE
TZID:UTC
BEGIN:STANDARD
TZOFFSETFROM:+0000
TZOFFSETTO:+0000
TZNAME:UTC
DTSTART:20230101T000000
END:STANDARD
END:VTIMEZONE
BEGIN:VEVENT
DTSTART;TZID=UTC:20241118T080000
DTEND;TZID=UTC:20241118T170000
DTSTAMP:20260422T183506
CREATED:20240109T214728Z
LAST-MODIFIED:20241105T224905Z
UID:10000455-1731916800-1731949200@hcca.net
SUMMARY:Work Zone Basic Traffic Control Training (In Person)
DESCRIPTION:Register
URL:https://hcca.net/event/work-zone-basic-traffic-control-training-spanish-in-person-7/
LOCATION:HCCA\, 9251 Industrial Ct\, Suite 201\, Manassas\, VA\, 20109\, United States
CATEGORIES:VA Construction Safety Training Calendar
END:VEVENT
BEGIN:VEVENT
DTSTART;TZID=UTC:20241120T080000
DTEND;TZID=UTC:20241120T170000
DTSTAMP:20260422T183506
CREATED:20240826T194727Z
LAST-MODIFIED:20240903T174258Z
UID:10000479-1732089600-1732122000@hcca.net
SUMMARY:VDOT Erosion & Sediment Control Contractor Certification Course for Qualified Personal (In Person)
DESCRIPTION:Register
URL:https://hcca.net/event/vdot-erosion-sediment-control-contractor-certification-course-for-qualified-personal-in-person-2/
LOCATION:HCCA\, 9251 Industrial Ct\, Suite 201\, Manassas\, VA\, 20109\, United States
CATEGORIES:VA Construction Safety Training Calendar
END:VEVENT
BEGIN:VEVENT
DTSTART;TZID=UTC:20241121T080000
DTEND;TZID=UTC:20241122T170000
DTSTAMP:20260422T183506
CREATED:20240109T212842Z
LAST-MODIFIED:20241119T001529Z
UID:10000441-1732176000-1732294800@hcca.net
SUMMARY:VDOT Work Zone Intermediate Traffic Control Training (Online) - REGISTRATION CLOSED
DESCRIPTION:
URL:https://hcca.net/event/vdot-work-zone-intermediate-traffic-control-training-online-7/
LOCATION:ONLINE
CATEGORIES:VA Construction Safety Training Calendar
END:VEVENT
BEGIN:VEVENT
DTSTART;TZID=UTC:20241125T080000
DTEND;TZID=UTC:20241125T170000
DTSTAMP:20260422T183506
CREATED:20240109T215239Z
LAST-MODIFIED:20241122T201615Z
UID:10000462-1732521600-1732554000@hcca.net
SUMMARY:Work Zone Basic Traffic Control Training in Spanish (In Person) - Registration Closed
DESCRIPTION:
URL:https://hcca.net/event/work-zone-basic-traffic-control-training-in-person-7/
LOCATION:HCCA\, 9251 Industrial Ct\, Suite 201\, Manassas\, VA\, 20109\, United States
CATEGORIES:VA Construction Safety Training Calendar
END:VEVENT
BEGIN:VEVENT
DTSTART;TZID=UTC:20241204T080000
DTEND;TZID=UTC:20241204T170000
DTSTAMP:20260422T183506
CREATED:20240826T195633Z
LAST-MODIFIED:20240826T195736Z
UID:10000480-1733299200-1733331600@hcca.net
SUMMARY:VDOT Erosion & Sediment Control Contractor Certification Course for Qualified Personal (In Person)
DESCRIPTION:Register
URL:https://hcca.net/event/vdot-erosion-sediment-control-contractor-certification-course-for-qualified-personal-in-person-3/
LOCATION:HCCA\, 9251 Industrial Ct\, Suite 201\, Manassas\, VA\, 20109\, United States
CATEGORIES:VA Construction Safety Training Calendar
END:VEVENT
BEGIN:VEVENT
DTSTART;TZID=UTC:20241205T070000
DTEND;TZID=UTC:20241205T230000
DTSTAMP:20260422T183506
CREATED:20241028T183214Z
LAST-MODIFIED:20241107T195044Z
UID:10000491-1733382000-1733439600@hcca.net
SUMMARY:Basic Rigger in Spanish (In Person)
DESCRIPTION:Register
URL:https://hcca.net/event/basic-rigger-in-spanish-in-person/
LOCATION:HCCA\, 9251 Industrial Ct\, Suite 201\, Manassas\, VA\, 20109\, United States
CATEGORIES:VA Construction Safety Training Calendar
END:VEVENT
BEGIN:VEVENT
DTSTART;TZID=UTC:20241210T070000
DTEND;TZID=UTC:20241210T230000
DTSTAMP:20260422T183506
CREATED:20241028T183417Z
LAST-MODIFIED:20241107T195155Z
UID:10000492-1733814000-1733871600@hcca.net
SUMMARY:Basic Rigger (In Person)
DESCRIPTION:Register
URL:https://hcca.net/event/basic-rigger-in-person/
LOCATION:HCCA\, 9251 Industrial Ct\, Suite 201\, Manassas\, VA\, 20109\, United States
CATEGORIES:VA Construction Safety Training Calendar
END:VEVENT
BEGIN:VEVENT
DTSTART;TZID=UTC:20241211T080000
DTEND;TZID=UTC:20241211T170000
DTSTAMP:20260422T183506
CREATED:20240109T210707Z
LAST-MODIFIED:20241111T212454Z
UID:10000427-1733904000-1733936400@hcca.net
SUMMARY:VDOT Erosion & Sediment Control Contractor Certification Course for Qualified Personal (Online) - Class is Full
DESCRIPTION:
URL:https://hcca.net/event/vdot-erosion-sediment-control-contractor-certification-in-person-or-online-6/
LOCATION:ONLINE
CATEGORIES:VA Construction Safety Training Calendar
END:VEVENT
BEGIN:VEVENT
DTSTART;TZID=UTC:20241212T080000
DTEND;TZID=UTC:20241213T170000
DTSTAMP:20260422T183506
CREATED:20240109T212925Z
LAST-MODIFIED:20240109T212925Z
UID:10000442-1733990400-1734109200@hcca.net
SUMMARY:VDOT Work Zone Intermediate Traffic Control Training (In Person)
DESCRIPTION:Register
URL:https://hcca.net/event/vdot-work-zone-intermediate-traffic-control-training-in-person-9/
LOCATION:HCCA\, 9251 Industrial Ct\, Suite 201\, Manassas\, VA\, 20109\, United States
CATEGORIES:VA Construction Safety Training Calendar
END:VEVENT
BEGIN:VEVENT
DTSTART;TZID=UTC:20241216T070000
DTEND;TZID=UTC:20241216T230000
DTSTAMP:20260422T183506
CREATED:20241028T183500Z
LAST-MODIFIED:20241107T195117Z
UID:10000304-1734332400-1734390000@hcca.net
SUMMARY:Basic Rigger (In Person)
DESCRIPTION:Register
URL:https://hcca.net/event/basic-rigger-in-person-2/
LOCATION:VA
CATEGORIES:VA Construction Safety Training Calendar
END:VEVENT
BEGIN:VEVENT
DTSTART;TZID=UTC:20241217T080000
DTEND;TZID=UTC:20241217T170000
DTSTAMP:20260422T183506
CREATED:20240109T213918Z
LAST-MODIFIED:20241213T001708Z
UID:10000450-1734422400-1734454800@hcca.net
SUMMARY:VDOT Erosion & Sediment Control Contractor Certification Course for Qualified Personal (Online) - Call to Register
DESCRIPTION:
URL:https://hcca.net/event/first-aid-cpr-aed-training-in-person-7/
LOCATION:HCCA\, 9251 Industrial Ct\, Suite 201\, Manassas\, VA\, 20109\, United States
CATEGORIES:VA Construction Safety Training Calendar
END:VEVENT
BEGIN:VEVENT
DTSTART;TZID=UTC:20241218T080000
DTEND;TZID=UTC:20241218T170000
DTSTAMP:20260422T183506
CREATED:20240109T215311Z
LAST-MODIFIED:20241028T183251Z
UID:10000274-1734508800-1734541200@hcca.net
SUMMARY:Work Zone Basic Traffic Control Training (In Person)
DESCRIPTION:Register
URL:https://hcca.net/event/work-zone-basic-traffic-control-training-in-person-8/
LOCATION:HCCA\, 9251 Industrial Ct\, Suite 201\, Manassas\, VA\, 20109\, United States
CATEGORIES:VA Construction Safety Training Calendar
END:VEVENT
BEGIN:VEVENT
DTSTART;TZID=UTC:20241219T080000
DTEND;TZID=UTC:20241220T170000
DTSTAMP:20260422T183506
CREATED:20240109T213008Z
LAST-MODIFIED:20241219T003244Z
UID:10000443-1734595200-1734714000@hcca.net
SUMMARY:VDOT Work Zone Intermediate Traffic Control Training (Online) - REGISTRATION CLOSED
DESCRIPTION:
URL:https://hcca.net/event/vdot-work-zone-intermediate-traffic-control-training-online-8/
LOCATION:ONLINE
CATEGORIES:VA Construction Safety Training Calendar
END:VEVENT
BEGIN:VEVENT
DTSTART;TZID=UTC:20250106T080000
DTEND;TZID=UTC:20250106T170000
DTSTAMP:20260422T183506
CREATED:20241121T230619Z
LAST-MODIFIED:20241121T230740Z
UID:10000501-1736150400-1736182800@hcca.net
SUMMARY:First Aid/CPR/AED Training (In Person) - Class Is Full
DESCRIPTION:
URL:https://hcca.net/event/first-aid-cpr-aed-in-person-class-is-full/
LOCATION:VA
CATEGORIES:VA Construction Safety Training Calendar
END:VEVENT
BEGIN:VEVENT
DTSTART;TZID=UTC:20250107T080000
DTEND;TZID=UTC:20250107T170000
DTSTAMP:20260422T183506
CREATED:20241121T235806Z
LAST-MODIFIED:20241121T235806Z
UID:10000514-1736236800-1736269200@hcca.net
SUMMARY:OSHA 30 Day 1 (In Person)
DESCRIPTION:register
URL:https://hcca.net/event/osha-30-day-1-in-person/
LOCATION:HCCA\, 9251 Industrial Ct\, Suite 201\, Manassas\, VA\, 20109\, United States
CATEGORIES:VA Construction Safety Training Calendar
END:VEVENT
BEGIN:VEVENT
DTSTART;TZID=UTC:20250108T080000
DTEND;TZID=UTC:20250108T170000
DTSTAMP:20260422T183506
CREATED:20241121T233823Z
LAST-MODIFIED:20241210T203533Z
UID:10000505-1736323200-1736355600@hcca.net
SUMMARY:VDOT Erosion & Sediment Control Contractor Certification Course for Qualified Personal (In Person) - Class is full
DESCRIPTION:
URL:https://hcca.net/event/vdot-erosion-sediment-control-contractor-certification-course-for-qualified-personal-in-person-4/
LOCATION:HCCA\, 9251 Industrial Ct\, Suite 201\, Manassas\, VA\, 20109\, United States
CATEGORIES:VA Construction Safety Training Calendar
END:VEVENT
BEGIN:VEVENT
DTSTART;TZID=UTC:20250109T080000
DTEND;TZID=UTC:20250110T170000
DTSTAMP:20260422T183506
CREATED:20241121T234456Z
LAST-MODIFIED:20241121T234456Z
UID:10000509-1736409600-1736528400@hcca.net
SUMMARY:VDOT Work Zone Intermediate Traffic Control Training (In Person)
DESCRIPTION:register
URL:https://hcca.net/event/vdot-work-zone-intermediate-traffic-control-training-in-person-4/
LOCATION:HCCA\, 9251 Industrial Ct\, Suite 201\, Manassas\, VA\, 20109\, United States
CATEGORIES:VA Construction Safety Training Calendar
END:VEVENT
BEGIN:VEVENT
DTSTART;TZID=UTC:20250113T080000
DTEND;TZID=UTC:20250113T170000
DTSTAMP:20260422T183506
CREATED:20241121T230806Z
LAST-MODIFIED:20241121T230806Z
UID:10000502-1736755200-1736787600@hcca.net
SUMMARY:First Aid/CPR/AED Training (In Person) - Class Is Full
DESCRIPTION:
URL:https://hcca.net/event/first-aid-cpr-aed-training-in-person-class-is-full/
LOCATION:VA
CATEGORIES:VA Construction Safety Training Calendar
END:VEVENT
BEGIN:VEVENT
DTSTART;TZID=UTC:20250114T080000
DTEND;TZID=UTC:20250114T170000
DTSTAMP:20260422T183506
CREATED:20241121T235908Z
LAST-MODIFIED:20241122T000116Z
UID:10000515-1736841600-1736874000@hcca.net
SUMMARY:OSHA 30 Day 2 (In Person) - Registration Closed
DESCRIPTION:
URL:https://hcca.net/event/osha-30-day-2-in-person-registration-closed/
LOCATION:HCCA\, 9251 Industrial Ct\, Suite 201\, Manassas\, VA\, 20109\, United States
CATEGORIES:VA Construction Safety Training Calendar
END:VEVENT
BEGIN:VEVENT
DTSTART;TZID=UTC:20250115T080000
DTEND;TZID=UTC:20250115T100000
DTSTAMP:20260422T183506
CREATED:20241210T053942Z
LAST-MODIFIED:20241210T060503Z
UID:10000526-1736928000-1736935200@hcca.net
SUMMARY:Confined Space Training (In Person)
DESCRIPTION:Register
URL:https://hcca.net/event/confined-space-training/
LOCATION:HCCA\, 9251 Industrial Ct\, Suite 201\, Manassas\, VA\, 20109\, United States
CATEGORIES:VA Construction Safety Training Calendar
END:VEVENT
BEGIN:VEVENT
DTSTART;TZID=UTC:20250115T100000
DTEND;TZID=UTC:20250115T120000
DTSTAMP:20260422T183506
CREATED:20241210T054057Z
LAST-MODIFIED:20241210T060600Z
UID:10000527-1736935200-1736942400@hcca.net
SUMMARY:Fall Protection Training (In Person)
DESCRIPTION:Register
URL:https://hcca.net/event/fall-protection-training/
LOCATION:HCCA\, 9251 Industrial Ct\, Suite 201\, Manassas\, VA\, 20109\, United States
CATEGORIES:VA Construction Safety Training Calendar
END:VEVENT
BEGIN:VEVENT
DTSTART;TZID=UTC:20250115T130000
DTEND;TZID=UTC:20250115T150000
DTSTAMP:20260422T183506
CREATED:20241210T054158Z
LAST-MODIFIED:20241210T060639Z
UID:10000528-1736946000-1736953200@hcca.net
SUMMARY:Lock Out Tag Out Training (In Person)
DESCRIPTION:Register
URL:https://hcca.net/event/lock-out-tag-out-training/
LOCATION:HCCA\, 9251 Industrial Ct\, Suite 201\, Manassas\, VA\, 20109\, United States
CATEGORIES:VA Construction Safety Training Calendar
END:VEVENT
BEGIN:VEVENT
DTSTART;TZID=UTC:20250117T080000
DTEND;TZID=UTC:20250117T170000
DTSTAMP:20260422T183506
CREATED:20241219T003438Z
LAST-MODIFIED:20250115T225914Z
UID:10000587-1737100800-1737133200@hcca.net
SUMMARY:VDOT Erosion & Sediment Control Contractors Certification Course for Qualified Personnel (Online) - Registration Closed
DESCRIPTION:
URL:https://hcca.net/event/vdot-erosion-sediment-control-contractors-certification-course-for-qualified-personnel-online-12/
LOCATION:ONLINE
CATEGORIES:VA Construction Safety Training Calendar
END:VEVENT
BEGIN:VEVENT
DTSTART;TZID=UTC:20250120T080000
DTEND;TZID=UTC:20250120T170000
DTSTAMP:20260422T183506
CREATED:20241121T230843Z
LAST-MODIFIED:20241121T230843Z
UID:10000503-1737360000-1737392400@hcca.net
SUMMARY:First Aid/CPR/AED Training (In Person) - Class Is Full
DESCRIPTION:
URL:https://hcca.net/event/first-aid-cpr-aed-training-in-person-class-is-full-2/
LOCATION:VA
CATEGORIES:VA Construction Safety Training Calendar
END:VEVENT
BEGIN:VEVENT
DTSTART;TZID=UTC:20250121T080000
DTEND;TZID=UTC:20250121T170000
DTSTAMP:20260422T183506
CREATED:20241121T235941Z
LAST-MODIFIED:20241121T235941Z
UID:10000516-1737446400-1737478800@hcca.net
SUMMARY:OSHA 30 Day 3 (In Person) - Registration Closed
DESCRIPTION:
URL:https://hcca.net/event/osha-30-day-3-in-person-registration-closed/
LOCATION:HCCA\, 9251 Industrial Ct\, Suite 201\, Manassas\, VA\, 20109\, United States
CATEGORIES:VA Construction Safety Training Calendar
END:VEVENT
BEGIN:VEVENT
DTSTART;TZID=UTC:20250122T080000
DTEND;TZID=UTC:20250122T170000
DTSTAMP:20260422T183506
CREATED:20241121T233958Z
LAST-MODIFIED:20241219T003201Z
UID:10000506-1737532800-1737565200@hcca.net
SUMMARY:VDOT Erosion & Sediment Control Contractor Certification Course for Qualified Personal (In Person) - Class is Full
DESCRIPTION:
URL:https://hcca.net/event/vdot-erosion-sediment-control-contractor-certification-course-for-qualified-personal-in-person-5/
LOCATION:HCCA\, 9251 Industrial Ct\, Suite 201\, Manassas\, VA\, 20109\, United States
CATEGORIES:VA Construction Safety Training Calendar
END:VEVENT
BEGIN:VEVENT
DTSTART;TZID=UTC:20250123T080000
DTEND;TZID=UTC:20250124T170000
DTSTAMP:20260422T183506
CREATED:20241121T234547Z
LAST-MODIFIED:20250118T041745Z
UID:10000510-1737619200-1737738000@hcca.net
SUMMARY:VDOT Work Zone Intermediate Traffic Control Training (In Person) - Class is Full
DESCRIPTION:
URL:https://hcca.net/event/vdot-work-zone-intermediate-traffic-control-training-in-person-10/
LOCATION:HCCA\, 9251 Industrial Ct\, Suite 201\, Manassas\, VA\, 20109\, United States
CATEGORIES:VA Construction Safety Training Calendar
END:VEVENT
BEGIN:VEVENT
DTSTART;TZID=UTC:20250127T080000
DTEND;TZID=UTC:20250127T170000
DTSTAMP:20260422T183506
CREATED:20241121T230915Z
LAST-MODIFIED:20241121T230915Z
UID:10000504-1737964800-1737997200@hcca.net
SUMMARY:First Aid/CPR/AED Training (In Person) - Class Is Full
DESCRIPTION:
URL:https://hcca.net/event/first-aid-cpr-aed-training-in-person-class-is-full-3/
LOCATION:VA
CATEGORIES:VA Construction Safety Training Calendar
END:VEVENT
BEGIN:VEVENT
DTSTART;TZID=UTC:20250128T080000
DTEND;TZID=UTC:20250128T170000
DTSTAMP:20260422T183506
CREATED:20241122T000017Z
LAST-MODIFIED:20241122T000017Z
UID:10000517-1738051200-1738083600@hcca.net
SUMMARY:OSHA 30 Day 4 (In Person) - Registration Closed
DESCRIPTION:
URL:https://hcca.net/event/osha-30-day-4-in-person-registration-closed/
LOCATION:HCCA\, 9251 Industrial Ct\, Suite 201\, Manassas\, VA\, 20109\, United States
CATEGORIES:VA Construction Safety Training Calendar
END:VEVENT
BEGIN:VEVENT
DTSTART;TZID=UTC:20250129T080000
DTEND;TZID=UTC:20250129T100000
DTSTAMP:20260422T183506
CREATED:20241210T054334Z
LAST-MODIFIED:20241210T060725Z
UID:10000529-1738137600-1738144800@hcca.net
SUMMARY:Confined Space Training (In Person)
DESCRIPTION:Register
URL:https://hcca.net/event/confined-space-training-2/
LOCATION:HCCA\, 9251 Industrial Ct\, Suite 201\, Manassas\, VA\, 20109\, United States
CATEGORIES:VA Construction Safety Training Calendar
END:VEVENT
END:VCALENDAR