BEGIN:VCALENDAR
VERSION:2.0
PRODID:-//HCCA - ECPv6.15.17.1//NONSGML v1.0//EN
CALSCALE:GREGORIAN
METHOD:PUBLISH
X-ORIGINAL-URL:https://hcca.net
X-WR-CALDESC:Events for HCCA
REFRESH-INTERVAL;VALUE=DURATION:PT1H
X-Robots-Tag:noindex
X-PUBLISHED-TTL:PT1H
BEGIN:VTIMEZONE
TZID:UTC
BEGIN:STANDARD
TZOFFSETFROM:+0000
TZOFFSETTO:+0000
TZNAME:UTC
DTSTART:20240101T000000
END:STANDARD
END:VTIMEZONE
BEGIN:VEVENT
DTSTART;TZID=UTC:20250401T080000
DTEND;TZID=UTC:20250402T170000
DTSTAMP:20260422T174710
CREATED:20241210T063411Z
LAST-MODIFIED:20250312T222825Z
UID:10000552-1743494400-1743613200@hcca.net
SUMMARY:VDOT Work Zone Intermediate Traffic Control Training (In Person) - Class is Full
DESCRIPTION:
URL:https://hcca.net/event/vdot-work-zone-intermediate-traffic-control-training-in-person-13/
LOCATION:HCCA\, 9251 Industrial Ct\, Suite 201\, Manassas\, VA\, 20109\, United States
CATEGORIES:VA Construction Safety Training Calendar
END:VEVENT
BEGIN:VEVENT
DTSTART;TZID=UTC:20250407T073000
DTEND;TZID=UTC:20250407T170000
DTSTAMP:20260422T174710
CREATED:20241210T070951Z
LAST-MODIFIED:20250319T205731Z
UID:10000576-1744011000-1744045200@hcca.net
SUMMARY:First Aid/CPR/AED in SPANISH Training (In Person)
DESCRIPTION:Register
URL:https://hcca.net/event/first-aid-cpr-aed-training-in-person-8/
LOCATION:HCCA\, 9251 Industrial Ct\, Suite 201\, Manassas\, VA\, 20109\, United States
CATEGORIES:VA Construction Safety Training Calendar
END:VEVENT
BEGIN:VEVENT
DTSTART;TZID=UTC:20250409T080000
DTEND;TZID=UTC:20250409T170000
DTSTAMP:20260422T174710
CREATED:20241210T061425Z
LAST-MODIFIED:20241210T061425Z
UID:10000533-1744185600-1744218000@hcca.net
SUMMARY:VDOT Erosion & Sediment Control Contractors Certification Course for Qualified Personnel (In Person)
DESCRIPTION:Register
URL:https://hcca.net/event/vdot-erosion-sediment-control-contractors-certification-course-for-qualified-personnel-in-person-2/
LOCATION:HCCA\, 9251 Industrial Ct\, Suite 201\, Manassas\, VA\, 20109\, United States
CATEGORIES:VA Construction Safety Training Calendar
END:VEVENT
BEGIN:VEVENT
DTSTART;TZID=UTC:20250410T080000
DTEND;TZID=UTC:20250411T170000
DTSTAMP:20260422T174710
CREATED:20250130T225757Z
LAST-MODIFIED:20250130T225757Z
UID:10000592-1744272000-1744390800@hcca.net
SUMMARY:VDOT Work Zone Advanced Traffic Control Training (In Person)
DESCRIPTION:register
URL:https://hcca.net/event/vdot-work-zone-advanced-traffic-control-training-in-person/
LOCATION:HCCA\, 9251 Industrial Ct\, Suite 201\, Manassas\, VA\, 20109\, United States
CATEGORIES:VA Construction Safety Training Calendar
END:VEVENT
BEGIN:VEVENT
DTSTART;TZID=UTC:20250414T080000
DTEND;TZID=UTC:20250414T170000
DTSTAMP:20260422T174710
CREATED:20241210T065341Z
LAST-MODIFIED:20241210T065341Z
UID:10000382-1744617600-1744650000@hcca.net
SUMMARY:Work Zone Basic Traffic Control Training (In Person)
DESCRIPTION:Register
URL:https://hcca.net/event/work-zone-basic-traffic-control-training-in-person-10/
LOCATION:HCCA\, 9251 Industrial Ct\, Suite 201\, Manassas\, VA\, 20109\, United States
CATEGORIES:VA Construction Safety Training Calendar
END:VEVENT
BEGIN:VEVENT
DTSTART;TZID=UTC:20250416T080000
DTEND;TZID=UTC:20250416T170000
DTSTAMP:20260422T174710
CREATED:20241210T061509Z
LAST-MODIFIED:20241210T061509Z
UID:10000534-1744790400-1744822800@hcca.net
SUMMARY:VDOT Erosion & Sediment Control Contractors Certification Course for Qualified Personnel (Online)
DESCRIPTION:Register
URL:https://hcca.net/event/vdot-erosion-sediment-control-contractors-certification-course-for-qualified-personnel-online-2/
LOCATION:ONLINE
CATEGORIES:VA Construction Safety Training Calendar
END:VEVENT
BEGIN:VEVENT
DTSTART;TZID=UTC:20250417T080000
DTEND;TZID=UTC:20250418T170000
DTSTAMP:20260422T174710
CREATED:20250312T224302Z
LAST-MODIFIED:20250312T224302Z
UID:10000408-1744876800-1744995600@hcca.net
SUMMARY:VDOT Work Zone Intermediate Traffic Control Training (In Person)
DESCRIPTION:register
URL:https://hcca.net/event/vdot-work-zone-intermediate-traffic-control-training-in-person-22/
LOCATION:HCCA\, 9251 Industrial Ct\, Suite 201\, Manassas\, VA\, 20109\, United States
CATEGORIES:VA Construction Safety Training Calendar
END:VEVENT
BEGIN:VEVENT
DTSTART;TZID=UTC:20250424T080000
DTEND;TZID=UTC:20250425T170000
DTSTAMP:20260422T174710
CREATED:20241210T063455Z
LAST-MODIFIED:20241210T063455Z
UID:10000553-1745481600-1745600400@hcca.net
SUMMARY:VDOT Work Zone Intermediate Traffic Control Training (Online)
DESCRIPTION:Register
URL:https://hcca.net/event/vdot-work-zone-intermediate-traffic-control-training-online-10/
LOCATION:ONLINE
CATEGORIES:VA Construction Safety Training Calendar
END:VEVENT
BEGIN:VEVENT
DTSTART;TZID=UTC:20250507T080000
DTEND;TZID=UTC:20250507T170000
DTSTAMP:20260422T174710
CREATED:20241210T061634Z
LAST-MODIFIED:20250505T203230Z
UID:10000535-1746604800-1746637200@hcca.net
SUMMARY:VDOT Erosion & Sediment Control Contractors Certification Course for Qualified Personnel (In Person) - REGISTRATION CLOSED
DESCRIPTION:
URL:https://hcca.net/event/vdot-erosion-sediment-control-contractors-certification-course-for-qualified-personnel-in-person-3/
LOCATION:HCCA\, 9251 Industrial Ct\, Suite 201\, Manassas\, VA\, 20109\, United States
CATEGORIES:VA Construction Safety Training Calendar
END:VEVENT
BEGIN:VEVENT
DTSTART;TZID=UTC:20250508T080000
DTEND;TZID=UTC:20250509T170000
DTSTAMP:20260422T174710
CREATED:20241210T063539Z
LAST-MODIFIED:20241210T063539Z
UID:10000554-1746691200-1746810000@hcca.net
SUMMARY:VDOT Work Zone Intermediate Traffic Control Training (In Person)
DESCRIPTION:Register
URL:https://hcca.net/event/vdot-work-zone-intermediate-traffic-control-training-in-person-14/
LOCATION:HCCA\, 9251 Industrial Ct\, Suite 201\, Manassas\, VA\, 20109\, United States
CATEGORIES:VA Construction Safety Training Calendar
END:VEVENT
BEGIN:VEVENT
DTSTART;TZID=UTC:20250512T080000
DTEND;TZID=UTC:20250512T170000
DTSTAMP:20260422T174710
CREATED:20241210T065419Z
LAST-MODIFIED:20241210T065419Z
UID:10000383-1747036800-1747069200@hcca.net
SUMMARY:Work Zone Basic Traffic Control Training (In Person)
DESCRIPTION:Register
URL:https://hcca.net/event/work-zone-basic-traffic-control-training-in-person-11/
LOCATION:HCCA\, 9251 Industrial Ct\, Suite 201\, Manassas\, VA\, 20109\, United States
CATEGORIES:VA Construction Safety Training Calendar
END:VEVENT
BEGIN:VEVENT
DTSTART;TZID=UTC:20250514T080000
DTEND;TZID=UTC:20250514T170000
DTSTAMP:20260422T174710
CREATED:20241210T061725Z
LAST-MODIFIED:20250509T162015Z
UID:10000536-1747209600-1747242000@hcca.net
SUMMARY:VDOT Erosion & Sediment Control Contractors Certification Course for Qualified Personnel (Online) - Registration Closed
DESCRIPTION:
URL:https://hcca.net/event/vdot-erosion-sediment-control-contractors-certification-course-for-qualified-personnel-online-4/
LOCATION:ONLINE
CATEGORIES:VA Construction Safety Training Calendar
END:VEVENT
BEGIN:VEVENT
DTSTART;TZID=UTC:20250515T080000
DTEND;TZID=UTC:20250516T170000
DTSTAMP:20260422T174710
CREATED:20250407T192814Z
LAST-MODIFIED:20250407T192814Z
UID:10000420-1747296000-1747414800@hcca.net
SUMMARY:OSHA 10 (In Person)
DESCRIPTION:register
URL:https://hcca.net/event/osha-10-in-person-12/
LOCATION:HCCA\, 9251 Industrial Ct\, Suite 201\, Manassas\, VA\, 20109\, United States
CATEGORIES:VA Construction Safety Training Calendar
END:VEVENT
BEGIN:VEVENT
DTSTART;TZID=UTC:20250522T080000
DTEND;TZID=UTC:20250523T170000
DTSTAMP:20260422T174710
CREATED:20241210T063621Z
LAST-MODIFIED:20250519T173457Z
UID:10000555-1747900800-1748019600@hcca.net
SUMMARY:VDOT Work Zone Intermediate Traffic Control Training (Online) - REGISTRATION CLOSED
DESCRIPTION:
URL:https://hcca.net/event/vdot-work-zone-intermediate-traffic-control-training-online-11/
LOCATION:VA
CATEGORIES:VA Construction Safety Training Calendar
END:VEVENT
BEGIN:VEVENT
DTSTART;TZID=UTC:20250528T080000
DTEND;TZID=UTC:20250528T170000
DTSTAMP:20260422T174710
CREATED:20241210T061837Z
LAST-MODIFIED:20250516T161227Z
UID:10000537-1748419200-1748451600@hcca.net
SUMMARY:VDOT Erosion & Sediment Control Contractors Certification Course for Qualified Personnel (Online) - CLASS IS FULL
DESCRIPTION:
URL:https://hcca.net/event/vdot-erosion-sediment-control-contractors-certification-course-for-qualified-personnel-online-5/
LOCATION:ONLINE
CATEGORIES:VA Construction Safety Training Calendar
END:VEVENT
BEGIN:VEVENT
DTSTART;TZID=UTC:20250605T080000
DTEND;TZID=UTC:20250606T170000
DTSTAMP:20260422T174710
CREATED:20241210T063710Z
LAST-MODIFIED:20241210T063710Z
UID:10000556-1749110400-1749229200@hcca.net
SUMMARY:VDOT Work Zone Intermediate Traffic Control Training (In Person)
DESCRIPTION:Register
URL:https://hcca.net/event/vdot-work-zone-intermediate-traffic-control-training-in-person-15/
LOCATION:HCCA\, 9251 Industrial Ct\, Suite 201\, Manassas\, VA\, 20109\, United States
CATEGORIES:VA Construction Safety Training Calendar
END:VEVENT
BEGIN:VEVENT
DTSTART;TZID=UTC:20250609T080000
DTEND;TZID=UTC:20250609T170000
DTSTAMP:20260422T174710
CREATED:20241210T071102Z
LAST-MODIFIED:20241210T071102Z
UID:10000578-1749456000-1749488400@hcca.net
SUMMARY:First Aid/CPR/AED Training (In Person)
DESCRIPTION:Register
URL:https://hcca.net/event/first-aid-cpr-aed-training-in-person-10/
LOCATION:HCCA\, 9251 Industrial Ct\, Suite 201\, Manassas\, VA\, 20109\, United States
CATEGORIES:VA Construction Safety Training Calendar
END:VEVENT
BEGIN:VEVENT
DTSTART;TZID=UTC:20250611T080000
DTEND;TZID=UTC:20250611T170000
DTSTAMP:20260422T174710
CREATED:20241210T061914Z
LAST-MODIFIED:20250610T031929Z
UID:10000538-1749628800-1749661200@hcca.net
SUMMARY:VDOT Erosion & Sediment Control Contractors Certification Course for Qualified Personnel (In Person)
DESCRIPTION:Register
URL:https://hcca.net/event/vdot-erosion-sediment-control-contractors-certification-course-for-qualified-personnel-in-person-4/
LOCATION:HCCA\, 9251 Industrial Ct\, Suite 201\, Manassas\, VA\, 20109\, United States
CATEGORIES:VA Construction Safety Training Calendar
END:VEVENT
BEGIN:VEVENT
DTSTART;TZID=UTC:20250616T080000
DTEND;TZID=UTC:20250616T170000
DTSTAMP:20260422T174710
CREATED:20241210T065458Z
LAST-MODIFIED:20241210T065458Z
UID:10000384-1750060800-1750093200@hcca.net
SUMMARY:Work Zone Basic Traffic Control Training (In Person)
DESCRIPTION:Register
URL:https://hcca.net/event/work-zone-basic-traffic-control-training-in-person-12/
LOCATION:HCCA\, 9251 Industrial Ct\, Suite 201\, Manassas\, VA\, 20109\, United States
CATEGORIES:VA Construction Safety Training Calendar
END:VEVENT
BEGIN:VEVENT
DTSTART;TZID=UTC:20250625T080000
DTEND;TZID=UTC:20250625T170000
DTSTAMP:20260422T174710
CREATED:20241210T062104Z
LAST-MODIFIED:20250616T171526Z
UID:10000539-1750838400-1750870800@hcca.net
SUMMARY:VDOT Erosion & Sediment Control Contractors Certification Course for Qualified Personnel (Online) - CLASS IS FULL
DESCRIPTION:
URL:https://hcca.net/event/vdot-erosion-sediment-control-contractors-certification-course-for-qualified-personnel-online-7/
LOCATION:ONLINE
CATEGORIES:VA Construction Safety Training Calendar
END:VEVENT
BEGIN:VEVENT
DTSTART;TZID=UTC:20250626T080000
DTEND;TZID=UTC:20250627T170000
DTSTAMP:20260422T174710
CREATED:20241210T063755Z
LAST-MODIFIED:20250623T192155Z
UID:10000557-1750924800-1751043600@hcca.net
SUMMARY:VDOT Work Zone Intermediate Traffic Control Training (Online) - Call to Register
DESCRIPTION:
URL:https://hcca.net/event/vdot-work-zone-intermediate-traffic-control-training-online-12/
LOCATION:ONLINE
CATEGORIES:VA Construction Safety Training Calendar
END:VEVENT
BEGIN:VEVENT
DTSTART;TZID=UTC:20250707T080000
DTEND;TZID=UTC:20250707T170000
DTSTAMP:20260422T174710
CREATED:20241210T071150Z
LAST-MODIFIED:20250324T184931Z
UID:10000579-1751875200-1751907600@hcca.net
SUMMARY:First Aid/CPR/AED Training (In Person) - CLASS IS FULL
DESCRIPTION:
URL:https://hcca.net/event/first-aid-cpr-aed-training-in-person-11/
LOCATION:HCCA\, 9251 Industrial Ct\, Suite 201\, Manassas\, VA\, 20109\, United States
CATEGORIES:VA Construction Safety Training Calendar
END:VEVENT
BEGIN:VEVENT
DTSTART;TZID=UTC:20250709T080000
DTEND;TZID=UTC:20250709T170000
DTSTAMP:20260422T174710
CREATED:20241210T062139Z
LAST-MODIFIED:20241210T062139Z
UID:10000540-1752048000-1752080400@hcca.net
SUMMARY:VDOT Erosion & Sediment Control Contractors Certification Course for Qualified Personnel (In Person)
DESCRIPTION:Register
URL:https://hcca.net/event/vdot-erosion-sediment-control-contractors-certification-course-for-qualified-personnel-in-person-5/
LOCATION:HCCA\, 9251 Industrial Ct\, Suite 201\, Manassas\, VA\, 20109\, United States
CATEGORIES:VA Construction Safety Training Calendar
END:VEVENT
BEGIN:VEVENT
DTSTART;TZID=UTC:20250714T080000
DTEND;TZID=UTC:20250714T170000
DTSTAMP:20260422T174710
CREATED:20241210T065547Z
LAST-MODIFIED:20241210T065547Z
UID:10000385-1752480000-1752512400@hcca.net
SUMMARY:Work Zone Basic Traffic Control Training (In Person)
DESCRIPTION:Register
URL:https://hcca.net/event/work-zone-basic-traffic-control-training-in-person-13/
LOCATION:HCCA\, 9251 Industrial Ct\, Suite 201\, Manassas\, VA\, 20109\, United States
CATEGORIES:VA Construction Safety Training Calendar
END:VEVENT
BEGIN:VEVENT
DTSTART;TZID=UTC:20250715T080000
DTEND;TZID=UTC:20250716T170000
DTSTAMP:20260422T174710
CREATED:20250602T192851Z
LAST-MODIFIED:20250602T192851Z
UID:10000596-1752566400-1752685200@hcca.net
SUMMARY:OSHA 10
DESCRIPTION:Register
URL:https://hcca.net/event/osha-10-7/
LOCATION:HCCA\, 9251 Industrial Ct\, Suite 201\, Manassas\, VA\, 20109\, United States
CATEGORIES:VA Construction Safety Training Calendar
END:VEVENT
BEGIN:VEVENT
DTSTART;TZID=UTC:20250717T080000
DTEND;TZID=UTC:20250718T170000
DTSTAMP:20260422T174710
CREATED:20250602T192317Z
LAST-MODIFIED:20250702T170110Z
UID:10000595-1752739200-1752858000@hcca.net
SUMMARY:VDOT Work Zone Intermediate Traffic Control Training (In Person) - CALL TO REGISTER
DESCRIPTION:
URL:https://hcca.net/event/vdot-work-zone-intermediate-traffic-control-training-in-person-16/
LOCATION:HCCA\, 9251 Industrial Ct\, Suite 201\, Manassas\, VA\, 20109\, United States
CATEGORIES:VA Construction Safety Training Calendar
END:VEVENT
BEGIN:VEVENT
DTSTART;TZID=UTC:20250721T080000
DTEND;TZID=UTC:20250721T170000
DTSTAMP:20260422T174710
CREATED:20241210T070305Z
LAST-MODIFIED:20241210T070305Z
UID:10000571-1753084800-1753117200@hcca.net
SUMMARY:Work Zone Basic Traffic Control Training in Spanish (In Person)
DESCRIPTION:Register
URL:https://hcca.net/event/work-zone-basic-traffic-control-training-in-spanish-in-person-5/
LOCATION:HCCA\, 9251 Industrial Ct\, Suite 201\, Manassas\, VA\, 20109\, United States
CATEGORIES:VA Construction Safety Training Calendar
END:VEVENT
BEGIN:VEVENT
DTSTART;TZID=UTC:20250723T080000
DTEND;TZID=UTC:20250723T170000
DTSTAMP:20260422T174710
CREATED:20241210T062225Z
LAST-MODIFIED:20250718T161354Z
UID:10000541-1753257600-1753290000@hcca.net
SUMMARY:VDOT Erosion & Sediment Control Contractors Certification Course for Qualified Personnel (Online) - Please call to register.
DESCRIPTION:
URL:https://hcca.net/event/vdot-erosion-sediment-control-contractors-certification-course-for-qualified-personnel-online-8/
LOCATION:ONLINE
CATEGORIES:VA Construction Safety Training Calendar
END:VEVENT
BEGIN:VEVENT
DTSTART;TZID=UTC:20250724T080000
DTEND;TZID=UTC:20250725T170000
DTSTAMP:20260422T174710
CREATED:20241210T063932Z
LAST-MODIFIED:20250718T161437Z
UID:10000558-1753344000-1753462800@hcca.net
SUMMARY:VDOT Work Zone Intermediate Traffic Control Training (Online) - Please call to register.
DESCRIPTION:
URL:https://hcca.net/event/vdot-work-zone-intermediate-traffic-control-training-online-13/
LOCATION:ONLINE
CATEGORIES:VA Construction Safety Training Calendar
END:VEVENT
BEGIN:VEVENT
DTSTART;TZID=UTC:20250804T080000
DTEND;TZID=UTC:20250804T170000
DTSTAMP:20260422T174710
CREATED:20241210T071226Z
LAST-MODIFIED:20241210T071226Z
UID:10000580-1754294400-1754326800@hcca.net
SUMMARY:First Aid/CPR/AED Training (In Person)
DESCRIPTION:Register
URL:https://hcca.net/event/first-aid-cpr-aed-training-in-person-12/
LOCATION:HCCA\, 9251 Industrial Ct\, Suite 201\, Manassas\, VA\, 20109\, United States
CATEGORIES:VA Construction Safety Training Calendar
END:VEVENT
END:VCALENDAR