BEGIN:VCALENDAR
VERSION:2.0
PRODID:-//HCCA - ECPv6.15.17.1//NONSGML v1.0//EN
CALSCALE:GREGORIAN
METHOD:PUBLISH
X-ORIGINAL-URL:https://hcca.net
X-WR-CALDESC:Events for HCCA
REFRESH-INTERVAL;VALUE=DURATION:PT1H
X-Robots-Tag:noindex
X-PUBLISHED-TTL:PT1H
BEGIN:VTIMEZONE
TZID:UTC
BEGIN:STANDARD
TZOFFSETFROM:+0000
TZOFFSETTO:+0000
TZNAME:UTC
DTSTART:20230101T000000
END:STANDARD
END:VTIMEZONE
BEGIN:VEVENT
DTSTART;TZID=UTC:20240610T080000
DTEND;TZID=UTC:20240610T170000
DTSTAMP:20260422T185624
CREATED:20240109T214434Z
LAST-MODIFIED:20240604T172654Z
UID:10000452-1718006400-1718038800@hcca.net
SUMMARY:Custom Class - Registration Closed
DESCRIPTION:
URL:https://hcca.net/event/work-zone-basic-traffic-control-training-spanish-in-person-2/
LOCATION:HCCA\, 9251 Industrial Ct\, Suite 201\, Manassas\, VA\, 20109\, United States
CATEGORIES:VA Construction Safety Training Calendar
END:VEVENT
BEGIN:VEVENT
DTSTART;TZID=UTC:20240613T080000
DTEND;TZID=UTC:20240614T170000
DTSTAMP:20260422T185624
CREATED:20240416T202647Z
LAST-MODIFIED:20240416T202647Z
UID:10000470-1718265600-1718384400@hcca.net
SUMMARY:Custom Training - REGISTRATION CLOSED
DESCRIPTION:
URL:https://hcca.net/event/custom-training-registration-closed-2/
LOCATION:VA
CATEGORIES:VA Construction Safety Training Calendar
END:VEVENT
BEGIN:VEVENT
DTSTART;TZID=UTC:20240617T080000
DTEND;TZID=UTC:20240617T170000
DTSTAMP:20260422T185624
CREATED:20240109T214924Z
LAST-MODIFIED:20240205T200730Z
UID:10000457-1718611200-1718643600@hcca.net
SUMMARY:Work Zone Basic Traffic Control Training (In Person)
DESCRIPTION:Register
URL:https://hcca.net/event/work-zone-basic-traffic-control-training-in-person-2/
LOCATION:HCCA\, 9251 Industrial Ct\, Suite 201\, Manassas\, VA\, 20109\, United States
CATEGORIES:VA Construction Safety Training Calendar
END:VEVENT
BEGIN:VEVENT
DTSTART;TZID=UTC:20240620T080000
DTEND;TZID=UTC:20240621T170000
DTSTAMP:20260422T185624
CREATED:20240109T215508Z
LAST-MODIFIED:20240606T202736Z
UID:10000278-1718870400-1718989200@hcca.net
SUMMARY:OSHA 10 in Spanish (In Person)
DESCRIPTION:Register
URL:https://hcca.net/event/osha-10-in-person-7/
LOCATION:VA
CATEGORIES:VA Construction Safety Training Calendar
END:VEVENT
BEGIN:VEVENT
DTSTART;TZID=UTC:20240624T080000
DTEND;TZID=UTC:20240625T170000
DTSTAMP:20260422T185624
CREATED:20240205T200820Z
LAST-MODIFIED:20240205T200820Z
UID:10000286-1719216000-1719334800@hcca.net
SUMMARY:Custom Training (Registration Closed)
DESCRIPTION:
URL:https://hcca.net/event/custom-training-registration-closed/
LOCATION:VA
CATEGORIES:VA Construction Safety Training Calendar
END:VEVENT
BEGIN:VEVENT
DTSTART;TZID=UTC:20240626T080000
DTEND;TZID=UTC:20240626T170000
DTSTAMP:20260422T185624
CREATED:20240109T210149Z
LAST-MODIFIED:20240624T172006Z
UID:10000248-1719388800-1719421200@hcca.net
SUMMARY:VDOT Erosion & Sediment Control Contractor Certification (Hybrid - In Person or Online) - REGISTRATION CLOSED
DESCRIPTION:
URL:https://hcca.net/event/vdot-erosion-sediment-control-contractor-certification-online/
LOCATION:ONLINE
CATEGORIES:VA Construction Safety Training Calendar
END:VEVENT
BEGIN:VEVENT
DTSTART;TZID=UTC:20240627T080000
DTEND;TZID=UTC:20240628T170000
DTSTAMP:20260422T185624
CREATED:20240109T212149Z
LAST-MODIFIED:20240624T172043Z
UID:10000432-1719475200-1719594000@hcca.net
SUMMARY:VDOT Work Zone Intermediate Traffic Control Training (Online) - REGISTRATION CLOSED
DESCRIPTION:
URL:https://hcca.net/event/vdot-work-zone-intermediate-traffic-control-training-online-2/
LOCATION:ONLINE
CATEGORIES:VA Construction Safety Training Calendar
END:VEVENT
BEGIN:VEVENT
DTSTART;TZID=UTC:20240708T080000
DTEND;TZID=UTC:20240708T170000
DTSTAMP:20260422T185624
CREATED:20240109T213632Z
LAST-MODIFIED:20240109T213632Z
UID:10000445-1720425600-1720458000@hcca.net
SUMMARY:First Aid/CPR/AED Training (In Person)
DESCRIPTION:Register
URL:https://hcca.net/event/first-aid-cpr-aed-training-in-person-2/
LOCATION:HCCA\, 9251 Industrial Ct\, Suite 201\, Manassas\, VA\, 20109\, United States
CATEGORIES:VA Construction Safety Training Calendar
END:VEVENT
BEGIN:VEVENT
DTSTART;TZID=UTC:20240715T080000
DTEND;TZID=UTC:20240715T170000
DTSTAMP:20260422T185624
CREATED:20240109T214509Z
LAST-MODIFIED:20240109T220121Z
UID:10000453-1721030400-1721062800@hcca.net
SUMMARY:Work Zone Basic Traffic Control Training - Spanish (In Person)
DESCRIPTION:Register
URL:https://hcca.net/event/work-zone-basic-traffic-control-training-spanish-in-person-3/
LOCATION:HCCA\, 9251 Industrial Ct\, Suite 201\, Manassas\, VA\, 20109\, United States
CATEGORIES:VA Construction Safety Training Calendar
END:VEVENT
BEGIN:VEVENT
DTSTART;TZID=UTC:20240717T080000
DTEND;TZID=UTC:20240717T170000
DTSTAMP:20260422T185624
CREATED:20240109T210347Z
LAST-MODIFIED:20240712T200156Z
UID:10000250-1721203200-1721235600@hcca.net
SUMMARY:VDOT Erosion & Sediment Control Contractor Certification (Online) - REGISTATION CLOSED
DESCRIPTION:
URL:https://hcca.net/event/vdot-erosion-sediment-control-contractor-certification-in-person-or-online/
LOCATION:HCCA\, 9251 Industrial Ct\, Suite 201\, Manassas\, VA\, 20109\, United States
CATEGORIES:VA Construction Safety Training Calendar
END:VEVENT
BEGIN:VEVENT
DTSTART;TZID=UTC:20240718T080000
DTEND;TZID=UTC:20240719T170000
DTSTAMP:20260422T185624
CREATED:20240109T212323Z
LAST-MODIFIED:20240715T201437Z
UID:10000433-1721289600-1721408400@hcca.net
SUMMARY:VDOT Work Zone Intermediate Traffic Control Training (Online) - REGISTATION CLOSED
DESCRIPTION:
URL:https://hcca.net/event/vdot-work-zone-intermediate-traffic-control-training-online-3/
LOCATION:ONLINE
CATEGORIES:VA Construction Safety Training Calendar
END:VEVENT
BEGIN:VEVENT
DTSTART;TZID=UTC:20240722T080000
DTEND;TZID=UTC:20240722T170000
DTSTAMP:20260422T185624
CREATED:20240109T215004Z
LAST-MODIFIED:20240109T215004Z
UID:10000458-1721635200-1721667600@hcca.net
SUMMARY:Work Zone Basic Traffic Control Training (In Person)
DESCRIPTION:Register
URL:https://hcca.net/event/work-zone-basic-traffic-control-training-in-person-3/
LOCATION:HCCA\, 9251 Industrial Ct\, Suite 201\, Manassas\, VA\, 20109\, United States
CATEGORIES:VA Construction Safety Training Calendar
END:VEVENT
BEGIN:VEVENT
DTSTART;TZID=UTC:20240808T080000
DTEND;TZID=UTC:20240809T170000
DTSTAMP:20260422T185624
CREATED:20240109T212406Z
LAST-MODIFIED:20240109T212406Z
UID:10000434-1723104000-1723222800@hcca.net
SUMMARY:VDOT Work Zone Intermediate Traffic Control Training (In Person)
DESCRIPTION:Register
URL:https://hcca.net/event/vdot-work-zone-intermediate-traffic-control-training-in-person-5/
LOCATION:HCCA\, 9251 Industrial Ct\, Suite 201\, Manassas\, VA\, 20109\, United States
CATEGORIES:VA Construction Safety Training Calendar
END:VEVENT
BEGIN:VEVENT
DTSTART;TZID=UTC:20240813T080000
DTEND;TZID=UTC:20240813T170000
DTSTAMP:20260422T185624
CREATED:20240109T213707Z
LAST-MODIFIED:20240807T193230Z
UID:10000446-1723536000-1723568400@hcca.net
SUMMARY:First Aid/CPR/AED Training - REGISTATION CLOSED
DESCRIPTION:
URL:https://hcca.net/event/first-aid-cpr-aed-training-in-person-3/
LOCATION:HCCA\, 9251 Industrial Ct\, Suite 201\, Manassas\, VA\, 20109\, United States
CATEGORIES:VA Construction Safety Training Calendar
END:VEVENT
BEGIN:VEVENT
DTSTART;TZID=UTC:20240819T080000
DTEND;TZID=UTC:20240819T170000
DTSTAMP:20260422T185624
CREATED:20240109T215044Z
LAST-MODIFIED:20240109T215044Z
UID:10000459-1724054400-1724086800@hcca.net
SUMMARY:Work Zone Basic Traffic Control Training (In Person)
DESCRIPTION:Register
URL:https://hcca.net/event/work-zone-basic-traffic-control-training-in-person-4/
LOCATION:HCCA\, 9251 Industrial Ct\, Suite 201\, Manassas\, VA\, 20109\, United States
CATEGORIES:VA Construction Safety Training Calendar
END:VEVENT
BEGIN:VEVENT
DTSTART;TZID=UTC:20240822T080000
DTEND;TZID=UTC:20240823T170000
DTSTAMP:20260422T185624
CREATED:20240109T212438Z
LAST-MODIFIED:20240820T173652Z
UID:10000435-1724313600-1724432400@hcca.net
SUMMARY:VDOT Work Zone Intermediate Traffic Control Training (Online) - REGISTRATION CLOSED
DESCRIPTION:
URL:https://hcca.net/event/vdot-work-zone-intermediate-traffic-control-training-online-4/
LOCATION:ONLINE
CATEGORIES:VA Construction Safety Training Calendar
END:VEVENT
BEGIN:VEVENT
DTSTART;TZID=UTC:20240826T080000
DTEND;TZID=UTC:20240827T120000
DTSTAMP:20260422T185624
CREATED:20240820T173544Z
LAST-MODIFIED:20240820T174628Z
UID:10000476-1724659200-1724760000@hcca.net
SUMMARY:OSHA 10 in SPANISH (In Person)
DESCRIPTION:register
URL:https://hcca.net/event/osha-10-spanish-2/
LOCATION:HCCA\, 9251 Industrial Ct\, Suite 201\, Manassas\, VA\, 20109\, United States
CATEGORIES:VA Construction Safety Training Calendar
END:VEVENT
BEGIN:VEVENT
DTSTART;TZID=UTC:20240828T080000
DTEND;TZID=UTC:20240828T170000
DTSTAMP:20260422T185624
CREATED:20240109T210431Z
LAST-MODIFIED:20240823T055424Z
UID:10000252-1724832000-1724864400@hcca.net
SUMMARY:VDOT Erosion & Sediment Control Contractor Certification Course for Qualified Personal (Online) - REGISTRATION CLOSED
DESCRIPTION:
URL:https://hcca.net/event/vdot-erosion-sediment-control-contractor-certification-in-person-or-online-2/
LOCATION:HCCA\, 9251 Industrial Ct\, Suite 201\, Manassas\, VA\, 20109\, United States
CATEGORIES:VA Construction Safety Training Calendar
END:VEVENT
BEGIN:VEVENT
DTSTART;TZID=UTC:20240904T080000
DTEND;TZID=UTC:20240904T170000
DTSTAMP:20260422T185624
CREATED:20240823T054959Z
LAST-MODIFIED:20240823T055449Z
UID:10000477-1725436800-1725469200@hcca.net
SUMMARY:VDOT Erosion & Sediment Control Contractor Certification Course for Qualified Personal (In-Person)
DESCRIPTION:Register
URL:https://hcca.net/event/vdot-erosion-sediment-control-contractor-certification-for-qualified-personal-in-person/
LOCATION:HCCA\, 9251 Industrial Ct\, Suite 201\, Manassas\, VA\, 20109\, United States
CATEGORIES:VA Construction Safety Training Calendar
END:VEVENT
BEGIN:VEVENT
DTSTART;TZID=UTC:20240909T080000
DTEND;TZID=UTC:20240909T170000
DTSTAMP:20260422T185624
CREATED:20240109T213740Z
LAST-MODIFIED:20240109T213740Z
UID:10000447-1725868800-1725901200@hcca.net
SUMMARY:First Aid/CPR/AED Training (In Person)
DESCRIPTION:Register
URL:https://hcca.net/event/first-aid-cpr-aed-training-in-person-4/
LOCATION:HCCA\, 9251 Industrial Ct\, Suite 201\, Manassas\, VA\, 20109\, United States
CATEGORIES:VA Construction Safety Training Calendar
END:VEVENT
BEGIN:VEVENT
DTSTART;TZID=UTC:20240912T080000
DTEND;TZID=UTC:20240913T170000
DTSTAMP:20260422T185624
CREATED:20240109T212521Z
LAST-MODIFIED:20240109T212521Z
UID:10000436-1726128000-1726246800@hcca.net
SUMMARY:VDOT Work Zone Intermediate Traffic Control Training (In Person)
DESCRIPTION:Register
URL:https://hcca.net/event/vdot-work-zone-intermediate-traffic-control-training-in-person-6/
LOCATION:HCCA\, 9251 Industrial Ct\, Suite 201\, Manassas\, VA\, 20109\, United States
CATEGORIES:VA Construction Safety Training Calendar
END:VEVENT
BEGIN:VEVENT
DTSTART;TZID=UTC:20240918T080000
DTEND;TZID=UTC:20240918T170000
DTSTAMP:20260422T185624
CREATED:20240109T210518Z
LAST-MODIFIED:20240916T212452Z
UID:10000254-1726646400-1726678800@hcca.net
SUMMARY:VDOT Erosion & Sediment Control Contractor Certification Course for Qualified Personal (Online) - REGISTRATION CLOSED
DESCRIPTION:
URL:https://hcca.net/event/vdot-erosion-sediment-control-contractor-certification-in-person-or-online-3/
LOCATION:ONLINE
CATEGORIES:VA Construction Safety Training Calendar
END:VEVENT
BEGIN:VEVENT
DTSTART;TZID=UTC:20240919T080000
DTEND;TZID=UTC:20240920T170000
DTSTAMP:20260422T185624
CREATED:20240906T035341Z
LAST-MODIFIED:20240911T210505Z
UID:10000481-1726732800-1726851600@hcca.net
SUMMARY:VDOT Work Zone Intermediate Traffic Control Training (Full Class - REGISTRATION CLOSED)
DESCRIPTION:
URL:https://hcca.net/event/custom-class-registration-closed-10/
LOCATION:VA
CATEGORIES:VA Construction Safety Training Calendar
END:VEVENT
BEGIN:VEVENT
DTSTART;TZID=UTC:20240923T080000
DTEND;TZID=UTC:20240923T170000
DTSTAMP:20260422T185624
CREATED:20240109T215129Z
LAST-MODIFIED:20240109T215129Z
UID:10000460-1727078400-1727110800@hcca.net
SUMMARY:Work Zone Basic Traffic Control Training (In Person)
DESCRIPTION:Register
URL:https://hcca.net/event/work-zone-basic-traffic-control-training-in-person-5/
LOCATION:HCCA\, 9251 Industrial Ct\, Suite 201\, Manassas\, VA\, 20109\, United States
CATEGORIES:VA Construction Safety Training Calendar
END:VEVENT
BEGIN:VEVENT
DTSTART;TZID=UTC:20240924T080000
DTEND;TZID=UTC:20240925T170000
DTSTAMP:20260422T185624
CREATED:20240906T035434Z
LAST-MODIFIED:20240911T210526Z
UID:10000482-1727164800-1727283600@hcca.net
SUMMARY:VDOT Work Zone Intermediate Traffic Control Training (Full Class - REGISTRATION CLOSED)
DESCRIPTION:
URL:https://hcca.net/event/custom-class-registration-closed-11/
LOCATION:VA
CATEGORIES:VA Construction Safety Training Calendar
END:VEVENT
BEGIN:VEVENT
DTSTART;TZID=UTC:20240926T080000
DTEND;TZID=UTC:20240927T170000
DTSTAMP:20260422T185624
CREATED:20240109T212605Z
LAST-MODIFIED:20240924T164013Z
UID:10000437-1727337600-1727456400@hcca.net
SUMMARY:VDOT Work Zone Intermediate Traffic Control Training (Online) - REGISTRATION CLOSED
DESCRIPTION:
URL:https://hcca.net/event/vdot-work-zone-intermediate-traffic-control-training-online-5/
LOCATION:ONLINE
CATEGORIES:VA Construction Safety Training Calendar
END:VEVENT
BEGIN:VEVENT
DTSTART;TZID=UTC:20241001T080000
DTEND;TZID=UTC:20241002T170000
DTSTAMP:20260422T185624
CREATED:20240906T035500Z
LAST-MODIFIED:20240911T210701Z
UID:10000483-1727769600-1727888400@hcca.net
SUMMARY:VDOT Work Zone Intermediate Traffic Control Training (Full Class - REGISTRATION CLOSED)
DESCRIPTION:
URL:https://hcca.net/event/custom-class-registration-closed-12/
LOCATION:VA
CATEGORIES:VA Construction Safety Training Calendar
END:VEVENT
BEGIN:VEVENT
DTSTART;TZID=UTC:20241003T080000
DTEND;TZID=UTC:20241004T170000
DTSTAMP:20260422T185624
CREATED:20240906T035521Z
LAST-MODIFIED:20240911T210645Z
UID:10000484-1727942400-1728061200@hcca.net
SUMMARY:VDOT Work Zone Intermediate Traffic Control Training (Full Class - REGISTRATION CLOSED)
DESCRIPTION:
URL:https://hcca.net/event/custom-class-registration-closed-13/
LOCATION:VA
CATEGORIES:VA Construction Safety Training Calendar
END:VEVENT
BEGIN:VEVENT
DTSTART;TZID=UTC:20241007T080000
DTEND;TZID=UTC:20241008T170000
DTSTAMP:20260422T185624
CREATED:20240906T035542Z
LAST-MODIFIED:20240911T210617Z
UID:10000485-1728288000-1728406800@hcca.net
SUMMARY:VDOT Work Zone Intermediate Traffic Control Training (Full Class - REGISTRATION CLOSED)
DESCRIPTION:
URL:https://hcca.net/event/custom-class-registration-closed-14/
LOCATION:VA
CATEGORIES:VA Construction Safety Training Calendar
END:VEVENT
BEGIN:VEVENT
DTSTART;TZID=UTC:20241009T080000
DTEND;TZID=UTC:20241009T170000
DTSTAMP:20260422T185624
CREATED:20240826T194534Z
LAST-MODIFIED:20240826T195056Z
UID:10000478-1728460800-1728493200@hcca.net
SUMMARY:VDOT Erosion & Sediment Control Contractor Certification Course for Qualified Personal (In Person)
DESCRIPTION:Register
URL:https://hcca.net/event/vdot-erosion-sediment-control-contractor-certification-course-for-qualified-personal-in-person/
LOCATION:HCCA\, 9251 Industrial Ct\, Suite 201\, Manassas\, VA\, 20109\, United States
CATEGORIES:VA Construction Safety Training Calendar
END:VEVENT
END:VCALENDAR