BEGIN:VCALENDAR
VERSION:2.0
PRODID:-//HCCA - ECPv6.15.17.1//NONSGML v1.0//EN
CALSCALE:GREGORIAN
METHOD:PUBLISH
X-ORIGINAL-URL:https://hcca.net
X-WR-CALDESC:Events for HCCA
REFRESH-INTERVAL;VALUE=DURATION:PT1H
X-Robots-Tag:noindex
X-PUBLISHED-TTL:PT1H
BEGIN:VTIMEZONE
TZID:UTC
BEGIN:STANDARD
TZOFFSETFROM:+0000
TZOFFSETTO:+0000
TZNAME:UTC
DTSTART:20220101T000000
END:STANDARD
END:VTIMEZONE
BEGIN:VEVENT
DTSTART;TZID=UTC:20231005T080000
DTEND;TZID=UTC:20231006T163000
DTSTAMP:20260422T183503
CREATED:20221209T171201Z
LAST-MODIFIED:20221209T171201Z
UID:10000239-1696492800-1696609800@hcca.net
SUMMARY:VDOT INTERMEDIATE WORK ZONE - IN PERSON
DESCRIPTION:Register
URL:https://hcca.net/event/vdot-intermediate-work-zone-in-person-16/
LOCATION:HCCA\, 9251 Industrial Ct\, Suite 201\, Manassas\, VA\, 20109\, United States
CATEGORIES:VA Construction Safety Training Calendar
END:VEVENT
BEGIN:VEVENT
DTSTART;TZID=UTC:20231009T080000
DTEND;TZID=UTC:20231009T120000
DTSTAMP:20260422T183503
CREATED:20221209T170634Z
LAST-MODIFIED:20230607T220227Z
UID:10000235-1696838400-1696852800@hcca.net
SUMMARY:FIRST AID/CPR/AED - IN PERSON
DESCRIPTION:Register
URL:https://hcca.net/event/first-aid-cpr-aed-in-person-8/
LOCATION:HCCA\, 9251 Industrial Ct\, Suite 201\, Manassas\, VA\, 20109\, United States
CATEGORIES:VA Construction Safety Training Calendar
END:VEVENT
BEGIN:VEVENT
DTSTART;TZID=UTC:20231010T080000
DTEND;TZID=UTC:20231010T163000
DTSTAMP:20260422T183503
CREATED:20221209T171416Z
LAST-MODIFIED:20230926T185923Z
UID:10000241-1696924800-1696955400@hcca.net
SUMMARY:VDOT BASIC WORK ZONE - IN PERSON
DESCRIPTION:Register
URL:https://hcca.net/event/vdot-basic-work-zone-in-person-8/
LOCATION:HCCA\, 9251 Industrial Ct\, Suite 201\, Manassas\, VA\, 20109\, United States
CATEGORIES:VA Construction Safety Training Calendar
END:VEVENT
BEGIN:VEVENT
DTSTART;TZID=UTC:20231016T080000
DTEND;TZID=UTC:20231017T170000
DTSTAMP:20260422T183503
CREATED:20230926T190107Z
LAST-MODIFIED:20230926T190107Z
UID:10000323-1697443200-1697562000@hcca.net
SUMMARY:OSHA 10 in SPANISH
DESCRIPTION:REGISTER
URL:https://hcca.net/event/osha-10-in-spanish/
LOCATION:HCCA\, 9251 Industrial Ct\, Suite 201\, Manassas\, VA\, 20109\, United States
CATEGORIES:VA Construction Safety Training Calendar
END:VEVENT
BEGIN:VEVENT
DTSTART;TZID=UTC:20231019T080000
DTEND;TZID=UTC:20231020T163000
DTSTAMP:20260422T183503
CREATED:20221209T173934Z
LAST-MODIFIED:20230824T195428Z
UID:10000245-1697702400-1697819400@hcca.net
SUMMARY:VDOT INTERMEDIATE WORK ZONE - IN PERSON
DESCRIPTION:Register
URL:https://hcca.net/event/vdot-intermediate-work-zone-online-8/
LOCATION:HCCA\, 9251 Industrial Ct\, Suite 201\, Manassas\, VA\, 20109\, United States
CATEGORIES:VA Construction Safety Training Calendar
END:VEVENT
BEGIN:VEVENT
DTSTART;TZID=UTC:20231023T080000
DTEND;TZID=UTC:20231024T170000
DTSTAMP:20260422T183503
CREATED:20230925T201403Z
LAST-MODIFIED:20230925T201403Z
UID:10000321-1698048000-1698166800@hcca.net
SUMMARY:OSHA 10 SPANISH (CLASS FULL)
DESCRIPTION:
URL:https://hcca.net/event/osha-10-spanish-class-full/
LOCATION:HCCA\, 9251 Industrial Ct\, Suite 201\, Manassas\, VA\, 20109\, United States
CATEGORIES:VA Construction Safety Training Calendar
END:VEVENT
BEGIN:VEVENT
DTSTART;TZID=UTC:20231025T080000
DTEND;TZID=UTC:20231025T150000
DTSTAMP:20260422T183503
CREATED:20221209T170910Z
LAST-MODIFIED:20230926T223700Z
UID:10000237-1698220800-1698246000@hcca.net
SUMMARY:VDOT ESCCC - HYBRID (IN PERSON & ONLINE)
DESCRIPTION:Register
URL:https://hcca.net/event/vdot-esccc-in-person-9/
LOCATION:HCCA\, 9251 Industrial Ct\, Suite 201\, Manassas\, VA\, 20109\, United States
CATEGORIES:VA Construction Safety Training Calendar
END:VEVENT
BEGIN:VEVENT
DTSTART;TZID=UTC:20231026T080000
DTEND;TZID=UTC:20231027T170000
DTSTAMP:20260422T183503
CREATED:20221209T172802Z
LAST-MODIFIED:20230824T195602Z
UID:10000243-1698307200-1698426000@hcca.net
SUMMARY:VDOT INTERMEDIATE WORK ZONE - ONLINE
DESCRIPTION:Register
URL:https://hcca.net/event/vdot-intermediate-work-zone-in-person-17/
LOCATION:ONLINE
CATEGORIES:VA Construction Safety Training Calendar
END:VEVENT
BEGIN:VEVENT
DTSTART;TZID=UTC:20231030T080000
DTEND;TZID=UTC:20231030T170000
DTSTAMP:20260422T183503
CREATED:20230925T191434Z
LAST-MODIFIED:20230927T203642Z
UID:10000313-1698652800-1698685200@hcca.net
SUMMARY:OSHA 30 Day 1 - Training is 4 days\, 10/30/23\, 11/6/23\, 11/13/23 & 11/20/23
DESCRIPTION:REGISTER
URL:https://hcca.net/event/osha-30-day-1-training-is-4-days-10-30-23-11-6-23-11-13-23-11-20-23/
LOCATION:HCCA\, 9251 Industrial Ct\, Suite 201\, Manassas\, VA\, 20109\, United States
CATEGORIES:VA Construction Safety Training Calendar
END:VEVENT
BEGIN:VEVENT
DTSTART;TZID=UTC:20231106T080000
DTEND;TZID=UTC:20231106T170000
DTSTAMP:20260422T183503
CREATED:20230925T200059Z
LAST-MODIFIED:20230925T200250Z
UID:10000315-1699257600-1699290000@hcca.net
SUMMARY:OSHA 30 Day 2 - Training is 4 days (REGISTRATION CLOSED)
DESCRIPTION:
URL:https://hcca.net/event/osha-30-day-2-training-is-4-days-registration-closed/
LOCATION:HCCA\, 9251 Industrial Ct\, Suite 201\, Manassas\, VA\, 20109\, United States
CATEGORIES:VA Construction Safety Training Calendar
END:VEVENT
BEGIN:VEVENT
DTSTART;TZID=UTC:20231109T080000
DTEND;TZID=UTC:20231110T163000
DTSTAMP:20260422T183503
CREATED:20221209T175252Z
LAST-MODIFIED:20230607T220449Z
UID:10000249-1699516800-1699633800@hcca.net
SUMMARY:VDOT INTERMEDIATE WORK ZONE - IN PESON
DESCRIPTION:Register
URL:https://hcca.net/event/vdot-intermediate-work-zone-in-peson/
LOCATION:HCCA\, 9251 Industrial Ct\, Suite 201\, Manassas\, VA\, 20109\, United States
CATEGORIES:VA Construction Safety Training Calendar
END:VEVENT
BEGIN:VEVENT
DTSTART;TZID=UTC:20231113T080000
DTEND;TZID=UTC:20231113T170000
DTSTAMP:20260422T183503
CREATED:20230925T200353Z
LAST-MODIFIED:20230925T200440Z
UID:10000317-1699862400-1699894800@hcca.net
SUMMARY:OSHA 30 Day 3 - Training is 4 days (REGISTRATION CLOSED)
DESCRIPTION:
URL:https://hcca.net/event/osha-30-day-3-training-is-4-days-registration-closed/
LOCATION:HCCA\, 9251 Industrial Ct\, Suite 201\, Manassas\, VA\, 20109\, United States
CATEGORIES:VA Construction Safety Training Calendar
END:VEVENT
BEGIN:VEVENT
DTSTART;TZID=UTC:20231115T080000
DTEND;TZID=UTC:20231115T150000
DTSTAMP:20260422T183503
CREATED:20221209T175056Z
LAST-MODIFIED:20231113T191700Z
UID:10000247-1700035200-1700060400@hcca.net
SUMMARY:VDOT ESCCC (Online) - Registration Closed\, Please call to attend.
DESCRIPTION:
URL:https://hcca.net/event/vdot-esccc-in-person-10/
LOCATION:HCCA\, 9251 Industrial Ct\, Suite 201\, Manassas\, VA\, 20109\, United States
CATEGORIES:VA Construction Safety Training Calendar
END:VEVENT
BEGIN:VEVENT
DTSTART;TZID=UTC:20231116T080000
DTEND;TZID=UTC:20231117T163000
DTSTAMP:20260422T183503
CREATED:20221209T223156Z
LAST-MODIFIED:20231113T192114Z
UID:10000253-1700121600-1700238600@hcca.net
SUMMARY:VDOT Intermediate Work Zone (Virtual) - Registration Closed\, Please call to register.
DESCRIPTION:
URL:https://hcca.net/event/vdot-intermediate-work-zone-in-person-18/
LOCATION:HCCA\, 9251 Industrial Ct\, Suite 201\, Manassas\, VA\, 20109\, United States
CATEGORIES:VA Construction Safety Training Calendar
END:VEVENT
BEGIN:VEVENT
DTSTART;TZID=UTC:20231120T080000
DTEND;TZID=UTC:20231120T170000
DTSTAMP:20260422T183503
CREATED:20230925T200546Z
LAST-MODIFIED:20230925T200546Z
UID:10000319-1700467200-1700499600@hcca.net
SUMMARY:OSHA 30 Day 4 - Training is 4 days (REGISTRATION CLOSED)
DESCRIPTION:
URL:https://hcca.net/event/osha-30-day-4-training-is-4-days-registration-closed/
LOCATION:VA
CATEGORIES:VA Construction Safety Training Calendar
END:VEVENT
BEGIN:VEVENT
DTSTART;TZID=UTC:20231121T080000
DTEND;TZID=UTC:20231121T163000
DTSTAMP:20260422T183503
CREATED:20221209T221637Z
LAST-MODIFIED:20231109T205043Z
UID:10000251-1700553600-1700584200@hcca.net
SUMMARY:VDOT BASIC WORK ZONE SPANISH - IN PERSON
DESCRIPTION:Register
URL:https://hcca.net/event/vdot-basic-work-zone-in-person-9/
LOCATION:HCCA\, 9251 Industrial Ct\, Suite 201\, Manassas\, VA\, 20109\, United States
CATEGORIES:VA Construction Safety Training Calendar
END:VEVENT
BEGIN:VEVENT
DTSTART;TZID=UTC:20231122T080000
DTEND;TZID=UTC:20231122T170000
DTSTAMP:20260422T183503
CREATED:20231109T205440Z
LAST-MODIFIED:20231109T205540Z
UID:10000170-1700640000-1700672400@hcca.net
SUMMARY:VDOT Work Zone Basic - In Person
DESCRIPTION:Register
URL:https://hcca.net/event/work-zone-basic-in-person/
LOCATION:HCCA\, 9251 Industrial Ct\, Suite 201\, Manassas\, VA\, 20109\, United States
CATEGORIES:VA Construction Safety Training Calendar
END:VEVENT
BEGIN:VEVENT
DTSTART;TZID=UTC:20231204T080000
DTEND;TZID=UTC:20231204T170000
DTSTAMP:20260422T183503
CREATED:20231130T181400Z
LAST-MODIFIED:20231130T181400Z
UID:10000375-1701676800-1701709200@hcca.net
SUMMARY:Custom Class (REGISTRATION CLOSED)
DESCRIPTION:
URL:https://hcca.net/event/custom-class-registration-closed-4/
LOCATION:VA
CATEGORIES:VA Construction Safety Training Calendar
END:VEVENT
BEGIN:VEVENT
DTSTART;TZID=UTC:20231205T080000
DTEND;TZID=UTC:20231205T120000
DTSTAMP:20260422T183503
CREATED:20221209T225036Z
LAST-MODIFIED:20231107T190204Z
UID:10000257-1701763200-1701777600@hcca.net
SUMMARY:FIRST AID/CPR/AED - IN PERSON
DESCRIPTION:Register
URL:https://hcca.net/event/first-aid-cpr-aed-in-person-11/
LOCATION:HCCA\, 9251 Industrial Ct\, Suite 201\, Manassas\, VA\, 20109\, United States
CATEGORIES:VA Construction Safety Training Calendar
END:VEVENT
BEGIN:VEVENT
DTSTART;TZID=UTC:20231206T080000
DTEND;TZID=UTC:20231206T170000
DTSTAMP:20260422T183503
CREATED:20221209T224646Z
LAST-MODIFIED:20231026T183643Z
UID:10000255-1701849600-1701882000@hcca.net
SUMMARY:VDOT ESCCC HYBRID (In Person or Online)
DESCRIPTION:Register
URL:https://hcca.net/event/vdot-esccc-online-10/
LOCATION:ONLINE
CATEGORIES:VA Construction Safety Training Calendar
END:VEVENT
BEGIN:VEVENT
DTSTART;TZID=UTC:20231207T080000
DTEND;TZID=UTC:20231208T163000
DTSTAMP:20260422T183503
CREATED:20221209T224826Z
LAST-MODIFIED:20231121T211026Z
UID:10000256-1701936000-1702053000@hcca.net
SUMMARY:VDOT INTERMEDIATE WORK ZONE - In Person
DESCRIPTION:Register
URL:https://hcca.net/event/vdot-intermediate-work-zone-online-10/
LOCATION:HCCA\, 9251 Industrial Ct\, Suite 201\, Manassas\, VA\, 20109\, United States
CATEGORIES:VA Construction Safety Training Calendar
END:VEVENT
BEGIN:VEVENT
DTSTART;TZID=UTC:20231212T080000
DTEND;TZID=UTC:20231213T170000
DTSTAMP:20260422T183503
CREATED:20231130T181454Z
LAST-MODIFIED:20231130T181454Z
UID:10000376-1702368000-1702486800@hcca.net
SUMMARY:Custom Class (REGISTRATION CLOSED)
DESCRIPTION:
URL:https://hcca.net/event/custom-class-registration-closed-5/
LOCATION:VA
CATEGORIES:VA Construction Safety Training Calendar
END:VEVENT
BEGIN:VEVENT
DTSTART;TZID=UTC:20231214T080000
DTEND;TZID=UTC:20231215T163000
DTSTAMP:20260422T183503
CREATED:20221209T231204Z
LAST-MODIFIED:20221209T231204Z
UID:10000258-1702540800-1702657800@hcca.net
SUMMARY:OSHA 10 - IN PERSON
DESCRIPTION:Register
URL:https://hcca.net/event/osha-10-in-person-3/
LOCATION:HCCA\, 9251 Industrial Ct\, Suite 201\, Manassas\, VA\, 20109\, United States
CATEGORIES:VA Construction Safety Training Calendar
END:VEVENT
BEGIN:VEVENT
DTSTART;TZID=UTC:20231214T110000
DTEND;TZID=UTC:20231214T130000
DTSTAMP:20260422T183503
CREATED:20231117T213902Z
LAST-MODIFIED:20231121T202953Z
UID:10000176-1702551600-1702558800@hcca.net
SUMMARY:Lunch & Learn: Incident Investigation
DESCRIPTION:The HCCA Safety Committee presents: \nDesigned for all levels of field personnel who are responsible for investigating incidents\, this seminar will provide tips and tools needed for analyzing incidents involving heavy equipment\, vehicles\, and human injury. Attendees will learn: How to plan for incident investigation How to react when an incident occurs How to analyze incidents to identify root causes Professional communication for public relations What data to collect and include in reporting What to do/not do to protect yourself and the Company How to implement these strategies into the Company’s safety program. \n\nRSVP by emailing events@hcca.net \nClick Here for PDF
URL:https://hcca.net/event/lunch-learn-incident-investigation/
LOCATION:The Anderson Company\, 12150 TAC Court\, Manassas\, VA\, 20109\, United States
CATEGORIES:VA Construction Events Calendar,VA Construction Safety Training Calendar
ORGANIZER;CN="Ashley Hutson":MAILTO:ashley@hcca.net
END:VEVENT
BEGIN:VEVENT
DTSTART;TZID=UTC:20231218T080000
DTEND;TZID=UTC:20231219T170000
DTSTAMP:20260422T183503
CREATED:20231130T180923Z
LAST-MODIFIED:20231130T181052Z
UID:10000217-1702886400-1703005200@hcca.net
SUMMARY:OSHA 10 - Spanish (In Person)
DESCRIPTION:Register
URL:https://hcca.net/event/osha-10-spanish-in-person-5/
LOCATION:HCCA\, 9251 Industrial Ct\, Suite 201\, Manassas\, VA\, 20109\, United States
CATEGORIES:VA Construction Safety Training Calendar
END:VEVENT
BEGIN:VEVENT
DTSTART;TZID=UTC:20231220T080000
DTEND;TZID=UTC:20231221T163000
DTSTAMP:20260422T183503
CREATED:20221209T233847Z
LAST-MODIFIED:20231121T211141Z
UID:10000259-1703059200-1703176200@hcca.net
SUMMARY:VDOT INTERMEDIATE WORK ZONE - VIRTUAL
DESCRIPTION:Register
URL:https://hcca.net/event/vdot-intermediate-work-zone-in-person-20/
LOCATION:ONLINE
CATEGORIES:VA Construction Safety Training Calendar
END:VEVENT
BEGIN:VEVENT
DTSTART;TZID=UTC:20231228T080000
DTEND;TZID=UTC:20231229T170000
DTSTAMP:20260422T183503
CREATED:20231130T181604Z
LAST-MODIFIED:20231130T181604Z
UID:10000377-1703750400-1703869200@hcca.net
SUMMARY:Custom Class (REGISTRATION CLOSED)
DESCRIPTION:
URL:https://hcca.net/event/custom-class-registration-closed-6/
LOCATION:VA
CATEGORIES:VA Construction Safety Training Calendar
END:VEVENT
BEGIN:VEVENT
DTSTART;TZID=UTC:20240105T080000
DTEND;TZID=UTC:20240108T170000
DTSTAMP:20260422T183503
CREATED:20231128T211729Z
LAST-MODIFIED:20231218T193244Z
UID:10000178-1704441600-1704733200@hcca.net
SUMMARY:OSHA 10 - Spanish (In Person) Friday & Monday only
DESCRIPTION:Register
URL:https://hcca.net/event/osha-10-spanish-in-person-3/
LOCATION:HCCA\, 9251 Industrial Ct\, Suite 201\, Manassas\, VA\, 20109\, United States
CATEGORIES:VA Construction Safety Training Calendar
END:VEVENT
BEGIN:VEVENT
DTSTART;TZID=UTC:20240109T080000
DTEND;TZID=UTC:20240109T170000
DTSTAMP:20260422T183503
CREATED:20231128T214534Z
LAST-MODIFIED:20231128T214807Z
UID:10000336-1704787200-1704819600@hcca.net
SUMMARY:OSHA 30 - Spanish Day 1 Training is 4 days 1/9/24\, 1/16/24\, 1/23/24 & 1/30/24 (In Person)
DESCRIPTION:Register
URL:https://hcca.net/event/osha-30-spanish-in-person/
LOCATION:HCCA\, 9251 Industrial Ct\, Suite 201\, Manassas\, VA\, 20109\, United States
CATEGORIES:VA Construction Safety Training Calendar
END:VEVENT
BEGIN:VEVENT
DTSTART;TZID=UTC:20240109T110000
DTEND;TZID=UTC:20240109T123000
DTSTAMP:20260422T183503
CREATED:20231218T235901Z
LAST-MODIFIED:20231218T235901Z
UID:10000397-1704798000-1704803400@hcca.net
SUMMARY:Safety Lunch & Learn: Jobsite Hazard Analysis
DESCRIPTION:Click Here for PDF \nemail events@hcca.net to register
URL:https://hcca.net/event/safety-lunch-learn-jobsite-hazard-analysis/
LOCATION:ONLINE
CATEGORIES:VA Construction Events Calendar,VA Construction Safety Training Calendar
ORGANIZER;CN="Ashley Hutson":MAILTO:ashley@hcca.net
END:VEVENT
END:VCALENDAR