BEGIN:VCALENDAR
VERSION:2.0
PRODID:-//HCCA - ECPv6.15.17.1//NONSGML v1.0//EN
CALSCALE:GREGORIAN
METHOD:PUBLISH
X-ORIGINAL-URL:https://hcca.net
X-WR-CALDESC:Events for HCCA
REFRESH-INTERVAL;VALUE=DURATION:PT1H
X-Robots-Tag:noindex
X-PUBLISHED-TTL:PT1H
BEGIN:VTIMEZONE
TZID:UTC
BEGIN:STANDARD
TZOFFSETFROM:+0000
TZOFFSETTO:+0000
TZNAME:UTC
DTSTART:20210101T000000
END:STANDARD
END:VTIMEZONE
BEGIN:VEVENT
DTSTART;TZID=UTC:20221115T080000
DTEND;TZID=UTC:20221116T163000
DTSTAMP:20260423T035049
CREATED:20221101T221036Z
LAST-MODIFIED:20221101T221036Z
UID:10000052-1668499200-1668616200@hcca.net
SUMMARY:VDOT WORK ZONE ADVANCED
DESCRIPTION:
URL:https://hcca.net/event/vdot-work-zone-advanced/
LOCATION:HCCA\, 9251 Industrial Ct\, Suite 201\, Manassas\, VA\, 20109\, United States
CATEGORIES:VA Construction Safety Training Calendar
ORGANIZER;CN="Ashley Hutson":MAILTO:ashley@hcca.net
END:VEVENT
BEGIN:VEVENT
DTSTART;TZID=UTC:20221117T080000
DTEND;TZID=UTC:20221118T170000
DTSTAMP:20260423T035049
CREATED:20220401T152217Z
LAST-MODIFIED:20220518T022324Z
UID:10000129-1668672000-1668790800@hcca.net
SUMMARY:VDOT WORK ZONE INTERMEDIATE (VIRTUAL/ONLINE CLASS)
DESCRIPTION:Register
URL:https://hcca.net/event/vdot-work-zone-intermediate-virtual-online-class-9/
LOCATION:VA
CATEGORIES:VA Construction Safety Training Calendar
END:VEVENT
BEGIN:VEVENT
DTSTART;TZID=UTC:20221121T080000
DTEND;TZID=UTC:20221121T170000
DTSTAMP:20260423T035049
CREATED:20220401T152333Z
LAST-MODIFIED:20220518T022302Z
UID:10000131-1669017600-1669050000@hcca.net
SUMMARY:VDOT WORK ZONE BASIC (SPANISH) (IN PERSON CLASS)
DESCRIPTION:Register
URL:https://hcca.net/event/vdot-work-zone-basic-spanish-in-person-class-9/
LOCATION:VA
CATEGORIES:VA Construction Safety Training Calendar
END:VEVENT
BEGIN:VEVENT
DTSTART;TZID=UTC:20221205T080000
DTEND;TZID=UTC:20221205T130000
DTSTAMP:20260423T035049
CREATED:20220401T152439Z
LAST-MODIFIED:20220518T022009Z
UID:10000133-1670227200-1670245200@hcca.net
SUMMARY:FIRST AID/CPR/AED (IN PERSON CLASS)
DESCRIPTION:Register
URL:https://hcca.net/event/first-aid-cpr-aed-in-person-class-11/
LOCATION:VA
CATEGORIES:VA Construction Safety Training Calendar
END:VEVENT
BEGIN:VEVENT
DTSTART;TZID=UTC:20221205T080000
DTEND;TZID=UTC:20221205T170000
DTSTAMP:20260423T035049
CREATED:20221205T211046Z
LAST-MODIFIED:20221205T211046Z
UID:10000163-1670227200-1670259600@hcca.net
SUMMARY:VDOT WORK ZONE INTERMEDIATE
DESCRIPTION:Register
URL:https://hcca.net/event/vdot-work-zone-intermediate-2/
LOCATION:HCCA\, 9251 Industrial Ct\, Suite 201\, Manassas\, VA\, 20109\, United States
CATEGORIES:VA Construction Safety Training Calendar
END:VEVENT
BEGIN:VEVENT
DTSTART;TZID=UTC:20221207T080000
DTEND;TZID=UTC:20221207T150000
DTSTAMP:20260423T035049
CREATED:20220401T152535Z
LAST-MODIFIED:20221205T193036Z
UID:10000135-1670400000-1670425200@hcca.net
SUMMARY:VDOT Erosion & Sediment Control Contractors Certification (IN PERSON CLASS)
DESCRIPTION:Register
URL:https://hcca.net/event/vdot-erosion-sediment-control-contractors-certification-in-person-class-9/
LOCATION:HCCA\, 9251 Industrial Ct\, Suite 201\, Manassas\, VA\, 20109\, United States
CATEGORIES:VA Construction Safety Training Calendar
END:VEVENT
BEGIN:VEVENT
DTSTART;TZID=UTC:20221208T080000
DTEND;TZID=UTC:20221209T170000
DTSTAMP:20260423T035049
CREATED:20220401T152623Z
LAST-MODIFIED:20221207T191647Z
UID:10000137-1670486400-1670605200@hcca.net
SUMMARY:VDOT WORK ZONE INTERMEDIATE - IN PERSON
DESCRIPTION:Register
URL:https://hcca.net/event/vdot-work-zone-intermediate-in-person-class-10/
LOCATION:HCCA\, 9251 Industrial Ct\, Suite 201\, Manassas\, VA\, 20109\, United States
CATEGORIES:VA Construction Safety Training Calendar
END:VEVENT
BEGIN:VEVENT
DTSTART;TZID=UTC:20221212T080000
DTEND;TZID=UTC:20221213T120000
DTSTAMP:20260423T035049
CREATED:20221205T193918Z
LAST-MODIFIED:20221207T191403Z
UID:10000054-1670832000-1670932800@hcca.net
SUMMARY:OSHA-10 SPANISH - IN PERSON
DESCRIPTION:Register
URL:https://hcca.net/event/osha-10-spanish/
LOCATION:HCCA\, 9251 Industrial Ct\, Suite 201\, Manassas\, VA\, 20109\, United States
CATEGORIES:VA Construction Safety Training Calendar
END:VEVENT
BEGIN:VEVENT
DTSTART;TZID=UTC:20221213T120000
DTEND;TZID=UTC:20221213T160000
DTSTAMP:20260423T035049
CREATED:20221205T194704Z
LAST-MODIFIED:20221207T191344Z
UID:10000056-1670932800-1670947200@hcca.net
SUMMARY:FIRST AID/CPR/AED - IN PERSON
DESCRIPTION:Register
URL:https://hcca.net/event/first-aid-cpr-aed/
LOCATION:HCCA\, 9251 Industrial Ct\, Suite 201\, Manassas\, VA\, 20109\, United States
CATEGORIES:VA Construction Safety Training Calendar
END:VEVENT
BEGIN:VEVENT
DTSTART;TZID=UTC:20221214T080000
DTEND;TZID=UTC:20221214T150000
DTSTAMP:20260423T035049
CREATED:20220401T153524Z
LAST-MODIFIED:20221207T191551Z
UID:10000145-1671004800-1671030000@hcca.net
SUMMARY:VDOT ESCCC - IN PERSON/ONLINE
DESCRIPTION:Register
URL:https://hcca.net/event/vdot-erosion-sediment-control-contractors-certification-virtual-online-class-11/
LOCATION:VA
CATEGORIES:VA Construction Safety Training Calendar
END:VEVENT
BEGIN:VEVENT
DTSTART;TZID=UTC:20221215T080000
DTEND;TZID=UTC:20221216T170000
DTSTAMP:20260423T035049
CREATED:20220401T152942Z
LAST-MODIFIED:20221207T191250Z
UID:10000141-1671091200-1671210000@hcca.net
SUMMARY:VDOT WORK ZONE INTERMEDIATE - ONLINE
DESCRIPTION:Register
URL:https://hcca.net/event/vdot-work-zone-intermediate-virtual-online-class-11/
LOCATION:VA
CATEGORIES:VA Construction Safety Training Calendar
END:VEVENT
BEGIN:VEVENT
DTSTART;TZID=UTC:20221219T080000
DTEND;TZID=UTC:20221220T120000
DTSTAMP:20260423T035049
CREATED:20220401T153200Z
LAST-MODIFIED:20221207T191229Z
UID:10000143-1671436800-1671537600@hcca.net
SUMMARY:OSHA 10 (SPANISH) IN PERSON
DESCRIPTION:Register
URL:https://hcca.net/event/osha-10-in-person-class-8/
LOCATION:HCCA\, 9251 Industrial Ct\, Suite 201\, Manassas\, VA\, 20109\, United States
CATEGORIES:VA Construction Safety Training Calendar
END:VEVENT
BEGIN:VEVENT
DTSTART;TZID=UTC:20221220T120000
DTEND;TZID=UTC:20221220T160000
DTSTAMP:20260423T035049
CREATED:20221205T194816Z
LAST-MODIFIED:20221207T191908Z
UID:10000058-1671537600-1671552000@hcca.net
SUMMARY:First Aid / CPR / AED (SPANISH) IN PERSON
DESCRIPTION:Register
URL:https://hcca.net/event/3409/
LOCATION:HCCA\, 9251 Industrial Ct\, Suite 201\, Manassas\, VA\, 20109\, United States
CATEGORIES:VA Construction Safety Training Calendar
END:VEVENT
BEGIN:VEVENT
DTSTART;TZID=UTC:20221221T080000
DTEND;TZID=UTC:20221221T160000
DTSTAMP:20260423T035049
CREATED:20221208T000351Z
LAST-MODIFIED:20221208T000351Z
UID:10000225-1671609600-1671638400@hcca.net
SUMMARY:FIRST AID/CPR/AED - THIS CLASS IS FULL
DESCRIPTION:
URL:https://hcca.net/event/first-aid-cpr-aed-this-class-is-full-2/
LOCATION:Laurita
CATEGORIES:VA Construction Safety Training Calendar
END:VEVENT
BEGIN:VEVENT
DTSTART;TZID=UTC:20221222T080000
DTEND;TZID=UTC:20221222T123000
DTSTAMP:20260423T035049
CREATED:20221207T192326Z
LAST-MODIFIED:20221207T192326Z
UID:10000191-1671696000-1671712200@hcca.net
SUMMARY:FIRST AID/CPR/AED - IN PERSON
DESCRIPTION:Register
URL:https://hcca.net/event/first-aid-cpr-aed-in-person/
LOCATION:HCCA\, 9251 Industrial Ct\, Suite 201\, Manassas\, VA\, 20109\, United States
CATEGORIES:VA Construction Safety Training Calendar
END:VEVENT
BEGIN:VEVENT
DTSTART;TZID=UTC:20230103T080000
DTEND;TZID=UTC:20230103T163000
DTSTAMP:20260423T035049
CREATED:20221207T192826Z
LAST-MODIFIED:20221207T192826Z
UID:10000192-1672732800-1672763400@hcca.net
SUMMARY:FIRST AID/CPR/AED - THIS CLASS IS FULL
DESCRIPTION:
URL:https://hcca.net/event/first-aid-cpr-aed-this-class-is-full/
LOCATION:SW Rodgers
CATEGORIES:VA Construction Safety Training Calendar
END:VEVENT
BEGIN:VEVENT
DTSTART;TZID=UTC:20230104T080000
DTEND;TZID=UTC:20230104T120000
DTSTAMP:20260423T035049
CREATED:20221205T195130Z
LAST-MODIFIED:20221207T193025Z
UID:10000060-1672819200-1672833600@hcca.net
SUMMARY:FIRST AID/CPR/AED - THIS CLASS IS FULL
DESCRIPTION:Register
URL:https://hcca.net/event/first-aid-cpr-aed-2/
LOCATION:HCCA\, 9251 Industrial Ct\, Suite 201\, Manassas\, VA\, 20109\, United States
CATEGORIES:VA Construction Safety Training Calendar
END:VEVENT
BEGIN:VEVENT
DTSTART;TZID=UTC:20230105T080000
DTEND;TZID=UTC:20230106T120000
DTSTAMP:20260423T035049
CREATED:20221205T195338Z
LAST-MODIFIED:20221207T191134Z
UID:10000152-1672905600-1673006400@hcca.net
SUMMARY:OSHA 10 - IN PERSON
DESCRIPTION:Register
URL:https://hcca.net/event/osha-10/
LOCATION:HCCA\, 9251 Industrial Ct\, Suite 201\, Manassas\, VA\, 20109\, United States
CATEGORIES:VA Construction Safety Training Calendar
END:VEVENT
BEGIN:VEVENT
DTSTART;TZID=UTC:20230106T120000
DTEND;TZID=UTC:20230106T160000
DTSTAMP:20260423T035049
CREATED:20221205T195234Z
LAST-MODIFIED:20221207T191110Z
UID:10000151-1673006400-1673020800@hcca.net
SUMMARY:FIRST AID/CPR/AED - IN PERSON
DESCRIPTION:Register
URL:https://hcca.net/event/first-aid-cpr-aed-3/
LOCATION:HCCA\, 9251 Industrial Ct\, Suite 201\, Manassas\, VA\, 20109\, United States
CATEGORIES:VA Construction Safety Training Calendar
END:VEVENT
BEGIN:VEVENT
DTSTART;TZID=UTC:20230109T080000
DTEND;TZID=UTC:20230110T120000
DTSTAMP:20260423T035049
CREATED:20221205T195437Z
LAST-MODIFIED:20221207T191101Z
UID:10000153-1673251200-1673352000@hcca.net
SUMMARY:OSHA 10 - IN PERSON
DESCRIPTION:Register
URL:https://hcca.net/event/osha-10-2/
LOCATION:HCCA\, 9251 Industrial Ct\, Suite 201\, Manassas\, VA\, 20109\, United States
CATEGORIES:VA Construction Safety Training Calendar
END:VEVENT
BEGIN:VEVENT
DTSTART;TZID=UTC:20230110T120000
DTEND;TZID=UTC:20230110T160000
DTSTAMP:20260423T035049
CREATED:20221205T195531Z
LAST-MODIFIED:20221207T191043Z
UID:10000154-1673352000-1673366400@hcca.net
SUMMARY:FIRST AID/CPR/AED - IN PERSON
DESCRIPTION:Register
URL:https://hcca.net/event/first-aid-cpr-aed-4/
LOCATION:HCCA\, 9251 Industrial Ct\, Suite 201\, Manassas\, VA\, 20109\, United States
CATEGORIES:VA Construction Safety Training Calendar
END:VEVENT
BEGIN:VEVENT
DTSTART;TZID=UTC:20230111T080000
DTEND;TZID=UTC:20230111T170000
DTSTAMP:20260423T035049
CREATED:20221207T175709Z
LAST-MODIFIED:20221207T180250Z
UID:10000181-1673424000-1673456400@hcca.net
SUMMARY:FIRST AID/CPR/AED - THIS CLASS IS FULL
DESCRIPTION:THIS CLASS IS FULL
URL:https://hcca.net/event/first-aid-cpr-aed-8/
LOCATION:PWC
CATEGORIES:VA Construction Safety Training Calendar
END:VEVENT
BEGIN:VEVENT
DTSTART;TZID=UTC:20230112T080000
DTEND;TZID=UTC:20230113T170000
DTSTAMP:20260423T035049
CREATED:20221205T195628Z
LAST-MODIFIED:20230109T221906Z
UID:10000155-1673510400-1673629200@hcca.net
SUMMARY:VDOT WORK ZONE INTERMEDIATE - IN PERSON -THIS CLASS IS FULL
DESCRIPTION:
URL:https://hcca.net/event/vdot-work-zone-intermediate/
LOCATION:HCCA\, 9251 Industrial Ct\, Suite 201\, Manassas\, VA\, 20109\, United States
CATEGORIES:VA Construction Safety Training Calendar
END:VEVENT
BEGIN:VEVENT
DTSTART;TZID=UTC:20230116T080000
DTEND;TZID=UTC:20230116T110000
DTSTAMP:20260423T035049
CREATED:20221205T202623Z
LAST-MODIFIED:20230105T002413Z
UID:10000159-1673856000-1673866800@hcca.net
SUMMARY:Confined Space - THIS CLASS IS FULL
DESCRIPTION:
URL:https://hcca.net/event/confined-space-4/
LOCATION:HCCA\, 9251 Industrial Ct\, Suite 201\, Manassas\, VA\, 20109\, United States
CATEGORIES:VA Construction Safety Training Calendar
END:VEVENT
BEGIN:VEVENT
DTSTART;TZID=UTC:20230116T110000
DTEND;TZID=UTC:20230116T130000
DTSTAMP:20260423T035049
CREATED:20221205T202744Z
LAST-MODIFIED:20230105T002745Z
UID:10000160-1673866800-1673874000@hcca.net
SUMMARY:Fall Protection - THIS CLASS IS FULL
DESCRIPTION:
URL:https://hcca.net/event/fall-protection-2/
LOCATION:HCCA\, 9251 Industrial Ct\, Suite 201\, Manassas\, VA\, 20109\, United States
CATEGORIES:VA Construction Safety Training Calendar
END:VEVENT
BEGIN:VEVENT
DTSTART;TZID=UTC:20230116T130000
DTEND;TZID=UTC:20230116T150000
DTSTAMP:20260423T035049
CREATED:20221205T202926Z
LAST-MODIFIED:20221207T190908Z
UID:10000161-1673874000-1673881200@hcca.net
SUMMARY:Lock Out / Tag Out - IN PERSON
DESCRIPTION:Register
URL:https://hcca.net/event/lock-out-tag-out/
LOCATION:HCCA\, 9251 Industrial Ct\, Suite 201\, Manassas\, VA\, 20109\, United States
CATEGORIES:VA Construction Safety Training Calendar
END:VEVENT
BEGIN:VEVENT
DTSTART;TZID=UTC:20230117T080000
DTEND;TZID=UTC:20230117T170000
DTSTAMP:20260423T035049
CREATED:20221205T203906Z
LAST-MODIFIED:20221207T190854Z
UID:10000162-1673942400-1673974800@hcca.net
SUMMARY:OSHA 30 (1/17\, 1/24\, 1/31\, 2/7) - IN PERSON
DESCRIPTION:Register
URL:https://hcca.net/event/osha-30-2/
LOCATION:VA
CATEGORIES:VA Construction Safety Training Calendar
END:VEVENT
BEGIN:VEVENT
DTSTART;TZID=UTC:20230118T080000
DTEND;TZID=UTC:20230119T120000
DTSTAMP:20260423T035049
CREATED:20221205T195723Z
LAST-MODIFIED:20221207T190613Z
UID:10000156-1674028800-1674129600@hcca.net
SUMMARY:OSHA 10 - IN PERSON
DESCRIPTION:Register
URL:https://hcca.net/event/osha-10-3/
LOCATION:HCCA\, 9251 Industrial Ct\, Suite 201\, Manassas\, VA\, 20109\, United States
CATEGORIES:VA Construction Safety Training Calendar
END:VEVENT
BEGIN:VEVENT
DTSTART;TZID=UTC:20230120T080000
DTEND;TZID=UTC:20230120T120000
DTSTAMP:20260423T035049
CREATED:20221205T195835Z
LAST-MODIFIED:20221207T193521Z
UID:10000157-1674201600-1674216000@hcca.net
SUMMARY:FIRST AID/CPR/AED - THIS CLASS IS FULL
DESCRIPTION:Register
URL:https://hcca.net/event/first-aid-cpr-aed-5/
LOCATION:HCCA\, 9251 Industrial Ct\, Suite 201\, Manassas\, VA\, 20109\, United States
CATEGORIES:VA Construction Safety Training Calendar
END:VEVENT
BEGIN:VEVENT
DTSTART;TZID=UTC:20230120T120000
DTEND;TZID=UTC:20230120T160000
DTSTAMP:20260423T035049
CREATED:20221205T195913Z
LAST-MODIFIED:20221207T193443Z
UID:10000158-1674216000-1674230400@hcca.net
SUMMARY:FIRST AID/CPR/AED - THIS CLASS IS FULL
DESCRIPTION:Register
URL:https://hcca.net/event/first-aid-cpr-aed-6/
LOCATION:HCCA\, 9251 Industrial Ct\, Suite 201\, Manassas\, VA\, 20109\, United States
CATEGORIES:VA Construction Safety Training Calendar
END:VEVENT
END:VCALENDAR