BEGIN:VCALENDAR
VERSION:2.0
PRODID:-//HCCA - ECPv6.15.17.1//NONSGML v1.0//EN
CALSCALE:GREGORIAN
METHOD:PUBLISH
X-ORIGINAL-URL:https://hcca.net
X-WR-CALDESC:Events for HCCA
REFRESH-INTERVAL;VALUE=DURATION:PT1H
X-Robots-Tag:noindex
X-PUBLISHED-TTL:PT1H
BEGIN:VTIMEZONE
TZID:UTC
BEGIN:STANDARD
TZOFFSETFROM:+0000
TZOFFSETTO:+0000
TZNAME:UTC
DTSTART:20210101T000000
END:STANDARD
END:VTIMEZONE
BEGIN:VEVENT
DTSTART;TZID=UTC:20220317T110000
DTEND;TZID=UTC:20220317T140000
DTSTAMP:20260423T115858
CREATED:20220329T091452Z
LAST-MODIFIED:20220329T091452Z
UID:10000062-1647514800-1647525600@hcca.net
SUMMARY:TRENCH & EXCAVATION (VIRTUAL/ONLINE)
DESCRIPTION:
URL:https://hcca.net/event/trench-excavation-virtual-online/
LOCATION:VA
CATEGORIES:VA Construction Safety Training Calendar
END:VEVENT
BEGIN:VEVENT
DTSTART;TZID=UTC:20220321T080000
DTEND;TZID=UTC:20220321T170000
DTSTAMP:20260423T115858
CREATED:20220329T091711Z
LAST-MODIFIED:20220410T140654Z
UID:10000063-1647849600-1647882000@hcca.net
SUMMARY:VDOT WORK ZONE BASIC (SPANISH) (IN PERSON CLASS)
DESCRIPTION:Register
URL:https://hcca.net/event/vdot-work-zone-basic-spanish-in-person-class/
LOCATION:VA
CATEGORIES:VA Construction Safety Training Calendar
END:VEVENT
BEGIN:VEVENT
DTSTART;TZID=UTC:20220322T080000
DTEND;TZID=UTC:20220322T130000
DTSTAMP:20260423T115858
CREATED:20220329T091741Z
LAST-MODIFIED:20220410T135133Z
UID:10000024-1647936000-1647954000@hcca.net
SUMMARY:FIRST AID/CPR/AED (IN PERSON CLASS)
DESCRIPTION:Register
URL:https://hcca.net/event/first-aid-cpr-aed-in-person-class-2/
LOCATION:VA
CATEGORIES:VA Construction Safety Training Calendar
END:VEVENT
BEGIN:VEVENT
DTSTART;TZID=UTC:20220323T080000
DTEND;TZID=UTC:20220323T150000
DTSTAMP:20260423T115858
CREATED:20220329T091811Z
LAST-MODIFIED:20220410T140243Z
UID:10000053-1648022400-1648047600@hcca.net
SUMMARY:VDOT Erosion & Sediment Control Contractors Certification (VIRTUAL/ONLINE CLASS)
DESCRIPTION:Register
URL:https://hcca.net/event/vdot-erosion-sediment-control-contractors-certification-virtual-online-class/
LOCATION:VA
CATEGORIES:VA Construction Safety Training Calendar
END:VEVENT
BEGIN:VEVENT
DTSTART;TZID=UTC:20220324T080000
DTEND;TZID=UTC:20220325T170000
DTSTAMP:20260423T115858
CREATED:20220329T091843Z
LAST-MODIFIED:20220410T141038Z
UID:10000055-1648108800-1648227600@hcca.net
SUMMARY:VDOT WORK ZONE INTERMEDIATE (VIRTUAL/ONLINE CLASS)
DESCRIPTION:Register
URL:https://hcca.net/event/vdot-work-zone-intermediate-virtual-online-class-2/
LOCATION:VA
CATEGORIES:VA Construction Safety Training Calendar
END:VEVENT
BEGIN:VEVENT
DTSTART;TZID=UTC:20220328T080000
DTEND;TZID=UTC:20220328T130000
DTSTAMP:20260423T115858
CREATED:20220329T091915Z
LAST-MODIFIED:20220410T135032Z
UID:10000057-1648454400-1648472400@hcca.net
SUMMARY:FIRST AID/CPR/AED (VIRTUAL CLASS)
DESCRIPTION:Register
URL:https://hcca.net/event/first-aid-cpr-aed-virtual-class/
LOCATION:VA
CATEGORIES:VA Construction Safety Training Calendar
END:VEVENT
BEGIN:VEVENT
DTSTART;TZID=UTC:20220329T110000
DTEND;TZID=UTC:20220329T140000
DTSTAMP:20260423T115858
CREATED:20220329T092005Z
LAST-MODIFIED:20220329T092005Z
UID:10000023-1648551600-1648562400@hcca.net
SUMMARY:TRENCH & EXCAVATION - SPANISH (IN PERSON)
DESCRIPTION:
URL:https://hcca.net/event/trench-excavation-spanish-in-person/
LOCATION:VA
CATEGORIES:VA Construction Safety Training Calendar
END:VEVENT
BEGIN:VEVENT
DTSTART;TZID=UTC:20220330T080000
DTEND;TZID=UTC:20220330T170000
DTSTAMP:20260423T115858
CREATED:20220329T092051Z
LAST-MODIFIED:20220329T092051Z
UID:10000043-1648627200-1648659600@hcca.net
SUMMARY:**CUSTOM COURSE** Arlington County (CS)
DESCRIPTION:
URL:https://hcca.net/event/custom-course-arlington-county-cs/
LOCATION:VA
CATEGORIES:VA Construction Safety Training Calendar
END:VEVENT
BEGIN:VEVENT
DTSTART;TZID=UTC:20220331T080000
DTEND;TZID=UTC:20220401T170000
DTSTAMP:20260423T115858
CREATED:20220329T092117Z
LAST-MODIFIED:20220410T135512Z
UID:10000045-1648713600-1648832400@hcca.net
SUMMARY:OSHA 10 SPANISH (IN PERSON CLASS)
DESCRIPTION:Includes 18 Holes\, Carts\, Breakfast\, Snack Bag\, Beverages Throughout The Course\, Lunch\, And Dinner For Team Of 4 With Your Company Logo On Entrance Sign\, Tee Sign\, Green Sign\, And Tee/Green Sponsor Banner. \nRegister
URL:https://hcca.net/event/osha-10-spanish-in-person-class/
LOCATION:VA
CATEGORIES:VA Construction Safety Training Calendar
END:VEVENT
BEGIN:VEVENT
DTSTART;TZID=UTC:20220404T080000
DTEND;TZID=UTC:20220404T170000
DTSTAMP:20260423T115858
CREATED:20220329T092138Z
LAST-MODIFIED:20220329T092138Z
UID:10000047-1649059200-1649091600@hcca.net
SUMMARY:**CUSTOM COURSE** Lift Truck
DESCRIPTION:
URL:https://hcca.net/event/custom-course-lift-truck/
LOCATION:VA
CATEGORIES:VA Construction Safety Training Calendar
END:VEVENT
BEGIN:VEVENT
DTSTART;TZID=UTC:20220405T080000
DTEND;TZID=UTC:20220405T150000
DTSTAMP:20260423T115858
CREATED:20220329T092210Z
LAST-MODIFIED:20220410T140237Z
UID:10000049-1649145600-1649170800@hcca.net
SUMMARY:VDOT Erosion & Sediment Control Contractors Certification (IN PERSON CLASS)
DESCRIPTION:Register
URL:https://hcca.net/event/vdot-erosion-sediment-control-contractors-certification-in-person-class-2/
LOCATION:VA
CATEGORIES:VA Construction Safety Training Calendar
END:VEVENT
BEGIN:VEVENT
DTSTART;TZID=UTC:20220406T080000
DTEND;TZID=UTC:20220407T170000
DTSTAMP:20260423T115858
CREATED:20220329T092236Z
LAST-MODIFIED:20220410T141033Z
UID:10000022-1649232000-1649350800@hcca.net
SUMMARY:VDOT WORK ZONE INTERMEDIATE (IN PERSON CLASS)
DESCRIPTION:Register
URL:https://hcca.net/event/vdot-work-zone-intermediate-in-person-class-2/
LOCATION:VA
CATEGORIES:VA Construction Safety Training Calendar
END:VEVENT
BEGIN:VEVENT
DTSTART;TZID=UTC:20220408T080000
DTEND;TZID=UTC:20220408T170000
DTSTAMP:20260423T115858
CREATED:20220329T092258Z
LAST-MODIFIED:20220329T092258Z
UID:10000038-1649404800-1649437200@hcca.net
SUMMARY:**CUSTOM COURSE** WZB - VA Beach
DESCRIPTION:
URL:https://hcca.net/event/custom-course-wzb-va-beach/
LOCATION:VA
CATEGORIES:VA Construction Safety Training Calendar
END:VEVENT
BEGIN:VEVENT
DTSTART;TZID=UTC:20220411T080000
DTEND;TZID=UTC:20220411T170000
DTSTAMP:20260423T115858
CREATED:20220329T092321Z
LAST-MODIFIED:20220329T092321Z
UID:10000039-1649664000-1649696400@hcca.net
SUMMARY:**CUSTOM COURSE** Lift Truck
DESCRIPTION:
URL:https://hcca.net/event/custom-course-lift-truck-2/
LOCATION:VA
CATEGORIES:VA Construction Safety Training Calendar
END:VEVENT
BEGIN:VEVENT
DTSTART;TZID=UTC:20220412T080000
DTEND;TZID=UTC:20220412T170000
DTSTAMP:20260423T115858
CREATED:20220329T092342Z
LAST-MODIFIED:20220329T092342Z
UID:10000040-1649750400-1649782800@hcca.net
SUMMARY:**CUSTOM COURSE** Hazel Lift Truck
DESCRIPTION:
URL:https://hcca.net/event/custom-course-hazel-lift-truck/
LOCATION:VA
CATEGORIES:VA Construction Safety Training Calendar
END:VEVENT
BEGIN:VEVENT
DTSTART;TZID=UTC:20220413T080000
DTEND;TZID=UTC:20220413T170000
DTSTAMP:20260423T115858
CREATED:20220329T092403Z
LAST-MODIFIED:20220329T092403Z
UID:10000041-1649836800-1649869200@hcca.net
SUMMARY:**CUSTOM COURSE** FA for WG
DESCRIPTION:
URL:https://hcca.net/event/custom-course-fa-for-wg/
LOCATION:VA
CATEGORIES:VA Construction Safety Training Calendar
END:VEVENT
BEGIN:VEVENT
DTSTART;TZID=UTC:20220414T080000
DTEND;TZID=UTC:20220415T170000
DTSTAMP:20260423T115858
CREATED:20220329T092424Z
LAST-MODIFIED:20220410T135504Z
UID:10000033-1649923200-1650042000@hcca.net
SUMMARY:OSHA 10 (IN PERSON CLASS)
DESCRIPTION:Includes 18 Holes\, Carts\, Breakfast\, Snack Bag\, Beverages Throughout The Course\, Lunch\, And Dinner For Team Of 4 With Your Company Logo On Entrance Sign\, Tee Sign\, Green Sign\, And Tee/Green Sponsor Banner. \nRegister
URL:https://hcca.net/event/osha-10-in-person-class-2/
LOCATION:VA
CATEGORIES:VA Construction Safety Training Calendar
END:VEVENT
BEGIN:VEVENT
DTSTART;TZID=UTC:20220418T080000
DTEND;TZID=UTC:20220418T170000
DTSTAMP:20260423T115858
CREATED:20220329T092452Z
LAST-MODIFIED:20220329T092452Z
UID:10000034-1650268800-1650301200@hcca.net
SUMMARY:**CUSTOM COURSE** Lift Truck
DESCRIPTION:
URL:https://hcca.net/event/custom-course-lift-truck-3/
LOCATION:VA
CATEGORIES:VA Construction Safety Training Calendar
END:VEVENT
BEGIN:VEVENT
DTSTART;TZID=UTC:20220419T080000
DTEND;TZID=UTC:20220419T170000
DTSTAMP:20260423T115858
CREATED:20220329T092524Z
LAST-MODIFIED:20220410T140648Z
UID:10000035-1650355200-1650387600@hcca.net
SUMMARY:VDOT WORK ZONE BASIC (SPANISH) (IN PERSON CLASS)
DESCRIPTION:Register
URL:https://hcca.net/event/vdot-work-zone-basic-spanish-in-person-class-2/
LOCATION:VA
CATEGORIES:VA Construction Safety Training Calendar
END:VEVENT
BEGIN:VEVENT
DTSTART;TZID=UTC:20220420T080000
DTEND;TZID=UTC:20220420T150000
DTSTAMP:20260423T115858
CREATED:20220329T092559Z
LAST-MODIFIED:20220410T140229Z
UID:10000036-1650441600-1650466800@hcca.net
SUMMARY:VDOT Erosion & Sediment Control Contractors Certification (VIRTUAL/ONLINE CLASS)
DESCRIPTION:Register
URL:https://hcca.net/event/vdot-erosion-sediment-control-contractors-certification-virtual-online-class-2/
LOCATION:VA
CATEGORIES:VA Construction Safety Training Calendar
END:VEVENT
BEGIN:VEVENT
DTSTART;TZID=UTC:20220421T080000
DTEND;TZID=UTC:20220422T170000
DTSTAMP:20260423T115858
CREATED:20220329T092634Z
LAST-MODIFIED:20220410T141028Z
UID:10000021-1650528000-1650646800@hcca.net
SUMMARY:VDOT WORK ZONE INTERMEDIATE (VIRTUAL/ONLINE CLASS)
DESCRIPTION:Register
URL:https://hcca.net/event/vdot-work-zone-intermediate-virtual-online-class-3/
LOCATION:VA
CATEGORIES:VA Construction Safety Training Calendar
END:VEVENT
BEGIN:VEVENT
DTSTART;TZID=UTC:20220425T080000
DTEND;TZID=UTC:20220425T170000
DTSTAMP:20260423T115858
CREATED:20220329T092703Z
LAST-MODIFIED:20220410T140629Z
UID:10000028-1650873600-1650906000@hcca.net
SUMMARY:VDOT WORK ZONE BASIC (IN PERSON CLASS)
DESCRIPTION:Register
URL:https://hcca.net/event/vdot-work-zone-basic-in-person-class-2/
LOCATION:VA
CATEGORIES:VA Construction Safety Training Calendar
END:VEVENT
BEGIN:VEVENT
DTSTART;TZID=UTC:20220426T080000
DTEND;TZID=UTC:20220426T160000
DTSTAMP:20260423T115858
CREATED:20220329T092734Z
LAST-MODIFIED:20220410T135635Z
UID:10000029-1650960000-1650988800@hcca.net
SUMMARY:OSHA 30 Day 1 (IN PERSON CLASS)
DESCRIPTION:Register
URL:https://hcca.net/event/osha-30-day-1-in-person-class/
LOCATION:VA
CATEGORIES:VA Construction Safety Training Calendar
END:VEVENT
BEGIN:VEVENT
DTSTART;TZID=UTC:20220502T080000
DTEND;TZID=UTC:20220502T170000
DTSTAMP:20260423T115858
CREATED:20220401T140449Z
LAST-MODIFIED:20220401T140517Z
UID:10000030-1651478400-1651510800@hcca.net
SUMMARY:**CUSTOM COURSE** Atlantic
DESCRIPTION:
URL:https://hcca.net/event/custom-course-atlantic/
LOCATION:VA
CATEGORIES:VA Construction Safety Training Calendar
END:VEVENT
BEGIN:VEVENT
DTSTART;TZID=UTC:20220503T080000
DTEND;TZID=UTC:20220503T160000
DTSTAMP:20260423T115858
CREATED:20220401T140603Z
LAST-MODIFIED:20220518T023433Z
UID:10000031-1651564800-1651593600@hcca.net
SUMMARY:OSHA 30 Day 2 (IN PERSON CLASS)
DESCRIPTION:Register
URL:https://hcca.net/event/osha-30-day-2-in-person-class/
LOCATION:VA
CATEGORIES:VA Construction Safety Training Calendar
END:VEVENT
BEGIN:VEVENT
DTSTART;TZID=UTC:20220504T080000
DTEND;TZID=UTC:20220504T150000
DTSTAMP:20260423T115858
CREATED:20220401T140655Z
LAST-MODIFIED:20220518T023416Z
UID:10000072-1651651200-1651676400@hcca.net
SUMMARY:VDOT Erosion & Sediment Control Contractors Certification (IN PERSON CLASS)
DESCRIPTION:Register
URL:https://hcca.net/event/vdot-erosion-sediment-control-contractors-certification-in-person-class-3/
LOCATION:VA
CATEGORIES:VA Construction Safety Training Calendar
END:VEVENT
BEGIN:VEVENT
DTSTART;TZID=UTC:20220505T080000
DTEND;TZID=UTC:20220505T130000
DTSTAMP:20260423T115858
CREATED:20220401T140738Z
LAST-MODIFIED:20220518T023357Z
UID:10000067-1651737600-1651755600@hcca.net
SUMMARY:FIRST AID/CPR/AED (IN PERSON CLASS)
DESCRIPTION:Register
URL:https://hcca.net/event/first-aid-cpr-aed-in-person-class-3/
LOCATION:VA
CATEGORIES:VA Construction Safety Training Calendar
END:VEVENT
BEGIN:VEVENT
DTSTART;TZID=UTC:20220509T080000
DTEND;TZID=UTC:20220511T170000
DTSTAMP:20260423T115858
CREATED:20220401T140829Z
LAST-MODIFIED:20220401T140829Z
UID:10000059-1652083200-1652288400@hcca.net
SUMMARY:Ari OSHA Training
DESCRIPTION:
URL:https://hcca.net/event/ari-osha-training/
LOCATION:VA
CATEGORIES:VA Construction Safety Training Calendar
END:VEVENT
BEGIN:VEVENT
DTSTART;TZID=UTC:20220512T080000
DTEND;TZID=UTC:20220513T170000
DTSTAMP:20260423T115858
CREATED:20220401T140907Z
LAST-MODIFIED:20220518T023330Z
UID:10000051-1652342400-1652461200@hcca.net
SUMMARY:VDOT WORK ZONE INTERMEDIATE (IN PERSON CLASS)
DESCRIPTION:Register
URL:https://hcca.net/event/vdot-work-zone-intermediate-in-person-class-3/
LOCATION:VA
CATEGORIES:VA Construction Safety Training Calendar
END:VEVENT
BEGIN:VEVENT
DTSTART;TZID=UTC:20220516T080000
DTEND;TZID=UTC:20220516T170000
DTSTAMP:20260423T115858
CREATED:20220401T140944Z
LAST-MODIFIED:20220518T023212Z
UID:10000037-1652688000-1652720400@hcca.net
SUMMARY:VDOT WORK ZONE BASIC (VIRTUAL/ONLINE CLASS)
DESCRIPTION:Register
URL:https://hcca.net/event/vdot-work-zone-basic-virtual-online-class/
LOCATION:VA
CATEGORIES:VA Construction Safety Training Calendar
END:VEVENT
END:VCALENDAR