BEGIN:VCALENDAR
VERSION:2.0
PRODID:-//HCCA - ECPv6.15.17.1//NONSGML v1.0//EN
CALSCALE:GREGORIAN
METHOD:PUBLISH
X-WR-CALNAME:HCCA
X-ORIGINAL-URL:https://hcca.net
X-WR-CALDESC:Events for HCCA
REFRESH-INTERVAL;VALUE=DURATION:PT1H
X-Robots-Tag:noindex
X-PUBLISHED-TTL:PT1H
BEGIN:VTIMEZONE
TZID:UTC
BEGIN:STANDARD
TZOFFSETFROM:+0000
TZOFFSETTO:+0000
TZNAME:UTC
DTSTART:20210101T000000
END:STANDARD
END:VTIMEZONE
BEGIN:VEVENT
DTSTART;TZID=UTC:20220824T080000
DTEND;TZID=UTC:20220824T150000
DTSTAMP:20260423T073855
CREATED:20220401T145443Z
LAST-MODIFIED:20220410T140110Z
UID:10000020-1661328000-1661353200@hcca.net
SUMMARY:VDOT Erosion & Sediment Control Contractors Certification (VIRTUAL/ONLINE CLASS)
DESCRIPTION:Register
URL:https://hcca.net/event/vdot-erosion-sediment-control-contractors-certification-virtual-online-class-6/
LOCATION:VA
CATEGORIES:VA Construction Safety Training Calendar
END:VEVENT
BEGIN:VEVENT
DTSTART;TZID=UTC:20220825T080000
DTEND;TZID=UTC:20220826T170000
DTSTAMP:20260423T073855
CREATED:20220401T145522Z
LAST-MODIFIED:20220410T140924Z
UID:10000101-1661414400-1661533200@hcca.net
SUMMARY:VDOT WORK ZONE INTERMEDIATE (VIRTUAL/ONLINE CLASS)
DESCRIPTION:Register
URL:https://hcca.net/event/vdot-work-zone-intermediate-virtual-online-class-7/
LOCATION:VA
CATEGORIES:VA Construction Safety Training Calendar
END:VEVENT
BEGIN:VEVENT
DTSTART;TZID=UTC:20220915T080000
DTEND;TZID=UTC:20220916T170000
DTSTAMP:20260423T073855
CREATED:20220401T145801Z
LAST-MODIFIED:20220824T215140Z
UID:10000105-1663228800-1663347600@hcca.net
SUMMARY:VDOT WORK ZONE INTERMEDIATE (IN PERSON CLASS)
DESCRIPTION:Register
URL:https://hcca.net/event/vdot-work-zone-intermediate-in-person-class-7/
LOCATION:HCCA\, 9251 Industrial Ct\, Suite 201\, Manassas\, VA\, 20109\, United States
CATEGORIES:VA Construction Safety Training Calendar
END:VEVENT
BEGIN:VEVENT
DTSTART;TZID=UTC:20220919T080000
DTEND;TZID=UTC:20220919T170000
DTSTAMP:20260423T073855
CREATED:20220401T144344Z
LAST-MODIFIED:20220824T215056Z
UID:10000100-1663574400-1663606800@hcca.net
SUMMARY:VDOT WORK ZONE BASIC (IN PERSON CLASS)
DESCRIPTION:Register
URL:https://hcca.net/event/vdot-work-zone-basic-virtual-online-class-3/
LOCATION:HCCA\, 9251 Industrial Ct\, Suite 201\, Manassas\, VA\, 20109\, United States
CATEGORIES:VA Construction Safety Training Calendar
END:VEVENT
BEGIN:VEVENT
DTSTART;TZID=UTC:20220920T080000
DTEND;TZID=UTC:20220920T130000
DTSTAMP:20260423T073855
CREATED:20220401T145634Z
LAST-MODIFIED:20220824T215219Z
UID:10000102-1663660800-1663678800@hcca.net
SUMMARY:FIRST AID/CPR/AED (IN PERSON CLASS)
DESCRIPTION:Register
URL:https://hcca.net/event/first-aid-cpr-aed-in-person-class-7/
LOCATION:HCCA\, 9251 Industrial Ct\, Suite 201\, Manassas\, VA\, 20109\, United States
CATEGORIES:VA Construction Safety Training Calendar
END:VEVENT
BEGIN:VEVENT
DTSTART;TZID=UTC:20220921T080000
DTEND;TZID=UTC:20220921T150000
DTSTAMP:20260423T073855
CREATED:20220401T145716Z
LAST-MODIFIED:20220824T215429Z
UID:10000103-1663747200-1663772400@hcca.net
SUMMARY:VDOT Erosion & Sediment Control Contractors Certification (IN PERSON CLASS)
DESCRIPTION:Register
URL:https://hcca.net/event/vdot-erosion-sediment-control-contractors-certification-in-person-class-7/
LOCATION:VA
CATEGORIES:VA Construction Safety Training Calendar
END:VEVENT
BEGIN:VEVENT
DTSTART;TZID=UTC:20220921T080000
DTEND;TZID=UTC:20220921T150000
DTSTAMP:20260423T073855
CREATED:20220401T150017Z
LAST-MODIFIED:20220824T215358Z
UID:10000111-1663747200-1663772400@hcca.net
SUMMARY:VDOT Erosion & Sediment Control Contractors Certification (VIRTUAL/ONLINE CLASS)
DESCRIPTION:Register
URL:https://hcca.net/event/vdot-erosion-sediment-control-contractors-certification-virtual-online-class-7/
LOCATION:VA
CATEGORIES:VA Construction Safety Training Calendar
END:VEVENT
BEGIN:VEVENT
DTSTART;TZID=UTC:20220922T080000
DTEND;TZID=UTC:20220923T170000
DTSTAMP:20260423T073855
CREATED:20220401T150101Z
LAST-MODIFIED:20220824T215503Z
UID:10000113-1663833600-1663952400@hcca.net
SUMMARY:VDOT WORK ZONE INTERMEDIATE (VIRTUAL/ONLINE CLASS)
DESCRIPTION:Register
URL:https://hcca.net/event/vdot-work-zone-intermediate-virtual-online-class-8/
LOCATION:VA
CATEGORIES:VA Construction Safety Training Calendar
END:VEVENT
BEGIN:VEVENT
DTSTART;TZID=UTC:20220926T080000
DTEND;TZID=UTC:20220926T170000
DTSTAMP:20260423T073855
CREATED:20220401T145937Z
LAST-MODIFIED:20220824T215532Z
UID:10000109-1664179200-1664211600@hcca.net
SUMMARY:VDOT WORK ZONE BASIC (SPANISH) (IN PERSON CLASS)
DESCRIPTION:Register
URL:https://hcca.net/event/vdot-work-zone-basic-spanish-in-person-class-7/
LOCATION:VA
CATEGORIES:VA Construction Safety Training Calendar
END:VEVENT
BEGIN:VEVENT
DTSTART;TZID=UTC:20221010T080000
DTEND;TZID=UTC:20221010T130000
DTSTAMP:20260423T073855
CREATED:20220401T150155Z
LAST-MODIFIED:20220410T135008Z
UID:10000115-1665388800-1665406800@hcca.net
SUMMARY:FIRST AID/CPR/AED (IN PERSON CLASS)
DESCRIPTION:Register
URL:https://hcca.net/event/first-aid-cpr-aed-in-person-class-8/
LOCATION:VA
CATEGORIES:VA Construction Safety Training Calendar
END:VEVENT
BEGIN:VEVENT
DTSTART;TZID=UTC:20221013T080000
DTEND;TZID=UTC:20221014T170000
DTSTAMP:20260423T073855
CREATED:20220401T150333Z
LAST-MODIFIED:20220824T215747Z
UID:10000117-1665648000-1665766800@hcca.net
SUMMARY:VDOT WORK ZONE INTERMEDIATE (IN PERSON CLASS)
DESCRIPTION:Register
URL:https://hcca.net/event/vdot-work-zone-intermediate-in-person-class-8/
LOCATION:VA
CATEGORIES:VA Construction Safety Training Calendar
END:VEVENT
BEGIN:VEVENT
DTSTART;TZID=UTC:20221017T080000
DTEND;TZID=UTC:20221017T170000
DTSTAMP:20260423T073855
CREATED:20220401T150435Z
LAST-MODIFIED:20220410T135844Z
UID:10000119-1665993600-1666026000@hcca.net
SUMMARY:**CUSTOM COURSE** Confined Space - Roanoke
DESCRIPTION:Register
URL:https://hcca.net/event/custom-course-confined-space-roanoke/
LOCATION:VA
CATEGORIES:VA Construction Safety Training Calendar
END:VEVENT
BEGIN:VEVENT
DTSTART;TZID=UTC:20221018T080000
DTEND;TZID=UTC:20221018T170000
DTSTAMP:20260423T073855
CREATED:20220401T150550Z
LAST-MODIFIED:20220824T215824Z
UID:10000121-1666080000-1666112400@hcca.net
SUMMARY:VDOT WORK ZONE BASIC (IN PERSON CLASS)
DESCRIPTION:Register
URL:https://hcca.net/event/vdot-work-zone-basic-virtual-online-class-6/
LOCATION:VA
CATEGORIES:VA Construction Safety Training Calendar
END:VEVENT
BEGIN:VEVENT
DTSTART;TZID=UTC:20221020T080000
DTEND;TZID=UTC:20221021T170000
DTSTAMP:20260423T073855
CREATED:20220401T145905Z
LAST-MODIFIED:20220824T215315Z
UID:10000107-1666252800-1666371600@hcca.net
SUMMARY:OSHA 10 (IN PERSON CLASS)
DESCRIPTION:Register
URL:https://hcca.net/event/osha-10-in-person-class-6/
LOCATION:VA
CATEGORIES:VA Construction Safety Training Calendar
END:VEVENT
BEGIN:VEVENT
DTSTART;TZID=UTC:20221026T080000
DTEND;TZID=UTC:20221026T150000
DTSTAMP:20260423T073855
CREATED:20220401T152124Z
LAST-MODIFIED:20220824T220408Z
UID:10000127-1666771200-1666796400@hcca.net
SUMMARY:VDOT Erosion & Sediment Control Contractors Certification (IN PERSON CLASS)
DESCRIPTION:Register
URL:https://hcca.net/event/vdot-erosion-sediment-control-contractors-certification-virtual-online-class-9/
LOCATION:VA
CATEGORIES:VA Construction Safety Training Calendar
END:VEVENT
BEGIN:VEVENT
DTSTART;TZID=UTC:20221026T080000
DTEND;TZID=UTC:20221026T170000
DTSTAMP:20260423T073855
CREATED:20220401T150810Z
LAST-MODIFIED:20220518T022558Z
UID:10000123-1666771200-1666803600@hcca.net
SUMMARY:VDOT Erosion & Sediment Control Contractors Certification (VIRTUAL/ONLINE CLASS)
DESCRIPTION:Register
URL:https://hcca.net/event/vdot-erosion-sediment-control-contractors-certification-virtual-online-class-8/
LOCATION:VA
CATEGORIES:VA Construction Safety Training Calendar
END:VEVENT
BEGIN:VEVENT
DTSTART;TZID=UTC:20221027T080000
DTEND;TZID=UTC:20221028T170000
DTSTAMP:20260423T073855
CREATED:20220401T150956Z
LAST-MODIFIED:20221021T175635Z
UID:10000124-1666857600-1666976400@hcca.net
SUMMARY:VDOT WORK ZONE INTERMEDIATE (In Person)
DESCRIPTION:Register
URL:https://hcca.net/event/vdot-work-zone-intermediate-virtual-online-class-10/
LOCATION:VA
CATEGORIES:VA Construction Safety Training Calendar
END:VEVENT
BEGIN:VEVENT
DTSTART;TZID=UTC:20221101T080000
DTEND;TZID=UTC:20221101T170000
DTSTAMP:20260423T073855
CREATED:20221021T175756Z
LAST-MODIFIED:20221021T180154Z
UID:10000048-1667289600-1667322000@hcca.net
SUMMARY:CONFINED SPACE (IN PERSON)
DESCRIPTION:
URL:https://hcca.net/event/confined-space-3/
LOCATION:HCCA\, 9251 Industrial Ct\, Suite 201\, Manassas\, VA\, 20109\, United States
CATEGORIES:VA Construction Safety Training Calendar
END:VEVENT
BEGIN:VEVENT
DTSTART;TZID=UTC:20221104T080000
DTEND;TZID=UTC:20221104T170000
DTSTAMP:20260423T073855
CREATED:20221021T180040Z
LAST-MODIFIED:20221021T180110Z
UID:10000050-1667548800-1667581200@hcca.net
SUMMARY:WORK ZONE BASIC - ENGLISH
DESCRIPTION:
URL:https://hcca.net/event/work-zone-basic-english/
LOCATION:HCCA\, 9251 Industrial Ct\, Suite 201\, Manassas\, VA\, 20109\, United States
CATEGORIES:VA Construction Safety Training Calendar
END:VEVENT
BEGIN:VEVENT
DTSTART;TZID=UTC:20221110T080000
DTEND;TZID=UTC:20221111T170000
DTSTAMP:20260423T073855
CREATED:20220401T151311Z
LAST-MODIFIED:20220518T022451Z
UID:10000125-1668067200-1668186000@hcca.net
SUMMARY:VDOT WORK ZONE INTERMEDIATE (IN PERSON CLASS)
DESCRIPTION:Register
URL:https://hcca.net/event/vdot-work-zone-intermediate-in-person-class-9/
LOCATION:VA
CATEGORIES:VA Construction Safety Training Calendar
END:VEVENT
BEGIN:VEVENT
DTSTART;TZID=UTC:20221114T080000
DTEND;TZID=UTC:20221114T170000
DTSTAMP:20260423T073855
CREATED:20220401T151429Z
LAST-MODIFIED:20220824T220325Z
UID:10000126-1668412800-1668445200@hcca.net
SUMMARY:VDOT WORK ZONE BASIC (IN PERSON CLASS)
DESCRIPTION:Register
URL:https://hcca.net/event/vdot-work-zone-basic-virtual-online-class-7/
LOCATION:VA
CATEGORIES:VA Construction Safety Training Calendar
END:VEVENT
BEGIN:VEVENT
DTSTART;TZID=UTC:20221115T080000
DTEND;TZID=UTC:20221116T163000
DTSTAMP:20260423T073855
CREATED:20221101T221036Z
LAST-MODIFIED:20221101T221036Z
UID:10000052-1668499200-1668616200@hcca.net
SUMMARY:VDOT WORK ZONE ADVANCED
DESCRIPTION:
URL:https://hcca.net/event/vdot-work-zone-advanced/
LOCATION:HCCA\, 9251 Industrial Ct\, Suite 201\, Manassas\, VA\, 20109\, United States
CATEGORIES:VA Construction Safety Training Calendar
ORGANIZER;CN="Ashley Hutson":MAILTO:ashley@hcca.net
END:VEVENT
BEGIN:VEVENT
DTSTART;TZID=UTC:20221117T080000
DTEND;TZID=UTC:20221118T170000
DTSTAMP:20260423T073855
CREATED:20220401T152217Z
LAST-MODIFIED:20220518T022324Z
UID:10000129-1668672000-1668790800@hcca.net
SUMMARY:VDOT WORK ZONE INTERMEDIATE (VIRTUAL/ONLINE CLASS)
DESCRIPTION:Register
URL:https://hcca.net/event/vdot-work-zone-intermediate-virtual-online-class-9/
LOCATION:VA
CATEGORIES:VA Construction Safety Training Calendar
END:VEVENT
BEGIN:VEVENT
DTSTART;TZID=UTC:20221121T080000
DTEND;TZID=UTC:20221121T170000
DTSTAMP:20260423T073855
CREATED:20220401T152333Z
LAST-MODIFIED:20220518T022302Z
UID:10000131-1669017600-1669050000@hcca.net
SUMMARY:VDOT WORK ZONE BASIC (SPANISH) (IN PERSON CLASS)
DESCRIPTION:Register
URL:https://hcca.net/event/vdot-work-zone-basic-spanish-in-person-class-9/
LOCATION:VA
CATEGORIES:VA Construction Safety Training Calendar
END:VEVENT
BEGIN:VEVENT
DTSTART;TZID=UTC:20221205T080000
DTEND;TZID=UTC:20221205T130000
DTSTAMP:20260423T073855
CREATED:20220401T152439Z
LAST-MODIFIED:20220518T022009Z
UID:10000133-1670227200-1670245200@hcca.net
SUMMARY:FIRST AID/CPR/AED (IN PERSON CLASS)
DESCRIPTION:Register
URL:https://hcca.net/event/first-aid-cpr-aed-in-person-class-11/
LOCATION:VA
CATEGORIES:VA Construction Safety Training Calendar
END:VEVENT
BEGIN:VEVENT
DTSTART;TZID=UTC:20221205T080000
DTEND;TZID=UTC:20221205T170000
DTSTAMP:20260423T073855
CREATED:20221205T211046Z
LAST-MODIFIED:20221205T211046Z
UID:10000163-1670227200-1670259600@hcca.net
SUMMARY:VDOT WORK ZONE INTERMEDIATE
DESCRIPTION:Register
URL:https://hcca.net/event/vdot-work-zone-intermediate-2/
LOCATION:HCCA\, 9251 Industrial Ct\, Suite 201\, Manassas\, VA\, 20109\, United States
CATEGORIES:VA Construction Safety Training Calendar
END:VEVENT
BEGIN:VEVENT
DTSTART;TZID=UTC:20221207T080000
DTEND;TZID=UTC:20221207T150000
DTSTAMP:20260423T073855
CREATED:20220401T152535Z
LAST-MODIFIED:20221205T193036Z
UID:10000135-1670400000-1670425200@hcca.net
SUMMARY:VDOT Erosion & Sediment Control Contractors Certification (IN PERSON CLASS)
DESCRIPTION:Register
URL:https://hcca.net/event/vdot-erosion-sediment-control-contractors-certification-in-person-class-9/
LOCATION:HCCA\, 9251 Industrial Ct\, Suite 201\, Manassas\, VA\, 20109\, United States
CATEGORIES:VA Construction Safety Training Calendar
END:VEVENT
BEGIN:VEVENT
DTSTART;TZID=UTC:20221208T080000
DTEND;TZID=UTC:20221209T170000
DTSTAMP:20260423T073855
CREATED:20220401T152623Z
LAST-MODIFIED:20221207T191647Z
UID:10000137-1670486400-1670605200@hcca.net
SUMMARY:VDOT WORK ZONE INTERMEDIATE - IN PERSON
DESCRIPTION:Register
URL:https://hcca.net/event/vdot-work-zone-intermediate-in-person-class-10/
LOCATION:HCCA\, 9251 Industrial Ct\, Suite 201\, Manassas\, VA\, 20109\, United States
CATEGORIES:VA Construction Safety Training Calendar
END:VEVENT
BEGIN:VEVENT
DTSTART;TZID=UTC:20221212T080000
DTEND;TZID=UTC:20221213T120000
DTSTAMP:20260423T073855
CREATED:20221205T193918Z
LAST-MODIFIED:20221207T191403Z
UID:10000054-1670832000-1670932800@hcca.net
SUMMARY:OSHA-10 SPANISH - IN PERSON
DESCRIPTION:Register
URL:https://hcca.net/event/osha-10-spanish/
LOCATION:HCCA\, 9251 Industrial Ct\, Suite 201\, Manassas\, VA\, 20109\, United States
CATEGORIES:VA Construction Safety Training Calendar
END:VEVENT
BEGIN:VEVENT
DTSTART;TZID=UTC:20221213T120000
DTEND;TZID=UTC:20221213T160000
DTSTAMP:20260423T073855
CREATED:20221205T194704Z
LAST-MODIFIED:20221207T191344Z
UID:10000056-1670932800-1670947200@hcca.net
SUMMARY:FIRST AID/CPR/AED - IN PERSON
DESCRIPTION:Register
URL:https://hcca.net/event/first-aid-cpr-aed/
LOCATION:HCCA\, 9251 Industrial Ct\, Suite 201\, Manassas\, VA\, 20109\, United States
CATEGORIES:VA Construction Safety Training Calendar
END:VEVENT
END:VCALENDAR