BEGIN:VCALENDAR
VERSION:2.0
PRODID:-//HCCA - ECPv6.15.17.1//NONSGML v1.0//EN
CALSCALE:GREGORIAN
METHOD:PUBLISH
X-WR-CALNAME:HCCA
X-ORIGINAL-URL:https://hcca.net
X-WR-CALDESC:Events for HCCA
REFRESH-INTERVAL;VALUE=DURATION:PT1H
X-Robots-Tag:noindex
X-PUBLISHED-TTL:PT1H
BEGIN:VTIMEZONE
TZID:UTC
BEGIN:STANDARD
TZOFFSETFROM:+0000
TZOFFSETTO:+0000
TZNAME:UTC
DTSTART:20210101T000000
END:STANDARD
END:VTIMEZONE
BEGIN:VEVENT
DTSTART;TZID=UTC:20220421T080000
DTEND;TZID=UTC:20220422T170000
DTSTAMP:20260423T105214
CREATED:20220329T092634Z
LAST-MODIFIED:20220410T141028Z
UID:10000021-1650528000-1650646800@hcca.net
SUMMARY:VDOT WORK ZONE INTERMEDIATE (VIRTUAL/ONLINE CLASS)
DESCRIPTION:Register
URL:https://hcca.net/event/vdot-work-zone-intermediate-virtual-online-class-3/
LOCATION:VA
CATEGORIES:VA Construction Safety Training Calendar
END:VEVENT
BEGIN:VEVENT
DTSTART;TZID=UTC:20220425T080000
DTEND;TZID=UTC:20220425T170000
DTSTAMP:20260423T105214
CREATED:20220329T092703Z
LAST-MODIFIED:20220410T140629Z
UID:10000028-1650873600-1650906000@hcca.net
SUMMARY:VDOT WORK ZONE BASIC (IN PERSON CLASS)
DESCRIPTION:Register
URL:https://hcca.net/event/vdot-work-zone-basic-in-person-class-2/
LOCATION:VA
CATEGORIES:VA Construction Safety Training Calendar
END:VEVENT
BEGIN:VEVENT
DTSTART;TZID=UTC:20220426T080000
DTEND;TZID=UTC:20220426T160000
DTSTAMP:20260423T105214
CREATED:20220329T092734Z
LAST-MODIFIED:20220410T135635Z
UID:10000029-1650960000-1650988800@hcca.net
SUMMARY:OSHA 30 Day 1 (IN PERSON CLASS)
DESCRIPTION:Register
URL:https://hcca.net/event/osha-30-day-1-in-person-class/
LOCATION:VA
CATEGORIES:VA Construction Safety Training Calendar
END:VEVENT
BEGIN:VEVENT
DTSTART;TZID=UTC:20220502T080000
DTEND;TZID=UTC:20220502T170000
DTSTAMP:20260423T105214
CREATED:20220401T140449Z
LAST-MODIFIED:20220401T140517Z
UID:10000030-1651478400-1651510800@hcca.net
SUMMARY:**CUSTOM COURSE** Atlantic
DESCRIPTION:
URL:https://hcca.net/event/custom-course-atlantic/
LOCATION:VA
CATEGORIES:VA Construction Safety Training Calendar
END:VEVENT
BEGIN:VEVENT
DTSTART;TZID=UTC:20220503T080000
DTEND;TZID=UTC:20220503T160000
DTSTAMP:20260423T105214
CREATED:20220401T140603Z
LAST-MODIFIED:20220518T023433Z
UID:10000031-1651564800-1651593600@hcca.net
SUMMARY:OSHA 30 Day 2 (IN PERSON CLASS)
DESCRIPTION:Register
URL:https://hcca.net/event/osha-30-day-2-in-person-class/
LOCATION:VA
CATEGORIES:VA Construction Safety Training Calendar
END:VEVENT
BEGIN:VEVENT
DTSTART;TZID=UTC:20220504T080000
DTEND;TZID=UTC:20220504T150000
DTSTAMP:20260423T105214
CREATED:20220401T140655Z
LAST-MODIFIED:20220518T023416Z
UID:10000072-1651651200-1651676400@hcca.net
SUMMARY:VDOT Erosion & Sediment Control Contractors Certification (IN PERSON CLASS)
DESCRIPTION:Register
URL:https://hcca.net/event/vdot-erosion-sediment-control-contractors-certification-in-person-class-3/
LOCATION:VA
CATEGORIES:VA Construction Safety Training Calendar
END:VEVENT
BEGIN:VEVENT
DTSTART;TZID=UTC:20220505T080000
DTEND;TZID=UTC:20220505T130000
DTSTAMP:20260423T105214
CREATED:20220401T140738Z
LAST-MODIFIED:20220518T023357Z
UID:10000067-1651737600-1651755600@hcca.net
SUMMARY:FIRST AID/CPR/AED (IN PERSON CLASS)
DESCRIPTION:Register
URL:https://hcca.net/event/first-aid-cpr-aed-in-person-class-3/
LOCATION:VA
CATEGORIES:VA Construction Safety Training Calendar
END:VEVENT
BEGIN:VEVENT
DTSTART;TZID=UTC:20220509T080000
DTEND;TZID=UTC:20220511T170000
DTSTAMP:20260423T105214
CREATED:20220401T140829Z
LAST-MODIFIED:20220401T140829Z
UID:10000059-1652083200-1652288400@hcca.net
SUMMARY:Ari OSHA Training
DESCRIPTION:
URL:https://hcca.net/event/ari-osha-training/
LOCATION:VA
CATEGORIES:VA Construction Safety Training Calendar
END:VEVENT
BEGIN:VEVENT
DTSTART;TZID=UTC:20220512T080000
DTEND;TZID=UTC:20220513T170000
DTSTAMP:20260423T105214
CREATED:20220401T140907Z
LAST-MODIFIED:20220518T023330Z
UID:10000051-1652342400-1652461200@hcca.net
SUMMARY:VDOT WORK ZONE INTERMEDIATE (IN PERSON CLASS)
DESCRIPTION:Register
URL:https://hcca.net/event/vdot-work-zone-intermediate-in-person-class-3/
LOCATION:VA
CATEGORIES:VA Construction Safety Training Calendar
END:VEVENT
BEGIN:VEVENT
DTSTART;TZID=UTC:20220516T080000
DTEND;TZID=UTC:20220516T170000
DTSTAMP:20260423T105214
CREATED:20220401T140944Z
LAST-MODIFIED:20220518T023212Z
UID:10000037-1652688000-1652720400@hcca.net
SUMMARY:VDOT WORK ZONE BASIC (VIRTUAL/ONLINE CLASS)
DESCRIPTION:Register
URL:https://hcca.net/event/vdot-work-zone-basic-virtual-online-class/
LOCATION:VA
CATEGORIES:VA Construction Safety Training Calendar
END:VEVENT
BEGIN:VEVENT
DTSTART;TZID=UTC:20220517T080000
DTEND;TZID=UTC:20220517T160000
DTSTAMP:20260423T105214
CREATED:20220401T141042Z
LAST-MODIFIED:20220518T023155Z
UID:10000032-1652774400-1652803200@hcca.net
SUMMARY:OSHA 30 Day 3 (IN PERSON CLASS)
DESCRIPTION:Register
URL:https://hcca.net/event/osha-30-day-3-in-person-class/
LOCATION:VA
CATEGORIES:VA Construction Safety Training Calendar
END:VEVENT
BEGIN:VEVENT
DTSTART;TZID=UTC:20220518T080000
DTEND;TZID=UTC:20220519T170000
DTSTAMP:20260423T105214
CREATED:20220401T141129Z
LAST-MODIFIED:20220401T141129Z
UID:10000001-1652860800-1652979600@hcca.net
SUMMARY:**CUSTOM COURSE"" Hazel
DESCRIPTION:
URL:https://hcca.net/event/custom-course-hazel/
LOCATION:VA
CATEGORIES:VA Construction Safety Training Calendar
END:VEVENT
BEGIN:VEVENT
DTSTART;TZID=UTC:20220523T080000
DTEND;TZID=UTC:20220523T170000
DTSTAMP:20260423T105214
CREATED:20220401T141204Z
LAST-MODIFIED:20220518T023116Z
UID:10000002-1653292800-1653325200@hcca.net
SUMMARY:VDOT WORK ZONE BASIC (SPANISH) (IN PERSON CLASS)
DESCRIPTION:Register
URL:https://hcca.net/event/vdot-work-zone-basic-spanish-in-person-class-3/
LOCATION:VA
CATEGORIES:VA Construction Safety Training Calendar
END:VEVENT
BEGIN:VEVENT
DTSTART;TZID=UTC:20220524T080000
DTEND;TZID=UTC:20220524T160000
DTSTAMP:20260423T105214
CREATED:20220401T141243Z
LAST-MODIFIED:20220518T023056Z
UID:10000003-1653379200-1653408000@hcca.net
SUMMARY:OSHA 30 Day 4 (IN PERSON CLASS)
DESCRIPTION:Register
URL:https://hcca.net/event/osha-30-day-4-in-person-class-2/
LOCATION:VA
CATEGORIES:VA Construction Safety Training Calendar
END:VEVENT
BEGIN:VEVENT
DTSTART;TZID=UTC:20220525T080000
DTEND;TZID=UTC:20220525T150000
DTSTAMP:20260423T105214
CREATED:20220401T141320Z
LAST-MODIFIED:20220518T023036Z
UID:10000004-1653465600-1653490800@hcca.net
SUMMARY:VDOT Erosion & Sediment Control Contractors Certification (VIRTUAL/ONLINE CLASS)
DESCRIPTION:Register
URL:https://hcca.net/event/vdot-erosion-sediment-control-contractors-certification-virtual-online-class-3/
LOCATION:VA
CATEGORIES:VA Construction Safety Training Calendar
END:VEVENT
BEGIN:VEVENT
DTSTART;TZID=UTC:20220526T080000
DTEND;TZID=UTC:20220527T170000
DTSTAMP:20260423T105214
CREATED:20220401T141418Z
LAST-MODIFIED:20220518T023015Z
UID:10000005-1653552000-1653670800@hcca.net
SUMMARY:VDOT WORK ZONE INTERMEDIATE (VIRTUAL/ONLINE CLASS)
DESCRIPTION:Register
URL:https://hcca.net/event/vdot-work-zone-intermediate-virtual-online-class-4/
LOCATION:VA
CATEGORIES:VA Construction Safety Training Calendar
END:VEVENT
BEGIN:VEVENT
DTSTART;TZID=UTC:20220602T080000
DTEND;TZID=UTC:20220602T170000
DTSTAMP:20260423T105214
CREATED:20220401T141603Z
LAST-MODIFIED:20220401T141603Z
UID:10000006-1654156800-1654189200@hcca.net
SUMMARY:**CUSTOM COURSE** for WG
DESCRIPTION:
URL:https://hcca.net/event/custom-course-for-wg/
LOCATION:VA
CATEGORIES:VA Construction Safety Training Calendar
END:VEVENT
BEGIN:VEVENT
DTSTART;TZID=UTC:20220603T080000
DTEND;TZID=UTC:20220603T170000
DTSTAMP:20260423T105214
CREATED:20220401T141702Z
LAST-MODIFIED:20220401T141702Z
UID:10000007-1654243200-1654275600@hcca.net
SUMMARY:**CUSTOM COURSE** for WG
DESCRIPTION:
URL:https://hcca.net/event/custom-course-for-wg-2/
LOCATION:VA
CATEGORIES:VA Construction Safety Training Calendar
END:VEVENT
BEGIN:VEVENT
DTSTART;TZID=UTC:20220608T080000
DTEND;TZID=UTC:20220608T130000
DTSTAMP:20260423T105214
CREATED:20220401T143422Z
LAST-MODIFIED:20220518T024108Z
UID:10000008-1654675200-1654693200@hcca.net
SUMMARY:FIRST AID/CPR/AED (IN PERSON CLASS)
DESCRIPTION:Register
URL:https://hcca.net/event/first-aid-cpr-aed-in-person-class-4/
LOCATION:VA
CATEGORIES:VA Construction Safety Training Calendar
END:VEVENT
BEGIN:VEVENT
DTSTART;TZID=UTC:20220608T080000
DTEND;TZID=UTC:20220608T150000
DTSTAMP:20260423T105214
CREATED:20220401T143514Z
LAST-MODIFIED:20220518T024049Z
UID:10000009-1654675200-1654700400@hcca.net
SUMMARY:VDOT Erosion & Sediment Control Contractors Certification (IN PERSON CLASS)
DESCRIPTION:Register
URL:https://hcca.net/event/vdot-erosion-sediment-control-contractors-certification-in-person-class-4/
LOCATION:VA
CATEGORIES:VA Construction Safety Training Calendar
END:VEVENT
BEGIN:VEVENT
DTSTART;TZID=UTC:20220609T080000
DTEND;TZID=UTC:20220610T170000
DTSTAMP:20260423T105214
CREATED:20220401T143626Z
LAST-MODIFIED:20220518T024032Z
UID:10000010-1654761600-1654880400@hcca.net
SUMMARY:VDOT WORK ZONE INTERMEDIATE (IN PERSON CLASS)
DESCRIPTION:Register
URL:https://hcca.net/event/vdot-work-zone-intermediate-in-person-class-4/
LOCATION:VA
CATEGORIES:VA Construction Safety Training Calendar
END:VEVENT
BEGIN:VEVENT
DTSTART;TZID=UTC:20220613T080000
DTEND;TZID=UTC:20220613T170000
DTSTAMP:20260423T105214
CREATED:20220401T143723Z
LAST-MODIFIED:20220518T024017Z
UID:10000085-1655107200-1655139600@hcca.net
SUMMARY:VDOT WORK ZONE BASIC (VIRTUAL/ONLINE CLASS)
DESCRIPTION:Register
URL:https://hcca.net/event/vdot-work-zone-basic-virtual-online-class-2/
LOCATION:VA
CATEGORIES:VA Construction Safety Training Calendar
END:VEVENT
BEGIN:VEVENT
DTSTART;TZID=UTC:20220614T080000
DTEND;TZID=UTC:20220614T170000
DTSTAMP:20260423T105214
CREATED:20220401T143813Z
LAST-MODIFIED:20220401T143813Z
UID:10000087-1655193600-1655226000@hcca.net
SUMMARY:**CUSTOM COURSE** FA for WG
DESCRIPTION:
URL:https://hcca.net/event/custom-course-fa-for-wg-2/
LOCATION:VA
CATEGORIES:VA Construction Safety Training Calendar
END:VEVENT
BEGIN:VEVENT
DTSTART;TZID=UTC:20220616T080000
DTEND;TZID=UTC:20220617T170000
DTSTAMP:20260423T105214
CREATED:20220401T143844Z
LAST-MODIFIED:20220518T023959Z
UID:10000089-1655366400-1655485200@hcca.net
SUMMARY:OSHA 10 (IN PERSON CLASS)
DESCRIPTION:Includes 18 Holes\, Carts\, Breakfast\, Snack Bag\, Beverages Throughout The Course\, Lunch\, And Dinner For Team Of 4 With Your Company Logo On Entrance Sign\, Tee Sign\, Green Sign\, And Tee/Green Sponsor Banner. \nRegister
URL:https://hcca.net/event/osha-10-in-person-class-3/
LOCATION:VA
CATEGORIES:VA Construction Safety Training Calendar
END:VEVENT
BEGIN:VEVENT
DTSTART;TZID=UTC:20220620T080000
DTEND;TZID=UTC:20220620T170000
DTSTAMP:20260423T105214
CREATED:20220401T143926Z
LAST-MODIFIED:20220518T023939Z
UID:10000091-1655712000-1655744400@hcca.net
SUMMARY:VDOT WORK ZONE BASIC (SPANISH) (IN PERSON CLASS)
DESCRIPTION:Register
URL:https://hcca.net/event/vdot-work-zone-basic-spanish-in-person-class-4/
LOCATION:VA
CATEGORIES:VA Construction Safety Training Calendar
END:VEVENT
BEGIN:VEVENT
DTSTART;TZID=UTC:20220622T080000
DTEND;TZID=UTC:20220622T150000
DTSTAMP:20260423T105214
CREATED:20220401T144003Z
LAST-MODIFIED:20220518T023923Z
UID:10000093-1655884800-1655910000@hcca.net
SUMMARY:VDOT Erosion & Sediment Control Contractors Certification (VIRTUAL/ONLINE CLASS)
DESCRIPTION:Register
URL:https://hcca.net/event/vdot-erosion-sediment-control-contractors-certification-virtual-online-class-4/
LOCATION:VA
CATEGORIES:VA Construction Safety Training Calendar
END:VEVENT
BEGIN:VEVENT
DTSTART;TZID=UTC:20220623T080000
DTEND;TZID=UTC:20220624T170000
DTSTAMP:20260423T105214
CREATED:20220401T144042Z
LAST-MODIFIED:20220518T023910Z
UID:10000095-1655971200-1656090000@hcca.net
SUMMARY:VDOT WORK ZONE INTERMEDIATE (VIRTUAL/ONLINE CLASS)
DESCRIPTION:Register
URL:https://hcca.net/event/vdot-work-zone-intermediate-virtual-online-class-5/
LOCATION:VA
CATEGORIES:VA Construction Safety Training Calendar
END:VEVENT
BEGIN:VEVENT
DTSTART;TZID=UTC:20220705T080000
DTEND;TZID=UTC:20220705T130000
DTSTAMP:20260423T105214
CREATED:20220401T144126Z
LAST-MODIFIED:20220518T024742Z
UID:10000097-1657008000-1657026000@hcca.net
SUMMARY:FIRST AID/CPR/AED (IN PERSON CLASS)
DESCRIPTION:Register
URL:https://hcca.net/event/first-aid-cpr-aed-in-person-class-5/
LOCATION:VA
CATEGORIES:VA Construction Safety Training Calendar
END:VEVENT
BEGIN:VEVENT
DTSTART;TZID=UTC:20220706T080000
DTEND;TZID=UTC:20220706T150000
DTSTAMP:20260423T105214
CREATED:20220401T144213Z
LAST-MODIFIED:20220518T024727Z
UID:10000098-1657094400-1657119600@hcca.net
SUMMARY:VDOT Erosion & Sediment Control Contractors Certification (IN PERSON CLASS)
DESCRIPTION:Register
URL:https://hcca.net/event/vdot-erosion-sediment-control-contractors-certification-in-person-class-5/
LOCATION:VA
CATEGORIES:VA Construction Safety Training Calendar
END:VEVENT
BEGIN:VEVENT
DTSTART;TZID=UTC:20220707T080000
DTEND;TZID=UTC:20220708T170000
DTSTAMP:20260423T105214
CREATED:20220401T144304Z
LAST-MODIFIED:20220518T024715Z
UID:10000099-1657180800-1657299600@hcca.net
SUMMARY:VDOT WORK ZONE INTERMEDIATE (IN PERSON CLASS)
DESCRIPTION:Register
URL:https://hcca.net/event/vdot-work-zone-intermediate-in-person-class-5/
LOCATION:VA
CATEGORIES:VA Construction Safety Training Calendar
END:VEVENT
END:VCALENDAR