BEGIN:VCALENDAR
VERSION:2.0
PRODID:-//HCCA - ECPv6.15.17.1//NONSGML v1.0//EN
CALSCALE:GREGORIAN
METHOD:PUBLISH
X-WR-CALNAME:HCCA
X-ORIGINAL-URL:https://hcca.net
X-WR-CALDESC:Events for HCCA
REFRESH-INTERVAL;VALUE=DURATION:PT1H
X-Robots-Tag:noindex
X-PUBLISHED-TTL:PT1H
BEGIN:VTIMEZONE
TZID:UTC
BEGIN:STANDARD
TZOFFSETFROM:+0000
TZOFFSETTO:+0000
TZNAME:UTC
DTSTART:20240101T000000
END:STANDARD
END:VTIMEZONE
BEGIN:VEVENT
DTSTART;TZID=UTC:20250129T100000
DTEND;TZID=UTC:20250129T120000
DTSTAMP:20260422T183413
CREATED:20241210T054428Z
LAST-MODIFIED:20241210T060751Z
UID:10000341-1738144800-1738152000@hcca.net
SUMMARY:Fall Protection Training (In Person)
DESCRIPTION:Register
URL:https://hcca.net/event/fall-protection-training-2/
LOCATION:HCCA\, 9251 Industrial Ct\, Suite 201\, Manassas\, VA\, 20109\, United States
CATEGORIES:VA Construction Safety Training Calendar
END:VEVENT
BEGIN:VEVENT
DTSTART;TZID=UTC:20250129T130000
DTEND;TZID=UTC:20250129T150000
DTSTAMP:20260422T183413
CREATED:20241210T054525Z
LAST-MODIFIED:20241210T060817Z
UID:10000343-1738155600-1738162800@hcca.net
SUMMARY:Lock Out Tag Out Training (In Person)
DESCRIPTION:Register
URL:https://hcca.net/event/lock-out-tag-out-training-2/
LOCATION:HCCA\, 9251 Industrial Ct\, Suite 201\, Manassas\, VA\, 20109\, United States
CATEGORIES:VA Construction Safety Training Calendar
END:VEVENT
BEGIN:VEVENT
DTSTART;TZID=UTC:20250130T080000
DTEND;TZID=UTC:20250131T170000
DTSTAMP:20260422T183413
CREATED:20241121T235021Z
LAST-MODIFIED:20241122T000549Z
UID:10000512-1738224000-1738342800@hcca.net
SUMMARY:OSHA 10 (In Person)
DESCRIPTION:register
URL:https://hcca.net/event/osha-10-in-person-9/
LOCATION:HCCA\, 9251 Industrial Ct\, Suite 201\, Manassas\, VA\, 20109\, United States
CATEGORIES:VA Construction Safety Training Calendar
END:VEVENT
BEGIN:VEVENT
DTSTART;TZID=UTC:20250203T080000
DTEND;TZID=UTC:20250203T170000
DTSTAMP:20260422T183413
CREATED:20241122T001103Z
LAST-MODIFIED:20241122T001103Z
UID:10000518-1738569600-1738602000@hcca.net
SUMMARY:OSHA 30 Day 1 (In Person)
DESCRIPTION:register
URL:https://hcca.net/event/osha-30-day-1-in-person-2/
LOCATION:HCCA\, 9251 Industrial Ct\, Suite 201\, Manassas\, VA\, 20109\, United States
CATEGORIES:VA Construction Safety Training Calendar
END:VEVENT
BEGIN:VEVENT
DTSTART;TZID=UTC:20250204T080000
DTEND;TZID=UTC:20250204T170000
DTSTAMP:20260422T183413
CREATED:20241210T054750Z
LAST-MODIFIED:20241210T054808Z
UID:10000345-1738656000-1738688400@hcca.net
SUMMARY:Custom Class - Registration Closed
DESCRIPTION:
URL:https://hcca.net/event/custom-class-registration-closed-17/
CATEGORIES:VA Construction Safety Training Calendar
END:VEVENT
BEGIN:VEVENT
DTSTART;TZID=UTC:20250205T080000
DTEND;TZID=UTC:20250205T170000
DTSTAMP:20260422T183413
CREATED:20241121T234110Z
LAST-MODIFIED:20250127T221114Z
UID:10000507-1738742400-1738774800@hcca.net
SUMMARY:VDOT Erosion & Sediment Control Contractor Certification Course for Qualified Personal (In Person)- Class is Full
DESCRIPTION:
URL:https://hcca.net/event/vdot-erosion-sediment-control-contractor-certification-course-for-qualified-personal-in-person-6/
LOCATION:HCCA\, 9251 Industrial Ct\, Suite 201\, Manassas\, VA\, 20109\, United States
CATEGORIES:VA Construction Safety Training Calendar
END:VEVENT
BEGIN:VEVENT
DTSTART;TZID=UTC:20250206T080000
DTEND;TZID=UTC:20250206T170000
DTSTAMP:20260422T183413
CREATED:20241210T054852Z
LAST-MODIFIED:20241210T054919Z
UID:10000347-1738828800-1738861200@hcca.net
SUMMARY:Custom Class - Registration Closed
DESCRIPTION:
URL:https://hcca.net/event/custom-class-registration-closed-18/
CATEGORIES:VA Construction Safety Training Calendar
END:VEVENT
BEGIN:VEVENT
DTSTART;TZID=UTC:20250210T080000
DTEND;TZID=UTC:20250210T170000
DTSTAMP:20260422T183413
CREATED:20241122T001139Z
LAST-MODIFIED:20241122T001139Z
UID:10000519-1739174400-1739206800@hcca.net
SUMMARY:OSHA 30 Day 2 (In Person) - Registration Closed
DESCRIPTION:
URL:https://hcca.net/event/osha-30-day-2-in-person-registration-closed-2/
LOCATION:HCCA\, 9251 Industrial Ct\, Suite 201\, Manassas\, VA\, 20109\, United States
CATEGORIES:VA Construction Safety Training Calendar
END:VEVENT
BEGIN:VEVENT
DTSTART;TZID=UTC:20250211T080000
DTEND;TZID=UTC:20250214T170000
DTSTAMP:20260422T183413
CREATED:20241122T001520Z
LAST-MODIFIED:20241122T001520Z
UID:10000522-1739260800-1739552400@hcca.net
SUMMARY:Custom Class - Registration Closed
DESCRIPTION:
URL:https://hcca.net/event/custom-class-registration-closed-16/
CATEGORIES:VA Construction Safety Training Calendar
END:VEVENT
BEGIN:VEVENT
DTSTART;TZID=UTC:20250217T080000
DTEND;TZID=UTC:20250217T170000
DTSTAMP:20260422T183413
CREATED:20241122T001219Z
LAST-MODIFIED:20241122T001219Z
UID:10000520-1739779200-1739811600@hcca.net
SUMMARY:OSHA 30 Day 3 (In Person) - Registration Closed
DESCRIPTION:
URL:https://hcca.net/event/osha-30-day-3-in-person-registration-closed-2/
LOCATION:HCCA\, 9251 Industrial Ct\, Suite 201\, Manassas\, VA\, 20109\, United States
CATEGORIES:VA Construction Safety Training Calendar
END:VEVENT
BEGIN:VEVENT
DTSTART;TZID=UTC:20250218T080000
DTEND;TZID=UTC:20250218T170000
DTSTAMP:20260422T183413
CREATED:20241210T055134Z
LAST-MODIFIED:20241210T060903Z
UID:10000349-1739865600-1739898000@hcca.net
SUMMARY:VDOT Erosion & Sediment Control Contractors Certification Course for Qualified Personnel - Class is Full
DESCRIPTION:
URL:https://hcca.net/event/vdot-erosion-sediment-control-contractors-certification-course-for-qualified-personnel-esccc-qp-class-is-full/
CATEGORIES:VA Construction Safety Training Calendar
END:VEVENT
BEGIN:VEVENT
DTSTART;TZID=UTC:20250219T080000
DTEND;TZID=UTC:20250219T170000
DTSTAMP:20260422T183413
CREATED:20241122T001650Z
LAST-MODIFIED:20241122T001813Z
UID:10000523-1739952000-1739984400@hcca.net
SUMMARY:First Aid/CPR/AED Training (In Person) - Class is Full
DESCRIPTION:
URL:https://hcca.net/event/first-aid-cpr-aed-training-in-person-class-is-full-4/
CATEGORIES:VA Construction Safety Training Calendar
END:VEVENT
BEGIN:VEVENT
DTSTART;TZID=UTC:20250220T080000
DTEND;TZID=UTC:20250221T170000
DTSTAMP:20260422T183413
CREATED:20241121T234706Z
LAST-MODIFIED:20250127T220757Z
UID:10000511-1740038400-1740157200@hcca.net
SUMMARY:VDOT Work Zone Intermediate Traffic Control Training (In Person) - Class is Full
DESCRIPTION:
URL:https://hcca.net/event/vdot-work-zone-intermediate-traffic-control-training-in-person-11/
LOCATION:HCCA\, 9251 Industrial Ct\, Suite 201\, Manassas\, VA\, 20109\, United States
CATEGORIES:VA Construction Safety Training Calendar
END:VEVENT
BEGIN:VEVENT
DTSTART;TZID=UTC:20250224T080000
DTEND;TZID=UTC:20250224T170000
DTSTAMP:20260422T183413
CREATED:20241122T001304Z
LAST-MODIFIED:20241122T001304Z
UID:10000521-1740384000-1740416400@hcca.net
SUMMARY:OSHA 30 Day 4 (In Person) - Registration Closed
DESCRIPTION:
URL:https://hcca.net/event/osha-30-day-4-in-person-registration-closed-2/
LOCATION:HCCA\, 9251 Industrial Ct\, Suite 201\, Manassas\, VA\, 20109\, United States
CATEGORIES:VA Construction Safety Training Calendar
END:VEVENT
BEGIN:VEVENT
DTSTART;TZID=UTC:20250225T080000
DTEND;TZID=UTC:20250225T100000
DTSTAMP:20260422T183413
CREATED:20241210T055313Z
LAST-MODIFIED:20241210T060946Z
UID:10000351-1740470400-1740477600@hcca.net
SUMMARY:Confined Space Training in Spanish (In Person)
DESCRIPTION:Register
URL:https://hcca.net/event/confined-space-in-spanish-training/
LOCATION:HCCA\, 9251 Industrial Ct\, Suite 201\, Manassas\, VA\, 20109\, United States
CATEGORIES:VA Construction Safety Training Calendar
END:VEVENT
BEGIN:VEVENT
DTSTART;TZID=UTC:20250225T100000
DTEND;TZID=UTC:20250225T120000
DTSTAMP:20260422T183413
CREATED:20241210T055432Z
LAST-MODIFIED:20241210T061010Z
UID:10000353-1740477600-1740484800@hcca.net
SUMMARY:Fall Protection Training in Spanish (In Person)
DESCRIPTION:Register
URL:https://hcca.net/event/fall-protection-training-in-spanish/
LOCATION:HCCA\, 9251 Industrial Ct\, Suite 201\, Manassas\, VA\, 20109\, United States
CATEGORIES:VA Construction Safety Training Calendar
END:VEVENT
BEGIN:VEVENT
DTSTART;TZID=UTC:20250225T130000
DTEND;TZID=UTC:20250225T150000
DTSTAMP:20260422T183413
CREATED:20241210T055524Z
LAST-MODIFIED:20241210T061038Z
UID:10000355-1740488400-1740495600@hcca.net
SUMMARY:Lock Out Tag Out Training in Spanish (In Person)
DESCRIPTION:Register
URL:https://hcca.net/event/lock-out-tag-out-training-in-spanish/
LOCATION:HCCA\, 9251 Industrial Ct\, Suite 201\, Manassas\, VA\, 20109\, United States
CATEGORIES:VA Construction Safety Training Calendar
END:VEVENT
BEGIN:VEVENT
DTSTART;TZID=UTC:20250226T080000
DTEND;TZID=UTC:20250226T170000
DTSTAMP:20260422T183414
CREATED:20241121T234224Z
LAST-MODIFIED:20250129T214200Z
UID:10000508-1740556800-1740589200@hcca.net
SUMMARY:VDOT Erosion & Sediment Control Contractor Certification Course for Qualified Personal (In Person) - CLASS IS FULL
DESCRIPTION:
URL:https://hcca.net/event/vdot-erosion-sediment-control-contractor-certification-course-for-qualified-personal-in-person-7/
LOCATION:HCCA\, 9251 Industrial Ct\, Suite 201\, Manassas\, VA\, 20109\, United States
CATEGORIES:VA Construction Safety Training Calendar
END:VEVENT
BEGIN:VEVENT
DTSTART;TZID=UTC:20250227T080000
DTEND;TZID=UTC:20250228T170000
DTSTAMP:20260422T183414
CREATED:20241121T235200Z
LAST-MODIFIED:20250217T193500Z
UID:10000513-1740643200-1740762000@hcca.net
SUMMARY:VDOT Work Zone Intermediate Traffic Control Training (Online) - Class is Full
DESCRIPTION:
URL:https://hcca.net/event/osha-10-in-person-11/
LOCATION:ONLINE
CATEGORIES:VA Construction Safety Training Calendar
END:VEVENT
BEGIN:VEVENT
DTSTART;TZID=UTC:20250303T080000
DTEND;TZID=UTC:20250303T170000
DTSTAMP:20260422T183414
CREATED:20241210T055951Z
LAST-MODIFIED:20250107T212952Z
UID:10000359-1740988800-1741021200@hcca.net
SUMMARY:First Aid/CPR/AED Training (In Person) - Class is full
DESCRIPTION:
URL:https://hcca.net/event/first-aid-cpr-aed-training/
LOCATION:HCCA\, 9251 Industrial Ct\, Suite 201\, Manassas\, VA\, 20109\, United States
CATEGORIES:VA Construction Safety Training Calendar
END:VEVENT
BEGIN:VEVENT
DTSTART;TZID=UTC:20250306T080000
DTEND;TZID=UTC:20250307T170000
DTSTAMP:20260422T183414
CREATED:20241210T063247Z
LAST-MODIFIED:20250226T224559Z
UID:10000550-1741248000-1741366800@hcca.net
SUMMARY:VDOT Work Zone Intermediate Traffic Control Training (In Person) - CLASS IS FULL
DESCRIPTION:
URL:https://hcca.net/event/vdot-work-zone-intermediate-traffic-control-training-in-person-12/
LOCATION:HCCA\, 9251 Industrial Ct\, Suite 201\, Manassas\, VA\, 20109\, United States
CATEGORIES:VA Construction Safety Training Calendar
END:VEVENT
BEGIN:VEVENT
DTSTART;TZID=UTC:20250310T080000
DTEND;TZID=UTC:20250313T170000
DTSTAMP:20260422T183414
CREATED:20241210T055832Z
LAST-MODIFIED:20241210T055832Z
UID:10000357-1741593600-1741885200@hcca.net
SUMMARY:Custom Training - Registration Closed
DESCRIPTION:
URL:https://hcca.net/event/custom-training-registration-closed-3/
CATEGORIES:VA Construction Safety Training Calendar
END:VEVENT
BEGIN:VEVENT
DTSTART;TZID=UTC:20250317T080000
DTEND;TZID=UTC:20250317T170000
DTSTAMP:20260422T183414
CREATED:20241210T065253Z
LAST-MODIFIED:20250226T224748Z
UID:10000381-1742198400-1742230800@hcca.net
SUMMARY:Work Zone Basic Traffic Control Training (In Person) - Class is Full
DESCRIPTION:
URL:https://hcca.net/event/work-zone-basic-traffic-control-training-in-person-9/
LOCATION:HCCA\, 9251 Industrial Ct\, Suite 201\, Manassas\, VA\, 20109\, United States
CATEGORIES:VA Construction Safety Training Calendar
END:VEVENT
BEGIN:VEVENT
DTSTART;TZID=UTC:20250318T080000
DTEND;TZID=UTC:20250318T170000
DTSTAMP:20260422T183414
CREATED:20241210T071941Z
LAST-MODIFIED:20241210T071941Z
UID:10000585-1742284800-1742317200@hcca.net
SUMMARY:Forklift Training - Register Closed
DESCRIPTION:
URL:https://hcca.net/event/forklift-training-register-closed/
CATEGORIES:VA Construction Safety Training Calendar
END:VEVENT
BEGIN:VEVENT
DTSTART;TZID=UTC:20250319T080000
DTEND;TZID=UTC:20250319T170000
DTSTAMP:20260422T183414
CREATED:20241210T060419Z
LAST-MODIFIED:20241210T060419Z
UID:10000531-1742371200-1742403600@hcca.net
SUMMARY:VDOT Erosion & Sediment Control Contractors Certification Course for Qualified Personnel (In Person)
DESCRIPTION:Register
URL:https://hcca.net/event/vdot-erosion-sediment-control-contractors-certification-course-for-qualified-personnel-in-person/
LOCATION:HCCA\, 9251 Industrial Ct\, Suite 201\, Manassas\, VA\, 20109\, United States
CATEGORIES:VA Construction Safety Training Calendar
END:VEVENT
BEGIN:VEVENT
DTSTART;TZID=UTC:20250320T080000
DTEND;TZID=UTC:20250321T170000
DTSTAMP:20260422T183414
CREATED:20241210T063333Z
LAST-MODIFIED:20250313T175900Z
UID:10000551-1742457600-1742576400@hcca.net
SUMMARY:VDOT Work Zone Intermediate Traffic Control Training (Online) - Class is Full
DESCRIPTION:
URL:https://hcca.net/event/vdot-work-zone-intermediate-traffic-control-training-online-9/
LOCATION:ONLINE
CATEGORIES:VA Construction Safety Training Calendar
END:VEVENT
BEGIN:VEVENT
DTSTART;TZID=UTC:20250324T080000
DTEND;TZID=UTC:20250324T170000
DTSTAMP:20260422T183414
CREATED:20241210T070047Z
LAST-MODIFIED:20250310T175249Z
UID:10000569-1742803200-1742835600@hcca.net
SUMMARY:Work Zone Basic Traffic Control Training in Spanish (In Person) - CLASS IS FULL
DESCRIPTION:
URL:https://hcca.net/event/work-zone-basic-traffic-control-training-in-spanish-in-person/
LOCATION:HCCA\, 9251 Industrial Ct\, Suite 201\, Manassas\, VA\, 20109\, United States
CATEGORIES:VA Construction Safety Training Calendar
END:VEVENT
BEGIN:VEVENT
DTSTART;TZID=UTC:20250325T080000
DTEND;TZID=UTC:20250325T170000
DTSTAMP:20260422T183414
CREATED:20241210T072011Z
LAST-MODIFIED:20241210T072037Z
UID:10000586-1742889600-1742922000@hcca.net
SUMMARY:Forklift Training - Registration Closed
DESCRIPTION:
URL:https://hcca.net/event/forklift-training-registration-closed/
CATEGORIES:VA Construction Safety Training Calendar
END:VEVENT
BEGIN:VEVENT
DTSTART;TZID=UTC:20250326T080000
DTEND;TZID=UTC:20250326T170000
DTSTAMP:20260422T183414
CREATED:20241210T061301Z
LAST-MODIFIED:20241210T061301Z
UID:10000532-1742976000-1743008400@hcca.net
SUMMARY:VDOT Erosion & Sediment Control Contractors Certification Course for Qualified Personnel (Online)
DESCRIPTION:Register
URL:https://hcca.net/event/vdot-erosion-sediment-control-contractors-certification-course-for-qualified-personnel-online/
LOCATION:ONLINE
CATEGORIES:VA Construction Safety Training Calendar
END:VEVENT
BEGIN:VEVENT
DTSTART;TZID=UTC:20250331T073000
DTEND;TZID=UTC:20250331T170000
DTSTAMP:20260422T183414
CREATED:20250319T205823Z
LAST-MODIFIED:20250324T184859Z
UID:10000412-1743406200-1743440400@hcca.net
SUMMARY:First Aid/CPR/AED Training (In Person) - CLASS IS FULL
DESCRIPTION:
URL:https://hcca.net/event/first-aid-cpr-aed-training-in-person-17/
LOCATION:HCCA\, 9251 Industrial Ct\, Suite 201\, Manassas\, VA\, 20109\, United States
CATEGORIES:VA Construction Safety Training Calendar
END:VEVENT
END:VCALENDAR