BEGIN:VCALENDAR
VERSION:2.0
PRODID:-//HCCA - ECPv6.15.17.1//NONSGML v1.0//EN
CALSCALE:GREGORIAN
METHOD:PUBLISH
X-WR-CALNAME:HCCA
X-ORIGINAL-URL:https://hcca.net
X-WR-CALDESC:Events for HCCA
REFRESH-INTERVAL;VALUE=DURATION:PT1H
X-Robots-Tag:noindex
X-PUBLISHED-TTL:PT1H
BEGIN:VTIMEZONE
TZID:UTC
BEGIN:STANDARD
TZOFFSETFROM:+0000
TZOFFSETTO:+0000
TZNAME:UTC
DTSTART:20240101T000000
END:STANDARD
END:VTIMEZONE
BEGIN:VEVENT
DTSTART;TZID=UTC:20250303T080000
DTEND;TZID=UTC:20250303T170000
DTSTAMP:20260421T162825
CREATED:20241210T055951Z
LAST-MODIFIED:20250107T212952Z
UID:10000359-1740988800-1741021200@hcca.net
SUMMARY:First Aid/CPR/AED Training (In Person) - Class is full
DESCRIPTION:
URL:https://hcca.net/event/first-aid-cpr-aed-training/
LOCATION:HCCA\, 9251 Industrial Ct\, Suite 201\, Manassas\, VA\, 20109\, United States
CATEGORIES:VA Construction Safety Training Calendar
END:VEVENT
BEGIN:VEVENT
DTSTART;TZID=UTC:20250306T080000
DTEND;TZID=UTC:20250307T170000
DTSTAMP:20260421T162825
CREATED:20241210T063247Z
LAST-MODIFIED:20250226T224559Z
UID:10000550-1741248000-1741366800@hcca.net
SUMMARY:VDOT Work Zone Intermediate Traffic Control Training (In Person) - CLASS IS FULL
DESCRIPTION:
URL:https://hcca.net/event/vdot-work-zone-intermediate-traffic-control-training-in-person-12/
LOCATION:HCCA\, 9251 Industrial Ct\, Suite 201\, Manassas\, VA\, 20109\, United States
CATEGORIES:VA Construction Safety Training Calendar
END:VEVENT
BEGIN:VEVENT
DTSTART;TZID=UTC:20250310T080000
DTEND;TZID=UTC:20250313T170000
DTSTAMP:20260421T162825
CREATED:20241210T055832Z
LAST-MODIFIED:20241210T055832Z
UID:10000357-1741593600-1741885200@hcca.net
SUMMARY:Custom Training - Registration Closed
DESCRIPTION:
URL:https://hcca.net/event/custom-training-registration-closed-3/
LOCATION:VA
CATEGORIES:VA Construction Safety Training Calendar
END:VEVENT
BEGIN:VEVENT
DTSTART;TZID=UTC:20250317T080000
DTEND;TZID=UTC:20250317T170000
DTSTAMP:20260421T162825
CREATED:20241210T065253Z
LAST-MODIFIED:20250226T224748Z
UID:10000381-1742198400-1742230800@hcca.net
SUMMARY:Work Zone Basic Traffic Control Training (In Person) - Class is Full
DESCRIPTION:
URL:https://hcca.net/event/work-zone-basic-traffic-control-training-in-person-9/
LOCATION:HCCA\, 9251 Industrial Ct\, Suite 201\, Manassas\, VA\, 20109\, United States
CATEGORIES:VA Construction Safety Training Calendar
END:VEVENT
BEGIN:VEVENT
DTSTART;TZID=UTC:20250318T080000
DTEND;TZID=UTC:20250318T170000
DTSTAMP:20260421T162825
CREATED:20241210T071941Z
LAST-MODIFIED:20241210T071941Z
UID:10000585-1742284800-1742317200@hcca.net
SUMMARY:Forklift Training - Register Closed
DESCRIPTION:
URL:https://hcca.net/event/forklift-training-register-closed/
LOCATION:VA
CATEGORIES:VA Construction Safety Training Calendar
END:VEVENT
BEGIN:VEVENT
DTSTART;TZID=UTC:20250319T080000
DTEND;TZID=UTC:20250319T170000
DTSTAMP:20260421T162825
CREATED:20241210T060419Z
LAST-MODIFIED:20241210T060419Z
UID:10000531-1742371200-1742403600@hcca.net
SUMMARY:VDOT Erosion & Sediment Control Contractors Certification Course for Qualified Personnel (In Person)
DESCRIPTION:Register
URL:https://hcca.net/event/vdot-erosion-sediment-control-contractors-certification-course-for-qualified-personnel-in-person/
LOCATION:HCCA\, 9251 Industrial Ct\, Suite 201\, Manassas\, VA\, 20109\, United States
CATEGORIES:VA Construction Safety Training Calendar
END:VEVENT
BEGIN:VEVENT
DTSTART;TZID=UTC:20250320T080000
DTEND;TZID=UTC:20250321T170000
DTSTAMP:20260421T162825
CREATED:20241210T063333Z
LAST-MODIFIED:20250313T175900Z
UID:10000551-1742457600-1742576400@hcca.net
SUMMARY:VDOT Work Zone Intermediate Traffic Control Training (Online) - Class is Full
DESCRIPTION:
URL:https://hcca.net/event/vdot-work-zone-intermediate-traffic-control-training-online-9/
LOCATION:ONLINE
CATEGORIES:VA Construction Safety Training Calendar
END:VEVENT
BEGIN:VEVENT
DTSTART;TZID=UTC:20250324T080000
DTEND;TZID=UTC:20250324T170000
DTSTAMP:20260421T162825
CREATED:20241210T070047Z
LAST-MODIFIED:20250310T175249Z
UID:10000569-1742803200-1742835600@hcca.net
SUMMARY:Work Zone Basic Traffic Control Training in Spanish (In Person) - CLASS IS FULL
DESCRIPTION:
URL:https://hcca.net/event/work-zone-basic-traffic-control-training-in-spanish-in-person/
LOCATION:HCCA\, 9251 Industrial Ct\, Suite 201\, Manassas\, VA\, 20109\, United States
CATEGORIES:VA Construction Safety Training Calendar
END:VEVENT
BEGIN:VEVENT
DTSTART;TZID=UTC:20250325T080000
DTEND;TZID=UTC:20250325T170000
DTSTAMP:20260421T162825
CREATED:20241210T072011Z
LAST-MODIFIED:20241210T072037Z
UID:10000586-1742889600-1742922000@hcca.net
SUMMARY:Forklift Training - Registration Closed
DESCRIPTION:
URL:https://hcca.net/event/forklift-training-registration-closed/
LOCATION:VA
CATEGORIES:VA Construction Safety Training Calendar
END:VEVENT
BEGIN:VEVENT
DTSTART;TZID=UTC:20250326T080000
DTEND;TZID=UTC:20250326T170000
DTSTAMP:20260421T162825
CREATED:20241210T061301Z
LAST-MODIFIED:20241210T061301Z
UID:10000532-1742976000-1743008400@hcca.net
SUMMARY:VDOT Erosion & Sediment Control Contractors Certification Course for Qualified Personnel (Online)
DESCRIPTION:Register
URL:https://hcca.net/event/vdot-erosion-sediment-control-contractors-certification-course-for-qualified-personnel-online/
LOCATION:ONLINE
CATEGORIES:VA Construction Safety Training Calendar
END:VEVENT
BEGIN:VEVENT
DTSTART;TZID=UTC:20250331T073000
DTEND;TZID=UTC:20250331T170000
DTSTAMP:20260421T162825
CREATED:20250319T205823Z
LAST-MODIFIED:20250324T184859Z
UID:10000412-1743406200-1743440400@hcca.net
SUMMARY:First Aid/CPR/AED Training (In Person) - CLASS IS FULL
DESCRIPTION:
URL:https://hcca.net/event/first-aid-cpr-aed-training-in-person-17/
LOCATION:HCCA\, 9251 Industrial Ct\, Suite 201\, Manassas\, VA\, 20109\, United States
CATEGORIES:VA Construction Safety Training Calendar
END:VEVENT
END:VCALENDAR