BEGIN:VCALENDAR
VERSION:2.0
PRODID:-//HCCA - ECPv6.15.17.1//NONSGML v1.0//EN
CALSCALE:GREGORIAN
METHOD:PUBLISH
X-WR-CALNAME:HCCA
X-ORIGINAL-URL:https://hcca.net
X-WR-CALDESC:Events for HCCA
REFRESH-INTERVAL;VALUE=DURATION:PT1H
X-Robots-Tag:noindex
X-PUBLISHED-TTL:PT1H
BEGIN:VTIMEZONE
TZID:UTC
BEGIN:STANDARD
TZOFFSETFROM:+0000
TZOFFSETTO:+0000
TZNAME:UTC
DTSTART:20230101T000000
END:STANDARD
END:VTIMEZONE
BEGIN:VEVENT
DTSTART;TZID=UTC:20241001T080000
DTEND;TZID=UTC:20241002T170000
DTSTAMP:20260421T214831
CREATED:20240906T035500Z
LAST-MODIFIED:20240911T210701Z
UID:10000483-1727769600-1727888400@hcca.net
SUMMARY:VDOT Work Zone Intermediate Traffic Control Training (Full Class - REGISTRATION CLOSED)
DESCRIPTION:
URL:https://hcca.net/event/custom-class-registration-closed-12/
LOCATION:VA
CATEGORIES:VA Construction Safety Training Calendar
END:VEVENT
BEGIN:VEVENT
DTSTART;TZID=UTC:20241003T080000
DTEND;TZID=UTC:20241004T170000
DTSTAMP:20260421T214831
CREATED:20240906T035521Z
LAST-MODIFIED:20240911T210645Z
UID:10000484-1727942400-1728061200@hcca.net
SUMMARY:VDOT Work Zone Intermediate Traffic Control Training (Full Class - REGISTRATION CLOSED)
DESCRIPTION:
URL:https://hcca.net/event/custom-class-registration-closed-13/
LOCATION:VA
CATEGORIES:VA Construction Safety Training Calendar
END:VEVENT
BEGIN:VEVENT
DTSTART;TZID=UTC:20241007T080000
DTEND;TZID=UTC:20241008T170000
DTSTAMP:20260421T214831
CREATED:20240906T035542Z
LAST-MODIFIED:20240911T210617Z
UID:10000485-1728288000-1728406800@hcca.net
SUMMARY:VDOT Work Zone Intermediate Traffic Control Training (Full Class - REGISTRATION CLOSED)
DESCRIPTION:
URL:https://hcca.net/event/custom-class-registration-closed-14/
LOCATION:VA
CATEGORIES:VA Construction Safety Training Calendar
END:VEVENT
BEGIN:VEVENT
DTSTART;TZID=UTC:20241009T080000
DTEND;TZID=UTC:20241009T170000
DTSTAMP:20260421T214831
CREATED:20240826T194534Z
LAST-MODIFIED:20240826T195056Z
UID:10000478-1728460800-1728493200@hcca.net
SUMMARY:VDOT Erosion & Sediment Control Contractor Certification Course for Qualified Personal (In Person)
DESCRIPTION:Register
URL:https://hcca.net/event/vdot-erosion-sediment-control-contractor-certification-course-for-qualified-personal-in-person/
LOCATION:HCCA\, 9251 Industrial Ct\, Suite 201\, Manassas\, VA\, 20109\, United States
CATEGORIES:VA Construction Safety Training Calendar
END:VEVENT
BEGIN:VEVENT
DTSTART;TZID=UTC:20241010T080000
DTEND;TZID=UTC:20241011T170000
DTSTAMP:20260421T214831
CREATED:20240109T212644Z
LAST-MODIFIED:20240109T212644Z
UID:10000438-1728547200-1728666000@hcca.net
SUMMARY:VDOT Work Zone Intermediate Traffic Control Training (In Person)
DESCRIPTION:Register
URL:https://hcca.net/event/vdot-work-zone-intermediate-traffic-control-training-in-person-7/
LOCATION:HCCA\, 9251 Industrial Ct\, Suite 201\, Manassas\, VA\, 20109\, United States
CATEGORIES:VA Construction Safety Training Calendar
END:VEVENT
BEGIN:VEVENT
DTSTART;TZID=UTC:20241015T080000
DTEND;TZID=UTC:20241015T170000
DTSTAMP:20260421T214831
CREATED:20240109T213814Z
LAST-MODIFIED:20240906T035639Z
UID:10000448-1728979200-1729011600@hcca.net
SUMMARY:First Aid/CPR/AED Training (In Person)
DESCRIPTION:Register
URL:https://hcca.net/event/first-aid-cpr-aed-training-in-person-5/
LOCATION:HCCA\, 9251 Industrial Ct\, Suite 201\, Manassas\, VA\, 20109\, United States
CATEGORIES:VA Construction Safety Training Calendar
END:VEVENT
BEGIN:VEVENT
DTSTART;TZID=UTC:20241016T080000
DTEND;TZID=UTC:20241016T170000
DTSTAMP:20260421T214831
CREATED:20240109T210556Z
LAST-MODIFIED:20240930T033747Z
UID:10000425-1729065600-1729098000@hcca.net
SUMMARY:VDOT Erosion & Sediment Control Contractor Certification Course for Qualified Personal (Online) - REGISTRATION CLOSED
DESCRIPTION:
URL:https://hcca.net/event/vdot-erosion-sediment-control-contractor-certification-in-person-or-online-4/
LOCATION:VA
CATEGORIES:VA Construction Safety Training Calendar
END:VEVENT
BEGIN:VEVENT
DTSTART;TZID=UTC:20241017T080000
DTEND;TZID=UTC:20241018T170000
DTSTAMP:20260421T214831
CREATED:20240906T035607Z
LAST-MODIFIED:20240911T210551Z
UID:10000486-1729152000-1729270800@hcca.net
SUMMARY:VDOT Work Zone Intermediate Traffic Control Training (Full Class - REGISTRATION CLOSED)
DESCRIPTION:
URL:https://hcca.net/event/custom-class-registration-closed-15/
LOCATION:VA
CATEGORIES:VA Construction Safety Training Calendar
END:VEVENT
BEGIN:VEVENT
DTSTART;TZID=UTC:20241021T080000
DTEND;TZID=UTC:20241021T170000
DTSTAMP:20260421T214831
CREATED:20240109T214653Z
LAST-MODIFIED:20241018T152504Z
UID:10000454-1729497600-1729530000@hcca.net
SUMMARY:Work Zone Basic Traffic Control Training - Spanish (In Person) - REGISTATION CLOSED
DESCRIPTION:
URL:https://hcca.net/event/work-zone-basic-traffic-control-training-spanish-in-person-6/
LOCATION:HCCA\, 9251 Industrial Ct\, Suite 201\, Manassas\, VA\, 20109\, United States
CATEGORIES:VA Construction Safety Training Calendar
END:VEVENT
BEGIN:VEVENT
DTSTART;TZID=UTC:20241022T080000
DTEND;TZID=UTC:20241022T170000
DTSTAMP:20260421T214831
CREATED:20240109T215204Z
LAST-MODIFIED:20241018T152137Z
UID:10000461-1729584000-1729616400@hcca.net
SUMMARY:Work Zone Basic Traffic Control Training (In Person) - REGISTRATION CLOSED
DESCRIPTION:
URL:https://hcca.net/event/work-zone-basic-traffic-control-training-in-person-6/
LOCATION:HCCA\, 9251 Industrial Ct\, Suite 201\, Manassas\, VA\, 20109\, United States
CATEGORIES:VA Construction Safety Training Calendar
END:VEVENT
BEGIN:VEVENT
DTSTART;TZID=UTC:20241024T080000
DTEND;TZID=UTC:20241025T170000
DTSTAMP:20260421T214831
CREATED:20240109T212724Z
LAST-MODIFIED:20241018T152241Z
UID:10000439-1729756800-1729875600@hcca.net
SUMMARY:VDOT Work Zone Intermediate Traffic Control Training (Online) - CALL TO REGISTER
DESCRIPTION:
URL:https://hcca.net/event/vdot-work-zone-intermediate-traffic-control-training-online-6/
LOCATION:ONLINE
CATEGORIES:VA Construction Safety Training Calendar
END:VEVENT
BEGIN:VEVENT
DTSTART;TZID=UTC:20241029T080000
DTEND;TZID=UTC:20241030T170000
DTSTAMP:20260421T214831
CREATED:20241022T205643Z
LAST-MODIFIED:20241022T205643Z
UID:10000490-1730188800-1730307600@hcca.net
SUMMARY:OSHA 10 in Spanish
DESCRIPTION:Register
URL:https://hcca.net/event/osha-10-in-spanish-2/
LOCATION:HCCA\, 9251 Industrial Ct\, Suite 201\, Manassas\, VA\, 20109\, United States
CATEGORIES:VA Construction Safety Training Calendar
END:VEVENT
BEGIN:VEVENT
DTSTART;TZID=UTC:20241031T080000
DTEND;TZID=UTC:20241101T170000
DTSTAMP:20260421T214831
CREATED:20241017T174051Z
LAST-MODIFIED:20241017T174051Z
UID:10000489-1730361600-1730480400@hcca.net
SUMMARY:OSHA 10 (In Person)
DESCRIPTION:register
URL:https://hcca.net/event/osha-10-in-person-8/
LOCATION:HCCA\, 9251 Industrial Ct\, Suite 201\, Manassas\, VA\, 20109\, United States
CATEGORIES:VA Construction Safety Training Calendar
END:VEVENT
END:VCALENDAR