BEGIN:VCALENDAR
VERSION:2.0
PRODID:-//HCCA - ECPv6.15.17.1//NONSGML v1.0//EN
CALSCALE:GREGORIAN
METHOD:PUBLISH
X-WR-CALNAME:HCCA
X-ORIGINAL-URL:https://hcca.net
X-WR-CALDESC:Events for HCCA
REFRESH-INTERVAL;VALUE=DURATION:PT1H
X-Robots-Tag:noindex
X-PUBLISHED-TTL:PT1H
BEGIN:VTIMEZONE
TZID:UTC
BEGIN:STANDARD
TZOFFSETFROM:+0000
TZOFFSETTO:+0000
TZNAME:UTC
DTSTART:20230101T000000
END:STANDARD
END:VTIMEZONE
BEGIN:VEVENT
DTSTART;TZID=UTC:20240603T080000
DTEND;TZID=UTC:20240603T170000
DTSTAMP:20260422T021330
CREATED:20240109T213559Z
LAST-MODIFIED:20240205T200609Z
UID:10000444-1717401600-1717434000@hcca.net
SUMMARY:First Aid/CPR/AED Training (In Person)
DESCRIPTION:Register
URL:https://hcca.net/event/first-aid-cpr-aed-training-in-person/
LOCATION:HCCA\, 9251 Industrial Ct\, Suite 201\, Manassas\, VA\, 20109\, United States
CATEGORIES:VA Construction Safety Training Calendar
END:VEVENT
BEGIN:VEVENT
DTSTART;TZID=UTC:20240606T080000
DTEND;TZID=UTC:20240607T170000
DTSTAMP:20260422T021330
CREATED:20240109T212058Z
LAST-MODIFIED:20240109T212058Z
UID:10000431-1717660800-1717779600@hcca.net
SUMMARY:VDOT Work Zone Intermediate Traffic Control Training (In Person)
DESCRIPTION:Register
URL:https://hcca.net/event/vdot-work-zone-intermediate-traffic-control-training-in-person-3/
LOCATION:HCCA\, 9251 Industrial Ct\, Suite 201\, Manassas\, VA\, 20109\, United States
CATEGORIES:VA Construction Safety Training Calendar
END:VEVENT
BEGIN:VEVENT
DTSTART;TZID=UTC:20240610T080000
DTEND;TZID=UTC:20240610T170000
DTSTAMP:20260422T021330
CREATED:20240109T214434Z
LAST-MODIFIED:20240604T172654Z
UID:10000452-1718006400-1718038800@hcca.net
SUMMARY:Custom Class - Registration Closed
DESCRIPTION:
URL:https://hcca.net/event/work-zone-basic-traffic-control-training-spanish-in-person-2/
LOCATION:HCCA\, 9251 Industrial Ct\, Suite 201\, Manassas\, VA\, 20109\, United States
CATEGORIES:VA Construction Safety Training Calendar
END:VEVENT
BEGIN:VEVENT
DTSTART;TZID=UTC:20240613T080000
DTEND;TZID=UTC:20240614T170000
DTSTAMP:20260422T021330
CREATED:20240416T202647Z
LAST-MODIFIED:20240416T202647Z
UID:10000470-1718265600-1718384400@hcca.net
SUMMARY:Custom Training - REGISTRATION CLOSED
DESCRIPTION:
URL:https://hcca.net/event/custom-training-registration-closed-2/
LOCATION:VA
CATEGORIES:VA Construction Safety Training Calendar
END:VEVENT
BEGIN:VEVENT
DTSTART;TZID=UTC:20240617T080000
DTEND;TZID=UTC:20240617T170000
DTSTAMP:20260422T021330
CREATED:20240109T214924Z
LAST-MODIFIED:20240205T200730Z
UID:10000457-1718611200-1718643600@hcca.net
SUMMARY:Work Zone Basic Traffic Control Training (In Person)
DESCRIPTION:Register
URL:https://hcca.net/event/work-zone-basic-traffic-control-training-in-person-2/
LOCATION:HCCA\, 9251 Industrial Ct\, Suite 201\, Manassas\, VA\, 20109\, United States
CATEGORIES:VA Construction Safety Training Calendar
END:VEVENT
BEGIN:VEVENT
DTSTART;TZID=UTC:20240620T080000
DTEND;TZID=UTC:20240621T170000
DTSTAMP:20260422T021330
CREATED:20240109T215508Z
LAST-MODIFIED:20240606T202736Z
UID:10000278-1718870400-1718989200@hcca.net
SUMMARY:OSHA 10 in Spanish (In Person)
DESCRIPTION:Register
URL:https://hcca.net/event/osha-10-in-person-7/
LOCATION:VA
CATEGORIES:VA Construction Safety Training Calendar
END:VEVENT
BEGIN:VEVENT
DTSTART;TZID=UTC:20240624T080000
DTEND;TZID=UTC:20240625T170000
DTSTAMP:20260422T021330
CREATED:20240205T200820Z
LAST-MODIFIED:20240205T200820Z
UID:10000286-1719216000-1719334800@hcca.net
SUMMARY:Custom Training (Registration Closed)
DESCRIPTION:
URL:https://hcca.net/event/custom-training-registration-closed/
LOCATION:VA
CATEGORIES:VA Construction Safety Training Calendar
END:VEVENT
BEGIN:VEVENT
DTSTART;TZID=UTC:20240626T080000
DTEND;TZID=UTC:20240626T170000
DTSTAMP:20260422T021330
CREATED:20240109T210149Z
LAST-MODIFIED:20240624T172006Z
UID:10000248-1719388800-1719421200@hcca.net
SUMMARY:VDOT Erosion & Sediment Control Contractor Certification (Hybrid - In Person or Online) - REGISTRATION CLOSED
DESCRIPTION:
URL:https://hcca.net/event/vdot-erosion-sediment-control-contractor-certification-online/
LOCATION:ONLINE
CATEGORIES:VA Construction Safety Training Calendar
END:VEVENT
BEGIN:VEVENT
DTSTART;TZID=UTC:20240627T080000
DTEND;TZID=UTC:20240628T170000
DTSTAMP:20260422T021330
CREATED:20240109T212149Z
LAST-MODIFIED:20240624T172043Z
UID:10000432-1719475200-1719594000@hcca.net
SUMMARY:VDOT Work Zone Intermediate Traffic Control Training (Online) - REGISTRATION CLOSED
DESCRIPTION:
URL:https://hcca.net/event/vdot-work-zone-intermediate-traffic-control-training-online-2/
LOCATION:ONLINE
CATEGORIES:VA Construction Safety Training Calendar
END:VEVENT
END:VCALENDAR