BEGIN:VCALENDAR
VERSION:2.0
PRODID:-//HCCA - ECPv6.15.17.1//NONSGML v1.0//EN
CALSCALE:GREGORIAN
METHOD:PUBLISH
X-ORIGINAL-URL:https://hcca.net
X-WR-CALDESC:Events for HCCA
REFRESH-INTERVAL;VALUE=DURATION:PT1H
X-Robots-Tag:noindex
X-PUBLISHED-TTL:PT1H
BEGIN:VTIMEZONE
TZID:UTC
BEGIN:STANDARD
TZOFFSETFROM:+0000
TZOFFSETTO:+0000
TZNAME:UTC
DTSTART:20230101T000000
END:STANDARD
END:VTIMEZONE
BEGIN:VEVENT
DTSTART;TZID=UTC:20240201T080000
DTEND;TZID=UTC:20240201T170000
DTSTAMP:20260422T065744
CREATED:20231128T225520Z
LAST-MODIFIED:20231128T230759Z
UID:10000340-1706774400-1706806800@hcca.net
SUMMARY:Custom Class (REGISTRATION CLOSED)
DESCRIPTION:
URL:https://hcca.net/event/custom-class-registration-closed/
LOCATION:VA
CATEGORIES:VA Construction Safety Training Calendar
END:VEVENT
BEGIN:VEVENT
DTSTART;TZID=UTC:20240202T080000
DTEND;TZID=UTC:20240202T170000
DTSTAMP:20260422T065744
CREATED:20231128T225656Z
LAST-MODIFIED:20231128T225656Z
UID:10000342-1706860800-1706893200@hcca.net
SUMMARY:VDOT Work Zone Basic (In Person)
DESCRIPTION:Register
URL:https://hcca.net/event/vdot-work-zone-basic-in-person/
LOCATION:HCCA\, 9251 Industrial Ct\, Suite 201\, Manassas\, VA\, 20109\, United States
CATEGORIES:VA Construction Safety Training Calendar
END:VEVENT
BEGIN:VEVENT
DTSTART;TZID=UTC:20240205T080000
DTEND;TZID=UTC:20240205T170000
DTSTAMP:20260422T065744
CREATED:20231128T225934Z
LAST-MODIFIED:20231128T230153Z
UID:10000344-1707120000-1707152400@hcca.net
SUMMARY:OSHA 30 - Day 1 - Training is 4 days 2/5/24\, 2/12/24\, 2/19/24 & 2/26/24 (In Person)
DESCRIPTION:Register
URL:https://hcca.net/event/osha-30-day-1-training-is-4-days-2-5-24-2-12-24-2-19-24-2-26-24-in-person/
LOCATION:HCCA\, 9251 Industrial Ct\, Suite 201\, Manassas\, VA\, 20109\, United States
CATEGORIES:VA Construction Safety Training Calendar
END:VEVENT
BEGIN:VEVENT
DTSTART;TZID=UTC:20240206T080000
DTEND;TZID=UTC:20240206T170000
DTSTAMP:20260422T065744
CREATED:20231128T230043Z
LAST-MODIFIED:20231128T230138Z
UID:10000346-1707206400-1707238800@hcca.net
SUMMARY:OSHA 30 - Spanish Day 1 - Training is 4 days 2/6/24\, 2/13/24\, 2/20/24 & 2/27/24 (In Person)
DESCRIPTION:Register
URL:https://hcca.net/event/osha-30-spanish-day-1-training-is-4-days-2-6-24-2-13-24-2-20-24-2-27-24-in-person/
LOCATION:HCCA\, 9251 Industrial Ct\, Suite 201\, Manassas\, VA\, 20109\, United States
CATEGORIES:VA Construction Safety Training Calendar
END:VEVENT
BEGIN:VEVENT
DTSTART;TZID=UTC:20240207T080000
DTEND;TZID=UTC:20240207T170000
DTSTAMP:20260422T065744
CREATED:20231128T232157Z
LAST-MODIFIED:20240105T224558Z
UID:10000360-1707292800-1707325200@hcca.net
SUMMARY:First Aid/CPR/AED (Class is Full)
DESCRIPTION:
URL:https://hcca.net/event/first-aid-cpr-aed-in-person-13/
LOCATION:HCCA\, 9251 Industrial Ct\, Suite 201\, Manassas\, VA\, 20109\, United States
CATEGORIES:VA Construction Safety Training Calendar
END:VEVENT
BEGIN:VEVENT
DTSTART;TZID=UTC:20240208T080000
DTEND;TZID=UTC:20240209T170000
DTSTAMP:20260422T065744
CREATED:20231128T232249Z
LAST-MODIFIED:20240121T055928Z
UID:10000361-1707379200-1707498000@hcca.net
SUMMARY:OSHA 10 - Spanish (CLASS IS FULL - REGISTRATION CLOSED)
DESCRIPTION:
URL:https://hcca.net/event/osha-10-spanish-in-person-4/
LOCATION:HCCA\, 9251 Industrial Ct\, Suite 201\, Manassas\, VA\, 20109\, United States
CATEGORIES:VA Construction Safety Training Calendar
END:VEVENT
BEGIN:VEVENT
DTSTART;TZID=UTC:20240212T080000
DTEND;TZID=UTC:20240212T170000
DTSTAMP:20260422T065744
CREATED:20231128T230516Z
LAST-MODIFIED:20231128T230516Z
UID:10000354-1707724800-1707757200@hcca.net
SUMMARY:OSHA 30 - Day 2 – Training is 4 days (REGISTRATION CLOSED)
DESCRIPTION:
URL:https://hcca.net/event/osha-30-day-2-training-is-4-days-registration-closed-2/
LOCATION:HCCA\, 9251 Industrial Ct\, Suite 201\, Manassas\, VA\, 20109\, United States
CATEGORIES:VA Construction Safety Training Calendar
END:VEVENT
BEGIN:VEVENT
DTSTART;TZID=UTC:20240213T080000
DTEND;TZID=UTC:20240213T170000
DTSTAMP:20260422T065744
CREATED:20231128T230306Z
LAST-MODIFIED:20231128T230306Z
UID:10000348-1707811200-1707843600@hcca.net
SUMMARY:OSHA 30- Spanish Day 2 – Training is 4 days (REGISTRATION CLOSED)
DESCRIPTION:
URL:https://hcca.net/event/osha-30-spanish-day-2-training-is-4-days-registration-closed-2/
LOCATION:HCCA\, 9251 Industrial Ct\, Suite 201\, Manassas\, VA\, 20109\, United States
CATEGORIES:VA Construction Safety Training Calendar
END:VEVENT
BEGIN:VEVENT
DTSTART;TZID=UTC:20240214T080000
DTEND;TZID=UTC:20240214T170000
DTSTAMP:20260422T065744
CREATED:20231128T232354Z
LAST-MODIFIED:20240126T210423Z
UID:10000362-1707897600-1707930000@hcca.net
SUMMARY:VDOT Work Zone Basic - Spanish (In Person)
DESCRIPTION:Register
URL:https://hcca.net/event/vdot-work-zone-basic-spanish-in-person/
LOCATION:HCCA\, 9251 Industrial Ct\, Suite 201\, Manassas\, VA\, 20109\, United States
CATEGORIES:VA Construction Safety Training Calendar
END:VEVENT
BEGIN:VEVENT
DTSTART;TZID=UTC:20240215T080000
DTEND;TZID=UTC:20240216T170000
DTSTAMP:20260422T065744
CREATED:20231128T232444Z
LAST-MODIFIED:20240125T212628Z
UID:10000363-1707984000-1708102800@hcca.net
SUMMARY:VDOT Work Zone Intermediate Traffic Control Training (CLASS IS FULL REGISTRATION CLOSED)
DESCRIPTION:
URL:https://hcca.net/event/vdot-work-zone-intermediate-in-person/
LOCATION:HCCA\, 9251 Industrial Ct\, Suite 201\, Manassas\, VA\, 20109\, United States
CATEGORIES:VA Construction Safety Training Calendar
END:VEVENT
BEGIN:VEVENT
DTSTART;TZID=UTC:20240219T080000
DTEND;TZID=UTC:20240219T170000
DTSTAMP:20260422T065744
CREATED:20231128T230549Z
LAST-MODIFIED:20231128T230549Z
UID:10000356-1708329600-1708362000@hcca.net
SUMMARY:OSHA 30 - Day 3 – Training is 4 days (REGISTRATION CLOSED)
DESCRIPTION:
URL:https://hcca.net/event/osha-30-day-3-training-is-4-days-registration-closed-2/
LOCATION:HCCA\, 9251 Industrial Ct\, Suite 201\, Manassas\, VA\, 20109\, United States
CATEGORIES:VA Construction Safety Training Calendar
END:VEVENT
BEGIN:VEVENT
DTSTART;TZID=UTC:20240220T080000
DTEND;TZID=UTC:20240220T170000
DTSTAMP:20260422T065744
CREATED:20231128T230348Z
LAST-MODIFIED:20231128T230348Z
UID:10000350-1708416000-1708448400@hcca.net
SUMMARY:OSHA 30- Spanish Day 3 – Training is 4 days (REGISTRATION CLOSED)
DESCRIPTION:
URL:https://hcca.net/event/osha-30-spanish-day-3-training-is-4-days-registration-closed-2/
LOCATION:HCCA\, 9251 Industrial Ct\, Suite 201\, Manassas\, VA\, 20109\, United States
CATEGORIES:VA Construction Safety Training Calendar
END:VEVENT
BEGIN:VEVENT
DTSTART;TZID=UTC:20240221T080000
DTEND;TZID=UTC:20240221T170000
DTSTAMP:20260422T065744
CREATED:20231128T232541Z
LAST-MODIFIED:20240206T225701Z
UID:10000364-1708502400-1708534800@hcca.net
SUMMARY:VDOT Erosion & Sediment Control Contractors Certification (Registration Closed - CLASS IS FULL)
DESCRIPTION:
URL:https://hcca.net/event/vdot-erosion-sediment-control-contractors-certification-in-person-2/
LOCATION:HCCA\, 9251 Industrial Ct\, Suite 201\, Manassas\, VA\, 20109\, United States
CATEGORIES:VA Construction Safety Training Calendar
END:VEVENT
BEGIN:VEVENT
DTSTART;TZID=UTC:20240222T080000
DTEND;TZID=UTC:20240222T170000
DTSTAMP:20260422T065744
CREATED:20231128T232645Z
LAST-MODIFIED:20240105T224636Z
UID:10000365-1708588800-1708621200@hcca.net
SUMMARY:First Aid/CPR/AED (Class is Full)
DESCRIPTION:
URL:https://hcca.net/event/first-aid-cpr-aed-in-person-14/
LOCATION:HCCA\, 9251 Industrial Ct\, Suite 201\, Manassas\, VA\, 20109\, United States
CATEGORIES:VA Construction Safety Training Calendar
END:VEVENT
BEGIN:VEVENT
DTSTART;TZID=UTC:20240223T080000
DTEND;TZID=UTC:20240223T170000
DTSTAMP:20260422T065744
CREATED:20231128T232729Z
LAST-MODIFIED:20240105T224711Z
UID:10000366-1708675200-1708707600@hcca.net
SUMMARY:First Aid/CPR/AED (Class is Full)
DESCRIPTION:
URL:https://hcca.net/event/first-aid-cpr-aed-in-person-15/
LOCATION:HCCA\, 9251 Industrial Ct\, Suite 201\, Manassas\, VA\, 20109\, United States
CATEGORIES:VA Construction Safety Training Calendar
END:VEVENT
BEGIN:VEVENT
DTSTART;TZID=UTC:20240226T080000
DTEND;TZID=UTC:20240226T170000
DTSTAMP:20260422T065744
CREATED:20231128T230628Z
LAST-MODIFIED:20231128T230628Z
UID:10000358-1708934400-1708966800@hcca.net
SUMMARY:OSHA 30 - Day 4 – Training is 4 days (REGISTRATION CLOSED)
DESCRIPTION:
URL:https://hcca.net/event/osha-30-day-4-training-is-4-days-registration-closed-2/
LOCATION:HCCA\, 9251 Industrial Ct\, Suite 201\, Manassas\, VA\, 20109\, United States
CATEGORIES:VA Construction Safety Training Calendar
END:VEVENT
BEGIN:VEVENT
DTSTART;TZID=UTC:20240227T080000
DTEND;TZID=UTC:20240227T170000
DTSTAMP:20260422T065744
CREATED:20231128T230418Z
LAST-MODIFIED:20231128T230418Z
UID:10000352-1709020800-1709053200@hcca.net
SUMMARY:OSHA 30- Spanish Day 4 – Training is 4 days (REGISTRATION CLOSED)
DESCRIPTION:
URL:https://hcca.net/event/osha-30-spanish-day-4-training-is-4-days-registration-closed-2/
LOCATION:HCCA\, 9251 Industrial Ct\, Suite 201\, Manassas\, VA\, 20109\, United States
CATEGORIES:VA Construction Safety Training Calendar
END:VEVENT
BEGIN:VEVENT
DTSTART;TZID=UTC:20240228T080000
DTEND;TZID=UTC:20240228T170000
DTSTAMP:20260422T065744
CREATED:20240125T212858Z
LAST-MODIFIED:20240125T212941Z
UID:10000284-1709107200-1709139600@hcca.net
SUMMARY:OSHA 30 Spanish Make-up Day (Registration Closed)
DESCRIPTION:
URL:https://hcca.net/event/osha-30-spanish-make-up-day-registration-closed/
LOCATION:HCCA\, 9251 Industrial Ct\, Suite 201\, Manassas\, VA\, 20109\, United States
CATEGORIES:VA Construction Safety Training Calendar
END:VEVENT
BEGIN:VEVENT
DTSTART;TZID=UTC:20240229T080000
DTEND;TZID=UTC:20240301T170000
DTSTAMP:20260422T065744
CREATED:20231128T233128Z
LAST-MODIFIED:20240129T212603Z
UID:10000367-1709193600-1709312400@hcca.net
SUMMARY:VDOT Work Zone Intermediate Traffic Control Training (Registration Closed CLASS IS FULL)
DESCRIPTION:
URL:https://hcca.net/event/vdot-work-zone-intermediate-in-person-2/
LOCATION:HCCA\, 9251 Industrial Ct\, Suite 201\, Manassas\, VA\, 20109\, United States
CATEGORIES:VA Construction Safety Training Calendar
END:VEVENT
END:VCALENDAR