BEGIN:VCALENDAR
VERSION:2.0
PRODID:-//HCCA - ECPv6.15.17.1//NONSGML v1.0//EN
CALSCALE:GREGORIAN
METHOD:PUBLISH
X-ORIGINAL-URL:https://hcca.net
X-WR-CALDESC:Events for HCCA
REFRESH-INTERVAL;VALUE=DURATION:PT1H
X-Robots-Tag:noindex
X-PUBLISHED-TTL:PT1H
BEGIN:VTIMEZONE
TZID:UTC
BEGIN:STANDARD
TZOFFSETFROM:+0000
TZOFFSETTO:+0000
TZNAME:UTC
DTSTART:20210101T000000
END:STANDARD
END:VTIMEZONE
BEGIN:VEVENT
DTSTART;TZID=UTC:20221101T080000
DTEND;TZID=UTC:20221101T170000
DTSTAMP:20260423T003042
CREATED:20221021T175756Z
LAST-MODIFIED:20221021T180154Z
UID:10000048-1667289600-1667322000@hcca.net
SUMMARY:CONFINED SPACE (IN PERSON)
DESCRIPTION:
URL:https://hcca.net/event/confined-space-3/
LOCATION:HCCA\, 9251 Industrial Ct\, Suite 201\, Manassas\, VA\, 20109\, United States
CATEGORIES:VA Construction Safety Training Calendar
END:VEVENT
BEGIN:VEVENT
DTSTART;TZID=UTC:20221104T080000
DTEND;TZID=UTC:20221104T170000
DTSTAMP:20260423T003042
CREATED:20221021T180040Z
LAST-MODIFIED:20221021T180110Z
UID:10000050-1667548800-1667581200@hcca.net
SUMMARY:WORK ZONE BASIC - ENGLISH
DESCRIPTION:
URL:https://hcca.net/event/work-zone-basic-english/
LOCATION:HCCA\, 9251 Industrial Ct\, Suite 201\, Manassas\, VA\, 20109\, United States
CATEGORIES:VA Construction Safety Training Calendar
END:VEVENT
BEGIN:VEVENT
DTSTART;TZID=UTC:20221110T080000
DTEND;TZID=UTC:20221111T170000
DTSTAMP:20260423T003042
CREATED:20220401T151311Z
LAST-MODIFIED:20220518T022451Z
UID:10000125-1668067200-1668186000@hcca.net
SUMMARY:VDOT WORK ZONE INTERMEDIATE (IN PERSON CLASS)
DESCRIPTION:Register
URL:https://hcca.net/event/vdot-work-zone-intermediate-in-person-class-9/
LOCATION:VA
CATEGORIES:VA Construction Safety Training Calendar
END:VEVENT
BEGIN:VEVENT
DTSTART;TZID=UTC:20221114T080000
DTEND;TZID=UTC:20221114T170000
DTSTAMP:20260423T003042
CREATED:20220401T151429Z
LAST-MODIFIED:20220824T220325Z
UID:10000126-1668412800-1668445200@hcca.net
SUMMARY:VDOT WORK ZONE BASIC (IN PERSON CLASS)
DESCRIPTION:Register
URL:https://hcca.net/event/vdot-work-zone-basic-virtual-online-class-7/
LOCATION:VA
CATEGORIES:VA Construction Safety Training Calendar
END:VEVENT
BEGIN:VEVENT
DTSTART;TZID=UTC:20221115T080000
DTEND;TZID=UTC:20221116T163000
DTSTAMP:20260423T003042
CREATED:20221101T221036Z
LAST-MODIFIED:20221101T221036Z
UID:10000052-1668499200-1668616200@hcca.net
SUMMARY:VDOT WORK ZONE ADVANCED
DESCRIPTION:
URL:https://hcca.net/event/vdot-work-zone-advanced/
LOCATION:HCCA\, 9251 Industrial Ct\, Suite 201\, Manassas\, VA\, 20109\, United States
CATEGORIES:VA Construction Safety Training Calendar
ORGANIZER;CN="Ashley Hutson":MAILTO:ashley@hcca.net
END:VEVENT
BEGIN:VEVENT
DTSTART;TZID=UTC:20221117T080000
DTEND;TZID=UTC:20221118T170000
DTSTAMP:20260423T003042
CREATED:20220401T152217Z
LAST-MODIFIED:20220518T022324Z
UID:10000129-1668672000-1668790800@hcca.net
SUMMARY:VDOT WORK ZONE INTERMEDIATE (VIRTUAL/ONLINE CLASS)
DESCRIPTION:Register
URL:https://hcca.net/event/vdot-work-zone-intermediate-virtual-online-class-9/
LOCATION:VA
CATEGORIES:VA Construction Safety Training Calendar
END:VEVENT
BEGIN:VEVENT
DTSTART;TZID=UTC:20221121T080000
DTEND;TZID=UTC:20221121T170000
DTSTAMP:20260423T003042
CREATED:20220401T152333Z
LAST-MODIFIED:20220518T022302Z
UID:10000131-1669017600-1669050000@hcca.net
SUMMARY:VDOT WORK ZONE BASIC (SPANISH) (IN PERSON CLASS)
DESCRIPTION:Register
URL:https://hcca.net/event/vdot-work-zone-basic-spanish-in-person-class-9/
LOCATION:VA
CATEGORIES:VA Construction Safety Training Calendar
END:VEVENT
END:VCALENDAR