BEGIN:VCALENDAR
VERSION:2.0
PRODID:-//HCCA - ECPv6.15.17.1//NONSGML v1.0//EN
CALSCALE:GREGORIAN
METHOD:PUBLISH
X-ORIGINAL-URL:https://hcca.net
X-WR-CALDESC:Events for HCCA
REFRESH-INTERVAL;VALUE=DURATION:PT1H
X-Robots-Tag:noindex
X-PUBLISHED-TTL:PT1H
BEGIN:VTIMEZONE
TZID:UTC
BEGIN:STANDARD
TZOFFSETFROM:+0000
TZOFFSETTO:+0000
TZNAME:UTC
DTSTART:20210101T000000
END:STANDARD
END:VTIMEZONE
BEGIN:VEVENT
DTSTART;TZID=UTC:20220705T080000
DTEND;TZID=UTC:20220705T130000
DTSTAMP:20260423T045428
CREATED:20220401T144126Z
LAST-MODIFIED:20220518T024742Z
UID:10000097-1657008000-1657026000@hcca.net
SUMMARY:FIRST AID/CPR/AED (IN PERSON CLASS)
DESCRIPTION:Register
URL:https://hcca.net/event/first-aid-cpr-aed-in-person-class-5/
LOCATION:VA
CATEGORIES:VA Construction Safety Training Calendar
END:VEVENT
BEGIN:VEVENT
DTSTART;TZID=UTC:20220706T080000
DTEND;TZID=UTC:20220706T150000
DTSTAMP:20260423T045428
CREATED:20220401T144213Z
LAST-MODIFIED:20220518T024727Z
UID:10000098-1657094400-1657119600@hcca.net
SUMMARY:VDOT Erosion & Sediment Control Contractors Certification (IN PERSON CLASS)
DESCRIPTION:Register
URL:https://hcca.net/event/vdot-erosion-sediment-control-contractors-certification-in-person-class-5/
LOCATION:VA
CATEGORIES:VA Construction Safety Training Calendar
END:VEVENT
BEGIN:VEVENT
DTSTART;TZID=UTC:20220707T080000
DTEND;TZID=UTC:20220708T170000
DTSTAMP:20260423T045428
CREATED:20220401T144304Z
LAST-MODIFIED:20220518T024715Z
UID:10000099-1657180800-1657299600@hcca.net
SUMMARY:VDOT WORK ZONE INTERMEDIATE (IN PERSON CLASS)
DESCRIPTION:Register
URL:https://hcca.net/event/vdot-work-zone-intermediate-in-person-class-5/
LOCATION:VA
CATEGORIES:VA Construction Safety Training Calendar
END:VEVENT
BEGIN:VEVENT
DTSTART;TZID=UTC:20220714T080000
DTEND;TZID=UTC:20220715T170000
DTSTAMP:20260423T045428
CREATED:20220401T144423Z
LAST-MODIFIED:20220824T213823Z
UID:10000011-1657785600-1657904400@hcca.net
SUMMARY:OSHA 10 (IN PERSON CLASS)
DESCRIPTION:Register
URL:https://hcca.net/event/osha-10-in-person-class-4/
LOCATION:VA
CATEGORIES:VA Construction Safety Training Calendar
END:VEVENT
BEGIN:VEVENT
DTSTART;TZID=UTC:20220718T080000
DTEND;TZID=UTC:20220718T170000
DTSTAMP:20260423T045428
CREATED:20220401T144453Z
LAST-MODIFIED:20220518T024627Z
UID:10000012-1658131200-1658163600@hcca.net
SUMMARY:VDOT WORK ZONE BASIC (SPANISH) (IN PERSON CLASS)
DESCRIPTION:Register
URL:https://hcca.net/event/vdot-work-zone-basic-spanish-in-person-class-5/
LOCATION:VA
CATEGORIES:VA Construction Safety Training Calendar
END:VEVENT
BEGIN:VEVENT
DTSTART;TZID=UTC:20220720T080000
DTEND;TZID=UTC:20220720T150000
DTSTAMP:20260423T045428
CREATED:20220401T144542Z
LAST-MODIFIED:20220518T024611Z
UID:10000013-1658304000-1658329200@hcca.net
SUMMARY:VDOT Erosion & Sediment Control Contractors Certification (VIRTUAL/ONLINE CLASS)
DESCRIPTION:Register
URL:https://hcca.net/event/vdot-erosion-sediment-control-contractors-certification-virtual-online-class-5/
LOCATION:VA
CATEGORIES:VA Construction Safety Training Calendar
END:VEVENT
BEGIN:VEVENT
DTSTART;TZID=UTC:20220721T080000
DTEND;TZID=UTC:20220722T170000
DTSTAMP:20260423T045428
CREATED:20220401T144618Z
LAST-MODIFIED:20220518T024557Z
UID:10000014-1658390400-1658509200@hcca.net
SUMMARY:VDOT WORK ZONE INTERMEDIATE (VIRTUAL/ONLINE CLASS)
DESCRIPTION:Register
URL:https://hcca.net/event/vdot-work-zone-intermediate-virtual-online-class-6/
LOCATION:VA
CATEGORIES:VA Construction Safety Training Calendar
END:VEVENT
BEGIN:VEVENT
DTSTART;TZID=UTC:20220729T080000
DTEND;TZID=UTC:20220729T170000
DTSTAMP:20260423T045428
CREATED:20220401T144701Z
LAST-MODIFIED:20220518T024543Z
UID:10000015-1659081600-1659114000@hcca.net
SUMMARY:OSHA 30
DESCRIPTION:Register
URL:https://hcca.net/event/osha-30/
LOCATION:VA
CATEGORIES:VA Construction Safety Training Calendar
END:VEVENT
END:VCALENDAR