BEGIN:VCALENDAR
VERSION:2.0
PRODID:-//HCCA - ECPv6.15.17.1//NONSGML v1.0//EN
CALSCALE:GREGORIAN
METHOD:PUBLISH
X-WR-CALNAME:HCCA
X-ORIGINAL-URL:https://hcca.net
X-WR-CALDESC:Events for HCCA
REFRESH-INTERVAL;VALUE=DURATION:PT1H
X-Robots-Tag:noindex
X-PUBLISHED-TTL:PT1H
BEGIN:VTIMEZONE
TZID:UTC
BEGIN:STANDARD
TZOFFSETFROM:+0000
TZOFFSETTO:+0000
TZNAME:UTC
DTSTART:20250101T000000
END:STANDARD
END:VTIMEZONE
BEGIN:VEVENT
DTSTART;TZID=UTC:20260421T080000
DTEND;TZID=UTC:20260421T130000
DTSTAMP:20260421T052854
CREATED:20251105T225420Z
LAST-MODIFIED:20260401T162115Z
UID:10000621-1776758400-1776776400@hcca.net
SUMMARY:SOLD OUT Clay Shoot Tournament
DESCRIPTION:Registration includes one raffle ticket per shooter\, breakfast\, BBQ Lunch\, and ammunition.   \nSchedule:8:00AM Breakfast & Check-In8:50AM Safety Meeting9:00AM Begin Shoot11:30AM Lunch & Awards1:00PM Event Ends \nPlease note: \n\nNEW THIS YEAR: Teams of 6!\nBring your own gun or you will be provided one.\nPersonal shotguns shall meet range requirements.\nAmmunition will be provided.\nEach Shooter will take 50 shots.\nAwards: 1st\, 2nd & 3rd team trophies & individual High Gun.\n\nTeam scores based on top 4 shooters\n\n\nAll Shooters MUST wear eye protection & ear protection.\nRegistration Type *Team of 6 & Station Sponsorship: $1500Half Team of 3 & Station Sponsorship: $800Individual Shooter: $250Individuals and Teams of 3 will be grouped with peers.SponsorshipSOLD OUT Lunch Sponsor: Core & MainAwards Sponsorship : $400SOLD OUT Raffle Prize Sponsor: Superior Paving Corp.SOLD OUT Breakfast Sponsor: Atlantic Const. UtilitiesSOLD OUT Shooting Station Sponsorship : $200Company *Email Address *Attendee(s):Total CostInvoice Me *Yes\, I would like to be invoiced for the full amount due.No\, I would like to pay now.SUBMIT REGISTRATION
URL:https://hcca.net/event/clay-shoot-tournament-2/
LOCATION:Bull Run Shooting Center\, 7700 Bull Run Dr\, Centreville\, VA\, 20121\, United States
CATEGORIES:VA Construction Events Calendar
ORGANIZER;CN="Ashley Hutson":MAILTO:ashley@hcca.net
END:VEVENT
BEGIN:VEVENT
DTSTART;TZID=UTC:20260421T080000
DTEND;TZID=UTC:20260421T170000
DTSTAMP:20260421T052854
CREATED:20260312T174614Z
LAST-MODIFIED:20260312T174848Z
UID:10000754-1776758400-1776790800@hcca.net
SUMMARY:OSHA 30 in SPANISH Day 4 (In Person)
DESCRIPTION:
URL:https://hcca.net/event/osha-30-day-4-in-person-3/
LOCATION:HCCA\, 9251 Industrial Ct\, Suite 201\, Manassas\, VA\, 20109\, United States
CATEGORIES:VA Construction Safety Training Calendar
END:VEVENT
END:VCALENDAR